BEGIN:VCALENDAR
VERSION:2.0
PRODID:-//Destination Toledo - ECPv6.15.17.1//NONSGML v1.0//EN
CALSCALE:GREGORIAN
METHOD:PUBLISH
X-WR-CALNAME:Destination Toledo
X-ORIGINAL-URL:https://develop-review-hart-desti-07sbl4.dev02.devhart.com
X-WR-CALDESC:Events for Destination Toledo
REFRESH-INTERVAL;VALUE=DURATION:PT1H
X-Robots-Tag:noindex
X-PUBLISHED-TTL:PT1H
BEGIN:VTIMEZONE
TZID:America/Detroit
BEGIN:DAYLIGHT
TZOFFSETFROM:-0500
TZOFFSETTO:-0400
TZNAME:EDT
DTSTART:20240310T070000
END:DAYLIGHT
BEGIN:STANDARD
TZOFFSETFROM:-0400
TZOFFSETTO:-0500
TZNAME:EST
DTSTART:20241103T060000
END:STANDARD
BEGIN:DAYLIGHT
TZOFFSETFROM:-0500
TZOFFSETTO:-0400
TZNAME:EDT
DTSTART:20250309T070000
END:DAYLIGHT
BEGIN:STANDARD
TZOFFSETFROM:-0400
TZOFFSETTO:-0500
TZNAME:EST
DTSTART:20251102T060000
END:STANDARD
BEGIN:DAYLIGHT
TZOFFSETFROM:-0500
TZOFFSETTO:-0400
TZNAME:EDT
DTSTART:20260308T070000
END:DAYLIGHT
BEGIN:STANDARD
TZOFFSETFROM:-0400
TZOFFSETTO:-0500
TZNAME:EST
DTSTART:20261101T060000
END:STANDARD
END:VTIMEZONE
BEGIN:VEVENT
DTSTART;TZID=America/Detroit:20250425T100000
DTEND;TZID=America/Detroit:20250425T170000
DTSTAMP:20260425T182100
CREATED:20250501T123359Z
LAST-MODIFIED:20250501T123359Z
UID:51551-1745575200-1745600400@develop-review-hart-desti-07sbl4.dev02.devhart.com
SUMMARY:HOCKEY: Faster Than Ever
DESCRIPTION:T-town\, are you ready? It’s time to test your skills and soak up the science of ice hockey because the new exhibition HOCKEY: Faster Than Ever is skating into Imagination Station. \nThis immersive exhibition puts you right in the action. It takes you on an exciting journey through the evolution of ice hockey\, highlighting the remarkable technical advancements and scientific breakthroughs that have shaped the sport over time. This incredible game will inspire you with ingenuity and creativity as you explore the history\, culture\, and fusion of science and sport. \nJoin the Imagination Station for when HOCKEY: Faster Than Ever opens\, and learn how science is behind every thrilling moment on the ice! \nHOCKEY: Faster Than Ever is free for members\, $5 + Admission for non-members
URL:https://develop-review-hart-desti-07sbl4.dev02.devhart.com/event/hockey-faster-than-ever
LOCATION:Imagination Station\, 1 Discovery Way\, Toledo\, OH\, 43604
CATEGORIES:educational,family friendly,sports
ATTACH;FMTTYPE=image/png:https://minio.devhart.com/destination-toledo-website/wp-content/uploads/2025/04/17111301/Hockeyimaginationstation4x3-event-image.png
END:VEVENT
BEGIN:VEVENT
DTSTART;TZID=America/Detroit:20250531T110000
DTEND;TZID=America/Detroit:20250531T160000
DTSTAMP:20260425T182100
CREATED:20250318T123432Z
LAST-MODIFIED:20250520T174639Z
UID:39488-1748689200-1748707200@develop-review-hart-desti-07sbl4.dev02.devhart.com
SUMMARY:Toledo Mud Hens and Walleye Takeover at Main Library
DESCRIPTION:The Toledo Mudhens  and Walleye  are taking over Main Library! \n\nFeaturing baseball and hockey themed games\, memorabilia\, activities and more – it’s the ultimate event for sports loving families!
URL:https://develop-review-hart-desti-07sbl4.dev02.devhart.com/event/toledo-mud-hens-and-walleye-takeover-at-main-library
LOCATION:Main Library\, 325 N Michigan St\, Toledo\, OH\, 43604\, United States
CATEGORIES:educational,family friendly,sports
ATTACH;FMTTYPE=image/jpeg:https://minio.devhart.com/destination-toledo-website/wp-content/uploads/2025/03/18083359/Mud-Hens-and-Walleye-Takeover.jpg
END:VEVENT
BEGIN:VEVENT
DTSTART;TZID=America/Detroit:20250531T130000
DTEND;TZID=America/Detroit:20250531T160000
DTSTAMP:20260425T182100
CREATED:20250502T195821Z
LAST-MODIFIED:20250502T195821Z
UID:51941-1748696400-1748707200@develop-review-hart-desti-07sbl4.dev02.devhart.com
SUMMARY:Metroparks Takeover at Toledo Pickle Co.
DESCRIPTION:Metroparks Toledo invites you to relish in the newest Glass City Riverwalk development\, Toledo Pickle Co.\, for a family-friendly fun day of pickleball and outdoor play. You’ll be dill-lighted to dink around and try one of the many family-friendly activities that Metroparks and Toledo Pickle have to offer. This open house event will feature:\nPlay PickleballPing-Pong\, Cornhole\, Shuffleboard\, Arcade GamesRock climbingTree climbingKids zoneAnd more!\nIf you find yourself in a pickle and are feeling hungry\, visit the Stay Out of the Kitchen Grill for delicious lunch offerings. Let’s make a dill to have a great time while these two great partners serve up some fun that is accessible to everyone—regardless of ability. This is an inclusive event with staff trained to provide accommodations.\nMetroparks Takeover event at Toledo Pickle Co. is presented with support by Metroparks Members.
URL:https://develop-review-hart-desti-07sbl4.dev02.devhart.com/event/metroparks-takeover-at-toledo-pickle-co
LOCATION:Toledo Pickle Co.\, 1030 Water Street 43604\, Toledo\, OH\, 43604
CATEGORIES:family friendly,sports
ATTACH;FMTTYPE=image/png:https://minio.devhart.com/destination-toledo-website/wp-content/uploads/2025/05/17111229/pickle-takeover-4x3-event-image.png
END:VEVENT
BEGIN:VEVENT
DTSTART;TZID=America/Detroit:20250531T163000
DTEND;TZID=America/Detroit:20250531T183000
DTSTAMP:20260425T182100
CREATED:20250502T185241Z
LAST-MODIFIED:20250502T185241Z
UID:51923-1748709000-1748716200@develop-review-hart-desti-07sbl4.dev02.devhart.com
SUMMARY:Toledo Villa FC vs. FC Buffalo
DESCRIPTION:The Toledo Villa FC continue their soccer season at their home field\, Paul Hotmer Field at the University of Toledo! They continue their home slate with a match-up with FC Buffalo. \nFounded in 2017\, Toledo Villa FC is a pre-professional soccer team located in Toledo\, OH. The team plays out of USL League Two’s Great Lakes Division. The club is committed to its vision to place the best product on the pitch\, develop players that are committed to upholding the traditions of the game\, inspire young athletes for the future of the game and provide a model business that positively impacts the community. \n\n\n\n\n\n\n\n\n\n\nUSL League Two is the top pre-professional soccer league in North America\, offering a summer platform for aspiring professionals across the United States and Canada. Part of United Soccer Leagues\, LLC – which also operates the USL Championship\, USL League One\, USL Academy and the Super Y League – League Two is the defined and proven pathway for players to progress to the ranks of professional soccer\, while its clubs become fixtures in the communities where they operate.
URL:https://develop-review-hart-desti-07sbl4.dev02.devhart.com/event/toledo-villa-fc-vs-fc-buffalo
LOCATION:University of Toledo\, 2801 W Bancroft St\, Toledo\, Ohio\, 43606\, United States
CATEGORIES:family friendly,sports
ATTACH;FMTTYPE=image/jpeg:https://minio.devhart.com/destination-toledo-website/wp-content/uploads/2025/05/17111238/Toledo-Villa-FC-Events-Graphic.jpg
END:VEVENT
BEGIN:VEVENT
DTSTART;TZID=America/Detroit:20250531T190000
DTEND;TZID=America/Detroit:20250531T210000
DTSTAMP:20260425T182100
CREATED:20250502T183850Z
LAST-MODIFIED:20250502T184302Z
UID:51918-1748718000-1748725200@develop-review-hart-desti-07sbl4.dev02.devhart.com
SUMMARY:Toledo Villa Women's FC vs. AFC Ann Arbor
DESCRIPTION:The Toledo Villa Women’s FC continue their inaugural soccer season at their home field\, Paul Hotmer Field at the University of Toledo! Their home slate continues with a match-up with AFC Ann Arbor. \n\n\n\n\n\n\n\n\n\n\n 
URL:https://develop-review-hart-desti-07sbl4.dev02.devhart.com/event/toledo-villa-womens-fc-vs-afc-ann-arbor
LOCATION:University of Toledo\, 2801 W Bancroft St\, Toledo\, Ohio\, 43606\, United States
CATEGORIES:family friendly,sports
ATTACH;FMTTYPE=image/jpeg:https://minio.devhart.com/destination-toledo-website/wp-content/uploads/2025/05/17111238/Toledo-Villa-FC-Events-Graphic.jpg
END:VEVENT
BEGIN:VEVENT
DTSTART;TZID=America/Detroit:20250531T190500
DTEND;TZID=America/Detroit:20250531T220500
DTSTAMP:20260425T182100
CREATED:20250311T122115Z
LAST-MODIFIED:20250311T122115Z
UID:39289-1748718300-1748729100@develop-review-hart-desti-07sbl4.dev02.devhart.com
SUMMARY:Toledo Mud Hens vs. Louisville Bats | Boots & Baseball | Game 5 of 6
DESCRIPTION:The Toledo Mud Hens welcome the Cincinatti Reds’ AAA affiliate\, the Louisville Bats\, to town for a six-game series. Dust off those cowboy boots\, Boots & Baseball is back again this season\, with special giveaways and activations. Saturday May 31st’s game features a Mud Hens bolo tie giveaway to the first 1\,200 fans\, postgame fireworks\, and a postgame concert at Hensville ft. Simba Loco & Whiskey Loco! (Mud Hens ticket includes access to postgame concert) \n  \n  \n2025 Season Schedule\nWeekends are for Mud Hens baseball. Thirty-nine of the 75 home games this season fall on weekend dates (13 Fridays\, 13 Saturday and 13 Sundays). The Mud Hens are also home for several holidays in 2025\, including Mother’s Day (May 11)\, Father’s Day (June 15)\, Memorial Day Weekend (May 23-25)\, and the week of Fourth of July (July 1-3). \nThe team plays at home against rival Columbus (Cleveland Guardians affiliate) 12 times (Opening Weekend\, July 1-3 and August 12-17)\, against Iowa (Chicago Cubs affiliate) 12 times (April 8-13 and May 6-11)\, and against Louisville (Cincinnati Reds affiliate) 12 times (May 27 – June 1 and September 9-14). The last home game of the regular 2025 season is slated for Sunday\, September 14. \nFor a full list of promotions\, bag policies\, and other FAQ visit Know Before You Go | Mud Hens
URL:https://develop-review-hart-desti-07sbl4.dev02.devhart.com/event/toledo-mud-hens-vs-louisville-bats-boots-baseball-game-5-of-6-may
LOCATION:Fifth Third Field\, 406 Washington St\, Toledo\, OH\, 43604
ATTACH;FMTTYPE=image/jpeg:https://minio.devhart.com/destination-toledo-website/wp-content/uploads/2025/03/06143812/Mud-Hens-Events-Graphic.jpg
END:VEVENT
END:VCALENDAR