BEGIN:VCALENDAR
VERSION:2.0
PRODID:-//Destination Toledo - ECPv6.15.17.1//NONSGML v1.0//EN
CALSCALE:GREGORIAN
METHOD:PUBLISH
X-WR-CALNAME:Destination Toledo
X-ORIGINAL-URL:https://develop-review-hart-desti-07sbl4.dev02.devhart.com
X-WR-CALDESC:Events for Destination Toledo
REFRESH-INTERVAL;VALUE=DURATION:PT1H
X-Robots-Tag:noindex
X-PUBLISHED-TTL:PT1H
BEGIN:VTIMEZONE
TZID:America/Detroit
BEGIN:DAYLIGHT
TZOFFSETFROM:-0500
TZOFFSETTO:-0400
TZNAME:EDT
DTSTART:20240310T070000
END:DAYLIGHT
BEGIN:STANDARD
TZOFFSETFROM:-0400
TZOFFSETTO:-0500
TZNAME:EST
DTSTART:20241103T060000
END:STANDARD
BEGIN:DAYLIGHT
TZOFFSETFROM:-0500
TZOFFSETTO:-0400
TZNAME:EDT
DTSTART:20250309T070000
END:DAYLIGHT
BEGIN:STANDARD
TZOFFSETFROM:-0400
TZOFFSETTO:-0500
TZNAME:EST
DTSTART:20251102T060000
END:STANDARD
BEGIN:DAYLIGHT
TZOFFSETFROM:-0500
TZOFFSETTO:-0400
TZNAME:EDT
DTSTART:20260308T070000
END:DAYLIGHT
BEGIN:STANDARD
TZOFFSETFROM:-0400
TZOFFSETTO:-0500
TZNAME:EST
DTSTART:20261101T060000
END:STANDARD
END:VTIMEZONE
BEGIN:VEVENT
DTSTART;TZID=America/Detroit:20250906T190000
DTEND;TZID=America/Detroit:20250906T220000
DTSTAMP:20260424T124703
CREATED:20250813T145926Z
LAST-MODIFIED:20250813T145926Z
UID:54053-1757185200-1757196000@develop-review-hart-desti-07sbl4.dev02.devhart.com
SUMMARY:Toledo Rockets Football vs. Western Kentucky
DESCRIPTION:Get ready for take-off! Toledo Rockets kick-off their 2025 home schedule when they host the Western Kentucky Hilltoppers at the University of Toledo Glass Bowl on September 6\, 2025 at 7 p.m. \nBuilding off of an impressive 2024 campaign that saw the Rockets defeat two power conference schools\, Toledo brings back 52 letterwinners\, including four All-Mid-American Conference selections. Add another talented recruiting class and a group of experienced transfers and Jason Candle’s Rockets are poised for another big season with MAC Championship aspirations. \nToledo Rockets football schedule:\n \nAug 30 (Sat) @ Kentucky 12:45 p.m. \nSep 6 (Sat) vs. Western Kentucky 7:00 p.m.\n“Biggest Party in Toledo” \nSep 13 (Sat) vs. Morgan State 3:30 p.m. \nSep 20 (Sat) @ Western Michigan TBA \nSep 27 (Sat) vs. Akron 3:30 PM\nHomecoming \nOct 11 (Sat) @ Bowling Green TBA \nOct 18 (Sat) vs. Kent State TBA \nOct 25 (Sat) @ Washington State 3:30 p.m. \nNov 5 (Wed) vs. Northern Illinois TBA \nNov 12 (Wed) @ Miami 7:00 p.m. \nNov 22 (Sat) vs. Ball State TBA \nNov 29 (Sat) vs. Central Michigan TBA \nCatch every touchdown\, game highlight\, and insider update at the official Toledo Rockets Football website. Stay in the know with schedules\, tickets\, and exclusive team content. \n\n 
URL:https://develop-review-hart-desti-07sbl4.dev02.devhart.com/event/toledo-rockets-football-vs-western-kentucky-2025
LOCATION:Glass Bowl Stadium\, 1745 Stadium Dr\, Toledo\, 43606
CATEGORIES:football,sports
ATTACH;FMTTYPE=image/png:https://minio.devhart.com/destination-toledo-website/wp-content/uploads/2025/08/17110156/ut-football-team-4x3-event-image.png
END:VEVENT
BEGIN:VEVENT
DTSTART;TZID=America/Detroit:20250909T183500
DTEND;TZID=America/Detroit:20250909T213500
DTSTAMP:20260424T124703
CREATED:20250312T001942Z
LAST-MODIFIED:20250312T002011Z
UID:39332-1757442900-1757453700@develop-review-hart-desti-07sbl4.dev02.devhart.com
SUMMARY:Toledo Mud Hens vs. Louisville Bats | Hens & Hounds | Game 1 of 6
DESCRIPTION:The Toledo Mud Hens welcome the Cincinatti Reds’ AAA affiliate\, the Louisville Bats\, to town for the final homestand of the season. Hens & Hounds is bark by popular demand! Bring your furry friend along to the game! \n  \n  \n  \n2025 Season Schedule\nWeekends are for Mud Hens baseball. Thirty-nine of the 75 home games this season fall on weekend dates (13 Fridays\, 13 Saturday and 13 Sundays). The Mud Hens are also home for several holidays in 2025\, including Mother’s Day (May 11)\, Father’s Day (June 15)\, Memorial Day Weekend (May 23-25)\, and the week of Fourth of July (July 1-3). \nThe team plays at home against rival Columbus (Cleveland Guardians affiliate) 12 times (Opening Weekend\, July 1-3 and August 12-17)\, against Iowa (Chicago Cubs affiliate) 12 times (April 8-13 and May 6-11)\, and against Louisville (Cincinnati Reds affiliate) 12 times (May 27 – June 1 and September 9-14). The last home game of the regular 2025 season is slated for Sunday\, September 14. \nFor a full list of promotions\, bag policies\, and other FAQ visit Know Before You Go | Mud Hens
URL:https://develop-review-hart-desti-07sbl4.dev02.devhart.com/event/toledo-mud-hens-vs-louisville-bats-hens-hounds-game-1-of-6-sept
LOCATION:Fifth Third Field\, 406 Washington St\, Toledo\, OH\, 43604
ATTACH;FMTTYPE=image/jpeg:https://minio.devhart.com/destination-toledo-website/wp-content/uploads/2025/03/06143812/Mud-Hens-Events-Graphic.jpg
END:VEVENT
BEGIN:VEVENT
DTSTART;TZID=America/Detroit:20250910T183500
DTEND;TZID=America/Detroit:20250910T213500
DTSTAMP:20260424T124703
CREATED:20250312T002415Z
LAST-MODIFIED:20250312T002415Z
UID:39333-1757529300-1757540100@develop-review-hart-desti-07sbl4.dev02.devhart.com
SUMMARY:Toledo Mud Hens vs. Louisville Bats | Game 2 of 6
DESCRIPTION:The Toledo Mud Hens welcome the Cincinatti Reds’ AAA affiliate\, the Louisville Bats\, to town for the final homestand of the season. \n  \n  \n2025 Season Schedule\nWeekends are for Mud Hens baseball. Thirty-nine of the 75 home games this season fall on weekend dates (13 Fridays\, 13 Saturday and 13 Sundays). The Mud Hens are also home for several holidays in 2025\, including Mother’s Day (May 11)\, Father’s Day (June 15)\, Memorial Day Weekend (May 23-25)\, and the week of Fourth of July (July 1-3). \nThe team plays at home against rival Columbus (Cleveland Guardians affiliate) 12 times (Opening Weekend\, July 1-3 and August 12-17)\, against Iowa (Chicago Cubs affiliate) 12 times (April 8-13 and May 6-11)\, and against Louisville (Cincinnati Reds affiliate) 12 times (May 27 – June 1 and September 9-14). The last home game of the regular 2025 season is slated for Sunday\, September 14. \nFor a full list of promotions\, bag policies\, and other FAQ visit Know Before You Go | Mud Hens
URL:https://develop-review-hart-desti-07sbl4.dev02.devhart.com/event/toledo-mud-hens-vs-louisville-bats-game-2-of-6-sept
LOCATION:Fifth Third Field\, 406 Washington St\, Toledo\, OH\, 43604
ATTACH;FMTTYPE=image/jpeg:https://minio.devhart.com/destination-toledo-website/wp-content/uploads/2025/03/06143812/Mud-Hens-Events-Graphic.jpg
END:VEVENT
BEGIN:VEVENT
DTSTART;TZID=America/Detroit:20250911T183500
DTEND;TZID=America/Detroit:20250911T213500
DTSTAMP:20260424T124703
CREATED:20250312T002518Z
LAST-MODIFIED:20250312T002518Z
UID:39334-1757615700-1757626500@develop-review-hart-desti-07sbl4.dev02.devhart.com
SUMMARY:Toledo Mud Hens vs. Louisville Bats | Game 3 of 6
DESCRIPTION:The Toledo Mud Hens welcome the Cincinatti Reds’ AAA affiliate\, the Louisville Bats\, to town for the final homestand of the season. \n  \n  \n2025 Season Schedule\nWeekends are for Mud Hens baseball. Thirty-nine of the 75 home games this season fall on weekend dates (13 Fridays\, 13 Saturday and 13 Sundays). The Mud Hens are also home for several holidays in 2025\, including Mother’s Day (May 11)\, Father’s Day (June 15)\, Memorial Day Weekend (May 23-25)\, and the week of Fourth of July (July 1-3). \nThe team plays at home against rival Columbus (Cleveland Guardians affiliate) 12 times (Opening Weekend\, July 1-3 and August 12-17)\, against Iowa (Chicago Cubs affiliate) 12 times (April 8-13 and May 6-11)\, and against Louisville (Cincinnati Reds affiliate) 12 times (May 27 – June 1 and September 9-14). The last home game of the regular 2025 season is slated for Sunday\, September 14. \nFor a full list of promotions\, bag policies\, and other FAQ visit Know Before You Go | Mud Hens
URL:https://develop-review-hart-desti-07sbl4.dev02.devhart.com/event/toledo-mud-hens-vs-louisville-bats-game-3-of-6-sept
LOCATION:Fifth Third Field\, 406 Washington St\, Toledo\, OH\, 43604
ATTACH;FMTTYPE=image/jpeg:https://minio.devhart.com/destination-toledo-website/wp-content/uploads/2025/03/06143812/Mud-Hens-Events-Graphic.jpg
END:VEVENT
BEGIN:VEVENT
DTSTART;TZID=America/Detroit:20250912T190500
DTEND;TZID=America/Detroit:20250912T220500
DTSTAMP:20260424T124703
CREATED:20250312T002712Z
LAST-MODIFIED:20250312T002712Z
UID:39335-1757703900-1757714700@develop-review-hart-desti-07sbl4.dev02.devhart.com
SUMMARY:Toledo Mud Hens vs. Louisville Bats | Game 4 of 6
DESCRIPTION:The Toledo Mud Hens welcome the Cincinatti Reds’ AAA affiliate\, the Louisville Bats\, to town for the final homestand of the season. \n  \n  \n2025 Season Schedule\nWeekends are for Mud Hens baseball. Thirty-nine of the 75 home games this season fall on weekend dates (13 Fridays\, 13 Saturday and 13 Sundays). The Mud Hens are also home for several holidays in 2025\, including Mother’s Day (May 11)\, Father’s Day (June 15)\, Memorial Day Weekend (May 23-25)\, and the week of Fourth of July (July 1-3). \nThe team plays at home against rival Columbus (Cleveland Guardians affiliate) 12 times (Opening Weekend\, July 1-3 and August 12-17)\, against Iowa (Chicago Cubs affiliate) 12 times (April 8-13 and May 6-11)\, and against Louisville (Cincinnati Reds affiliate) 12 times (May 27 – June 1 and September 9-14). The last home game of the regular 2025 season is slated for Sunday\, September 14. \nFor a full list of promotions\, bag policies\, and other FAQ visit Know Before You Go | Mud Hens
URL:https://develop-review-hart-desti-07sbl4.dev02.devhart.com/event/toledo-mud-hens-vs-louisville-bats-game-4-of-6-sept
LOCATION:Fifth Third Field\, 406 Washington St\, Toledo\, OH\, 43604
ATTACH;FMTTYPE=image/jpeg:https://minio.devhart.com/destination-toledo-website/wp-content/uploads/2025/03/06143812/Mud-Hens-Events-Graphic.jpg
END:VEVENT
BEGIN:VEVENT
DTSTART;TZID=America/Detroit:20250913T153000
DTEND;TZID=America/Detroit:20250913T183000
DTSTAMP:20260424T124703
CREATED:20250813T151803Z
LAST-MODIFIED:20250813T180217Z
UID:54060-1757777400-1757788200@develop-review-hart-desti-07sbl4.dev02.devhart.com
SUMMARY:Toledo Rockets Football vs. Morgan State
DESCRIPTION:Fans can expect a dynamic clash when the Toledo Rockets football team hosts the Morgan State Bears at the University of Toledo Glass Bowl on September 13\, 2025 at 3:30 p.m. \nBuilding off of an impressive 2024 campaign that saw the Rockets defeat two power conference schools\, Toledo brings back 52 letterwinners\, including four All-Mid-American Conference selections. Add another talented recruiting class and a group of experienced transfers and Jason Candle’s Rockets are poised for another big season with MAC Championship aspirations. \nToledo Rockets football schedule:\n \nAug 30 (Sat) @ Kentucky 12:45 p.m. \nSep 6 (Sat) vs. Western Kentucky 7:00 p.m.\n“Biggest Party in Toledo” \nSep 13 (Sat) vs. Morgan State 3:30 p.m. \nSep 20 (Sat) @ Western Michigan TBA \nSep 27 (Sat) vs. Akron 3:30 PM\nHomecoming \nOct 11 (Sat) @ Bowling Green TBA \nOct 18 (Sat) vs. Kent State TBA \nOct 25 (Sat) @ Washington State 3:30 p.m. \nNov 5 (Wed) vs. Northern Illinois TBA \nNov 12 (Wed) @ Miami 7:00 p.m. \nNov 22 (Sat) vs. Ball State TBA \nNov 29 (Sat) at Central Michigan TBA \nCatch every touchdown\, game highlight\, and insider update at the official Toledo Rockets Football website. Stay in the know with schedules\, tickets\, and exclusive team content. \n 
URL:https://develop-review-hart-desti-07sbl4.dev02.devhart.com/event/toledo-rockets-football-vs-morgan-state-2025
LOCATION:Glass Bowl Stadium\, 1745 Stadium Dr\, Toledo\, 43606
CATEGORIES:football,sports
ATTACH;FMTTYPE=image/png:https://minio.devhart.com/destination-toledo-website/wp-content/uploads/2025/08/17110156/ut-football-team-4x3-event-image.png
END:VEVENT
BEGIN:VEVENT
DTSTART;TZID=America/Detroit:20250913T170500
DTEND;TZID=America/Detroit:20250913T200500
DTSTAMP:20260424T124703
CREATED:20250312T003113Z
LAST-MODIFIED:20250312T003113Z
UID:39336-1757783100-1757793900@develop-review-hart-desti-07sbl4.dev02.devhart.com
SUMMARY:Toledo Mud Hens vs. Louisville Bats | Football Night | Game 5 of 6
DESCRIPTION:The Toledo Mud Hens welcome the Cincinatti Reds’ AAA affiliate\, the Louisville Bats\, to town for the final homestand of the season. Fall is in the air and the Mud Hens are celebrating the arrival of football season with special activations and surprise autograph opportunities. \n  \n  \n2025 Season Schedule\nWeekends are for Mud Hens baseball. Thirty-nine of the 75 home games this season fall on weekend dates (13 Fridays\, 13 Saturday and 13 Sundays). The Mud Hens are also home for several holidays in 2025\, including Mother’s Day (May 11)\, Father’s Day (June 15)\, Memorial Day Weekend (May 23-25)\, and the week of Fourth of July (July 1-3). \nThe team plays at home against rival Columbus (Cleveland Guardians affiliate) 12 times (Opening Weekend\, July 1-3 and August 12-17)\, against Iowa (Chicago Cubs affiliate) 12 times (April 8-13 and May 6-11)\, and against Louisville (Cincinnati Reds affiliate) 12 times (May 27 – June 1 and September 9-14). The last home game of the regular 2025 season is slated for Sunday\, September 14. \nFor a full list of promotions\, bag policies\, and other FAQ visit Know Before You Go | Mud Hens
URL:https://develop-review-hart-desti-07sbl4.dev02.devhart.com/event/toledo-mud-hens-vs-louisville-bats-football-night-game-5-of-6-sept
LOCATION:Fifth Third Field\, 406 Washington St\, Toledo\, OH\, 43604
ATTACH;FMTTYPE=image/jpeg:https://minio.devhart.com/destination-toledo-website/wp-content/uploads/2025/03/06143812/Mud-Hens-Events-Graphic.jpg
END:VEVENT
BEGIN:VEVENT
DTSTART;TZID=America/Detroit:20250913T180000
DTEND;TZID=America/Detroit:20250913T203000
DTSTAMP:20260424T124703
CREATED:20250325T124407Z
LAST-MODIFIED:20250325T124825Z
UID:39848-1757786400-1757795400@develop-review-hart-desti-07sbl4.dev02.devhart.com
SUMMARY:Glass City 200 at Toledo Speedway
DESCRIPTION:The ASA STARS National Tour Glass City 200 returns to Toledo Speedway this September in a HUGE night of racing in the 419. It’s championship night for the home racing divisions – the Salenbien Excavating Late Model Sportsman division and the Factory Stocks both close out in a big Saturday of racing!
URL:https://develop-review-hart-desti-07sbl4.dev02.devhart.com/event/glass-city-200-at-toledo-speedway
LOCATION:Toledo Speedway\, 5639 Benore Rd\, Toledo\, OH\, 43612\, United States
CATEGORIES:racing,sports
ATTACH;FMTTYPE=image/png:https://minio.devhart.com/destination-toledo-website/wp-content/uploads/2025/03/17111833/toledo-speedway-glass-city-200-4x3-event-image.png
END:VEVENT
BEGIN:VEVENT
DTSTART;TZID=America/Detroit:20250914T140500
DTEND;TZID=America/Detroit:20250914T170500
DTSTAMP:20260424T124703
CREATED:20250312T003456Z
LAST-MODIFIED:20250312T003456Z
UID:39337-1757858700-1757869500@develop-review-hart-desti-07sbl4.dev02.devhart.com
SUMMARY:Toledo Mud Hens vs. Louisville Bats | Final Home Game of the Season | Game 6 of 6
DESCRIPTION:The Toledo Mud Hens welcome the Cincinatti Reds’ AAA affiliate\, the Louisville Bats\, to town for the final homestand of the season. Sunday\, Sept. 14th’s game is the final Mud Hens home game of the season. Join the team for some pregame autographs\, and after the game kids 12 and under can run the bases. \n  \n  \n2025 Season Schedule\nWeekends are for Mud Hens baseball. Thirty-nine of the 75 home games this season fall on weekend dates (13 Fridays\, 13 Saturday and 13 Sundays). The Mud Hens are also home for several holidays in 2025\, including Mother’s Day (May 11)\, Father’s Day (June 15)\, Memorial Day Weekend (May 23-25)\, and the week of Fourth of July (July 1-3). \nThe team plays at home against rival Columbus (Cleveland Guardians affiliate) 12 times (Opening Weekend\, July 1-3 and August 12-17)\, against Iowa (Chicago Cubs affiliate) 12 times (April 8-13 and May 6-11)\, and against Louisville (Cincinnati Reds affiliate) 12 times (May 27 – June 1 and September 9-14). The last home game of the regular 2025 season is slated for Sunday\, September 14. \nFor a full list of promotions\, bag policies\, and other FAQ visit Know Before You Go | Mud Hens
URL:https://develop-review-hart-desti-07sbl4.dev02.devhart.com/event/toledo-mud-hens-vs-louisville-bats-final-home-game-of-the-season-game-6-of-6-sept
LOCATION:Fifth Third Field\, 406 Washington St\, Toledo\, OH\, 43604
ATTACH;FMTTYPE=image/jpeg:https://minio.devhart.com/destination-toledo-website/wp-content/uploads/2025/03/06143812/Mud-Hens-Events-Graphic.jpg
END:VEVENT
BEGIN:VEVENT
DTSTART;TZID=America/Detroit:20250919T160000
DTEND;TZID=America/Detroit:20250919T190000
DTSTAMP:20260424T124703
CREATED:20250812T130155Z
LAST-MODIFIED:20250911T195036Z
UID:54049-1758297600-1758308400@develop-review-hart-desti-07sbl4.dev02.devhart.com
SUMMARY:Strongman Champions League - United States Debut
DESCRIPTION:The world’s strongest league is making its debut in the United States as the Strongman Champions League (SCL) launches the first-ever league event for SCL USA in Toledo\, Ohio on Friday\, September 19\, 2025. Day one in Toledo will feature preliminary events and competition held outdoors near Maumee Bay Brewing Co. and the Ohio Plate Glass building\, the future home of Foundation Steel and Mosser Construction’s Toledo operations. Over a dozen top SCL athletes will take on a medley of unbelievable challenges\, including steel beam flips\, sledgehammer demolition and more. \nThe international competition continues the following day in nearby Sandusky. Don’t miss jaw-dropping displays of strength and unbelievable action as the strongest athletes descend on Toledo and Sandusky for an action-packed weekend in Northwest Ohio. For more info on the day two activities in Sandusky visit Feel the Power: Strongman Champions League Debuts in Downtown Sandusky \nThe Strongman Champions League is an elite global competition series featuring 16 thrilling stages hosted in locations across the world. The league brings together the strongest athletes\, renowned referees\, and expert organizers to create one of the most compelling spectacles in strength sports. Each competition is set against a dynamic backdrop that reflects the cultural and traditional elements of its host country. Strongman Champions League has showcased international strength and high-level competition for seventeen seasons in its namesake docuseries\, now streaming on Amazon Prime\, Peacock\, and other platforms.
URL:https://develop-review-hart-desti-07sbl4.dev02.devhart.com/event/strongman-champions-league-united-states-debut
LOCATION:Maumee Bay Brewing Co.\, 27 Broadway St\, Toledo\, OH\, 43604\, United States
CATEGORIES:exercise,sports
ATTACH;FMTTYPE=image/png:https://minio.devhart.com/destination-toledo-website/wp-content/uploads/2025/08/17110157/strongman-4x3-event-image.png
END:VEVENT
BEGIN:VEVENT
DTSTART;TZID=America/Detroit:20250919T193000
DTEND;TZID=America/Detroit:20250919T213000
DTSTAMP:20260424T124703
CREATED:20250808T124617Z
LAST-MODIFIED:20250808T124617Z
UID:53968-1758310200-1758317400@develop-review-hart-desti-07sbl4.dev02.devhart.com
SUMMARY:WWE Smackdown
DESCRIPTION:It’s Friday night smackdown at the Huntington Center on Friday\, September 19 at 7:30pm. \nSee your favorite wwe superstars: \nThe undisputed wwe champion\nThe American Nightmare\nCody Rhodes \nPlus: \nWWE Women’s Champion Tiffany Stratton\nUnited States Champion Solo Sikoa\nWomen’s Tag Team Champions\nCharlotte Flair and Alexa Bliss\nRandy Orton\nLa Knight\nand many more! \n**card and wwe superstars subject to change at any time.
URL:https://develop-review-hart-desti-07sbl4.dev02.devhart.com/event/wwe-smackdown
LOCATION:Huntington Center\, 500 Jefferson Ave\, Toledo\, OH\, 43604\, United States
CATEGORIES:entertainment,sports
ATTACH;FMTTYPE=image/png:https://minio.devhart.com/destination-toledo-website/wp-content/uploads/2025/08/17110221/WWE-Smackdown-huntington-center-4x3-event-image.png
END:VEVENT
BEGIN:VEVENT
DTSTART;TZID=America/Detroit:20250920T080000
DTEND;TZID=America/Detroit:20250920T160000
DTSTAMP:20260424T124703
CREATED:20250627T163832Z
LAST-MODIFIED:20250627T163832Z
UID:52806-1758355200-1758384000@develop-review-hart-desti-07sbl4.dev02.devhart.com
SUMMARY:Glass City Regatta
DESCRIPTION:Have you ever wondered what a rowing shell looked like in person? September 20th from 8 am to 4 pm you can watch High School\, College and Adult rowers racing on the Mighty Maumee for free. \nThe regatta central location is in International Park by the Docks Restaurants. Good race viewing can be found on the downtown side at Prominade Park. Racing will include Single Shells\, Double Shells\, Four person shells and Eight person shells. The race course will be 4019 Meters in length and will cover from the Grain Elevators to the I-280 bridge.
URL:https://develop-review-hart-desti-07sbl4.dev02.devhart.com/event/glass-city-regatta
LOCATION:International Park\, 8 Main Street\, Toledo\, 41605
CATEGORIES:outdoors,sports
ATTACH;FMTTYPE=image/png:https://minio.devhart.com/destination-toledo-website/wp-content/uploads/2025/06/17110826/Glass-City-Regatta-2024-Official-Logo-2.png
ORGANIZER;CN="Toledo Rowing Foundation":MAILTO:ToledoRowing@gmail.com
END:VEVENT
BEGIN:VEVENT
DTSTART;TZID=America/Detroit:20250921T070000
DTEND;TZID=America/Detroit:20250921T110000
DTSTAMP:20260424T124703
CREATED:20250708T201254Z
LAST-MODIFIED:20250708T201446Z
UID:53370-1758438000-1758452400@develop-review-hart-desti-07sbl4.dev02.devhart.com
SUMMARY:Garmin Marathon Series
DESCRIPTION:Garmin\, global leader in fitness tech and pioneer of the world’s first running smartwatch\, recently announced the Garmin Marathon Series and its inaugural event set for the fall in Toledo. \nGarmin Marathon Toledo features fast\, mostly flat courses for all race lengths — full\, half\, 10K and 5K. The full marathon course is ideal for runners completing their first marathon or chasing a PR. Starting and finishing in downtown Toledo\, the route highlights the city’s landmarks and natural beauty. \nRunners pass through Hensville\, near the Toledo Museum of Art\, and along the Maumee River — crossing it twice. The course winds through the Glass City Metropark\, past the Hollywood Casino and into the Rossford and Perrysburg communities. \nRunners will trek through iconic Toledo scenery\, including the W.W. Knight Nature Preserve and the Toledo Zoo\, before finishing near Maumee Bay Brewing Co. \nRegistration for the Garmin Marathon Series is currently open for all race distances in Toledo. For more information\, please visit garmin.com/marathons.
URL:https://develop-review-hart-desti-07sbl4.dev02.devhart.com/event/garmin-marathon-series
LOCATION:Downtown Toledo\, Toledo\, OH\, United States
CATEGORIES:exercise,family friendly,running,sports,wellness
ATTACH;FMTTYPE=image/jpeg:https://minio.devhart.com/destination-toledo-website/wp-content/uploads/2025/04/17111545/Garmin-Marathon-02.jpg
END:VEVENT
BEGIN:VEVENT
DTSTART;TZID=America/Detroit:20250927T000000
DTEND;TZID=America/Detroit:20250927T235959
DTSTAMP:20260424T124703
CREATED:20250709T130454Z
LAST-MODIFIED:20250812T202448Z
UID:53376-1758931200-1759017599@develop-review-hart-desti-07sbl4.dev02.devhart.com
SUMMARY:University of Toledo Homecoming Parade
DESCRIPTION:Celebrate Rocket Pride and join the Toledo Rockets football team as they play against the Akron Zips\, following the annual Homecoming Parade! \nEdward C. and Helen G. Schmakel parade \nGet into the spirit as you watch floats\, dignitaries\, alumni\, honorees\, Rocket Marching Band\, Rocky and Rocksy\, and more take to the streets of Old Orchard with the annual Edward C. and Helen G. Schmakel Homecoming Parade. Presented by Blue Key National Honor Society and supported by the Office of Student Engagement and the Office of Alumni Engagement. \nFor more information about the UT Homecoming football game and parade\, visit the UToledo website! 
URL:https://develop-review-hart-desti-07sbl4.dev02.devhart.com/event/homecoming-the-university-of-toledo
LOCATION:University of Toledo\, 2801 W Bancroft St\, Toledo\, Ohio\, 43606\, United States
CATEGORIES:family friendly,football,outdoors
ATTACH;FMTTYPE=image/png:https://minio.devhart.com/destination-toledo-website/wp-content/uploads/2025/07/17110610/university-of-toledo-4x3-event-image.png
END:VEVENT
BEGIN:VEVENT
DTSTART;TZID=America/Detroit:20250927T153000
DTEND;TZID=America/Detroit:20250927T183000
DTSTAMP:20260424T124703
CREATED:20250813T154927Z
LAST-MODIFIED:20250919T165349Z
UID:54061-1758987000-1758997800@develop-review-hart-desti-07sbl4.dev02.devhart.com
SUMMARY:Toledo Rockets Football vs. Akron | Homecoming
DESCRIPTION:Join Rocket fans and alumni at the Glass Bowl for the Homecoming Game on September 27\, 2025 at 3:30 p.m. as the Toledo Rockets take on the Akron Zips. Celebrate tradition\, reconnect with fellow alumni\, and experience the electric atmosphere as the Rockets aim for victory in this high-stakes MAC showdown. \nBuilding off of an impressive 2024 campaign that saw the Rockets defeat two power conference schools\, Toledo brings back 52 letterwinners\, including four All-Mid-American Conference selections. Add another talented recruiting class and a group of experienced transfers and Jason Candle’s Rockets are poised for another big season with MAC Championship aspirations. \nToledo Rockets football schedule:\n \nAug 30 (Sat) @ Kentucky 12:45 p.m. \nSep 6 (Sat) vs. Western Kentucky 7:00 p.m.\n“Biggest Party in Toledo” \nSep 13 (Sat) vs. Morgan State 3:30 p.m. \nSep 20 (Sat) @ Western Michigan TBA \nSep 27 (Sat) vs. Akron 3:30 PM\nHomecoming \nOct 11 (Sat) @ Bowling Green TBA \nOct 18 (Sat) vs. Kent State TBA \nOct 25 (Sat) @ Washington State 3:30 p.m. \nNov 5 (Wed) vs. Northern Illinois TBA \nNov 12 (Wed) @ Miami 7:00 p.m. \nNov 22 (Sat) vs. Ball State TBA \nNov 29 (Sat) vs. Central Michigan TBA \nCatch every touchdown\, game highlight\, and insider update at the official Toledo Rockets Football website. Stay in the know with schedules\, tickets\, and exclusive team content. \n 
URL:https://develop-review-hart-desti-07sbl4.dev02.devhart.com/event/toledo-rockets-football-vs-akron-homecoming-2025
LOCATION:Glass Bowl Stadium\, 1745 Stadium Dr\, Toledo\, 43606
CATEGORIES:football,sports
ATTACH;FMTTYPE=image/png:https://minio.devhart.com/destination-toledo-website/wp-content/uploads/2025/08/17110156/ut-football-team-4x3-event-image.png
END:VEVENT
END:VCALENDAR