BEGIN:VCALENDAR
VERSION:2.0
PRODID:-//Destination Toledo - ECPv6.15.17.1//NONSGML v1.0//EN
CALSCALE:GREGORIAN
METHOD:PUBLISH
X-ORIGINAL-URL:https://develop-review-hart-desti-07sbl4.dev02.devhart.com
X-WR-CALDESC:Events for Destination Toledo
REFRESH-INTERVAL;VALUE=DURATION:PT1H
X-Robots-Tag:noindex
X-PUBLISHED-TTL:PT1H
BEGIN:VTIMEZONE
TZID:America/Detroit
BEGIN:DAYLIGHT
TZOFFSETFROM:-0500
TZOFFSETTO:-0400
TZNAME:EDT
DTSTART:20240310T070000
END:DAYLIGHT
BEGIN:STANDARD
TZOFFSETFROM:-0400
TZOFFSETTO:-0500
TZNAME:EST
DTSTART:20241103T060000
END:STANDARD
BEGIN:DAYLIGHT
TZOFFSETFROM:-0500
TZOFFSETTO:-0400
TZNAME:EDT
DTSTART:20250309T070000
END:DAYLIGHT
BEGIN:STANDARD
TZOFFSETFROM:-0400
TZOFFSETTO:-0500
TZNAME:EST
DTSTART:20251102T060000
END:STANDARD
BEGIN:DAYLIGHT
TZOFFSETFROM:-0500
TZOFFSETTO:-0400
TZNAME:EDT
DTSTART:20260308T070000
END:DAYLIGHT
BEGIN:STANDARD
TZOFFSETFROM:-0400
TZOFFSETTO:-0500
TZNAME:EST
DTSTART:20261101T060000
END:STANDARD
END:VTIMEZONE
BEGIN:VEVENT
DTSTART;TZID=America/Detroit:20250323T171500
DTEND;TZID=America/Detroit:20250323T191500
DTSTAMP:20260419T140516
CREATED:20241217T214127Z
LAST-MODIFIED:20250318T143749Z
UID:13194-1742750100-1742757300@develop-review-hart-desti-07sbl4.dev02.devhart.com
SUMMARY:Toledo Walleye vs. Bloomington Bison
DESCRIPTION:Sunday\, March 23\, 2025 | 5:15 p.m. Come see the Toledo Walleye take on the Bloomington Bison!
URL:https://develop-review-hart-desti-07sbl4.dev02.devhart.com/event/toledo-walleye-vs-bloomington-bison
LOCATION:OH
ATTACH;FMTTYPE=image/jpeg:https://minio.devhart.com/destination-toledo-website/wp-content/uploads/2024/12/18102750/Walleye-Events-Graphic.jpg
END:VEVENT
BEGIN:VEVENT
DTSTART;TZID=America/Detroit:20250327T140000
DTEND;TZID=America/Detroit:20250327T200000
DTSTAMP:20260419T140516
CREATED:20250320T182502Z
LAST-MODIFIED:20250320T182502Z
UID:39730-1743084000-1743105600@develop-review-hart-desti-07sbl4.dev02.devhart.com
SUMMARY:NCAA Men’s Ice Hockey Regionals
DESCRIPTION:DATES & TIMES: Thursday\, March 27\, 2025 at approx. 4:00pm and 6:30pm & Saturday\, March 29\, 2025 at approx. 6:30pm \nTICKETS PRICES: $44.00/$29.00/$26.50 \nSession 1 (Thursday\, March 27th):  approx. 2:00pm and 5:30pm  (No re-entry.  You can not leave between games)\nSession 2 (Saturday\, March 29th):  approx. 6:30pm \nIf you bought the All session tickets (Good for Both days)\, Save your ticket from Thursday to be scanned and used again on Saturday \nSingle game day tickets (Good for all games on that date only) on sale NOW at the box office and Ticketmaster.com
URL:https://develop-review-hart-desti-07sbl4.dev02.devhart.com/event/ncaa-mens-ice-hockey-regionals
LOCATION:Huntington Center\, 500 Jefferson Ave\, Toledo\, OH\, 43604\, United States
ATTACH;FMTTYPE=image/png:https://minio.devhart.com/destination-toledo-website/wp-content/uploads/2025/03/20142239/ncaa-hockeye-4x3-event-image.png
END:VEVENT
BEGIN:VEVENT
DTSTART;TZID=America/Detroit:20250328T160500
DTEND;TZID=America/Detroit:20250328T190000
DTSTAMP:20260419T140516
CREATED:20250305T180442Z
LAST-MODIFIED:20250319T140249Z
UID:39240-1743177900-1743188400@develop-review-hart-desti-07sbl4.dev02.devhart.com
SUMMARY:Toledo Mud Hens vs. Columbus Clippers | Opening Day | Game 1 of 3
DESCRIPTION:A Toledo tradition for more than 20 years\, Toledo Mud Hens Opening Day is one of downtown’s biggest parties and is regularly sold out at Fifth Third Field. Mark your calendars now to celebrate the return of Toledo Mud Hens baseball. The season kicks off with a homestand against the Cleveland Guardians’ AAA affiliate\, the Columbus Clippers. \n  \n  \n2025 Season Schedule\nWeekends are for Mud Hens baseball. Thirty-nine of the 75 home games this season fall on weekend dates (13 Fridays\, 13 Saturday and 13 Sundays). The Mud Hens are also home for several holidays in 2025\, including Mother’s Day (May 11)\, Father’s Day (June 15)\, Memorial Day Weekend (May 23-25)\, and the week of Fourth of July (July 1-3). \nThe team plays at home against rival Columbus (Cleveland Guardians affiliate) 12 times (Opening Weekend\, July 1-3 and August 12-17)\, against Iowa (Chicago Cubs affiliate) 12 times (April 8-13 and May 6-11)\, and against Louisville (Cincinnati Reds affiliate) 12 times (May 27 – June 1 and September 9-14). The last home game of the regular 2025 season is slated for Sunday\, September 14. \nFor a full list of promotions\, bag policies\, and other FAQ visit Know Before You Go | Mud Hens
URL:https://develop-review-hart-desti-07sbl4.dev02.devhart.com/event/toledo-mud-hens-vs-columbus-clippers-opening-day-game-1-of-3-march
LOCATION:Fifth Third Field\, 406 Washington St\, Toledo\, OH\, 43604
ATTACH;FMTTYPE=image/jpeg:https://minio.devhart.com/destination-toledo-website/wp-content/uploads/2025/03/06143812/Mud-Hens-Events-Graphic.jpg
END:VEVENT
BEGIN:VEVENT
DTSTART;TZID=America/Detroit:20250329T160500
DTEND;TZID=America/Detroit:20250329T190500
DTSTAMP:20260419T140516
CREATED:20250305T184249Z
LAST-MODIFIED:20250319T140345Z
UID:39241-1743264300-1743275100@develop-review-hart-desti-07sbl4.dev02.devhart.com
SUMMARY:Toledo Mud Hens vs. Columbus Clippers | Opening Weekend "Fins & Feathers" | Game 2 of 3
DESCRIPTION:The Toledo Mud Hens Opening Weekend continues with a visit from the Cleveland Guardians’ AAA affiliate\, the Columbus Clippers. Saturday’s game is also “Fins & Feathers” night\, with a celebration of Toledo’s two favorite sports teams\, the Mud Hens and the Toledo Walleye hockey team! The first 2\,500 fans receive a Fins & Feathers blanket. \n  \n  \n  \n2025 Season Schedule\nWeekends are for Mud Hens baseball. Thirty-nine of the 75 home games this season fall on weekend dates (13 Fridays\, 13 Saturday and 13 Sundays). The Mud Hens are also home for several holidays in 2025\, including Mother’s Day (May 11)\, Father’s Day (June 15)\, Memorial Day Weekend (May 23-25)\, and the week of Fourth of July (July 1-3). \nThe team plays at home against rival Columbus (Cleveland Guardians affiliate) 12 times (Opening Weekend\, July 1-3 and August 12-17)\, against Iowa (Chicago Cubs affiliate) 12 times (April 8-13 and May 6-11)\, and against Louisville (Cincinnati Reds affiliate) 12 times (May 27 – June 1 and September 9-14). The last home game of the regular 2025 season is slated for Sunday\, September 14. \nFor a full list of promotions\, bag policies\, and other FAQ visit Know Before You Go | Mud Hens
URL:https://develop-review-hart-desti-07sbl4.dev02.devhart.com/event/toledo-mud-hens-vs-columbus-clippers-opening-weekend-2-of-3-march
LOCATION:Fifth Third Field\, 406 Washington St\, Toledo\, OH\, 43604
ATTACH;FMTTYPE=image/jpeg:https://minio.devhart.com/destination-toledo-website/wp-content/uploads/2025/03/06143812/Mud-Hens-Events-Graphic.jpg
END:VEVENT
BEGIN:VEVENT
DTSTART;TZID=America/Detroit:20250327T140000
DTEND;TZID=America/Detroit:20250327T200000
DTSTAMP:20260419T140516
CREATED:20250320T182502Z
LAST-MODIFIED:20250320T182502Z
UID:39730-1743084000-1743105600@develop-review-hart-desti-07sbl4.dev02.devhart.com
SUMMARY:NCAA Men’s Ice Hockey Regionals
DESCRIPTION:DATES & TIMES: Thursday\, March 27\, 2025 at approx. 4:00pm and 6:30pm & Saturday\, March 29\, 2025 at approx. 6:30pm \nTICKETS PRICES: $44.00/$29.00/$26.50 \nSession 1 (Thursday\, March 27th):  approx. 2:00pm and 5:30pm  (No re-entry.  You can not leave between games)\nSession 2 (Saturday\, March 29th):  approx. 6:30pm \nIf you bought the All session tickets (Good for Both days)\, Save your ticket from Thursday to be scanned and used again on Saturday \nSingle game day tickets (Good for all games on that date only) on sale NOW at the box office and Ticketmaster.com
URL:https://develop-review-hart-desti-07sbl4.dev02.devhart.com/event/ncaa-mens-ice-hockey-regionals
LOCATION:Huntington Center\, 500 Jefferson Ave\, Toledo\, OH\, 43604\, United States
ATTACH;FMTTYPE=image/png:https://minio.devhart.com/destination-toledo-website/wp-content/uploads/2025/03/20142239/ncaa-hockeye-4x3-event-image.png
END:VEVENT
BEGIN:VEVENT
DTSTART;TZID=America/Detroit:20250330T140500
DTEND;TZID=America/Detroit:20250330T170500
DTSTAMP:20260419T140516
CREATED:20250305T185053Z
LAST-MODIFIED:20250319T140444Z
UID:39242-1743343500-1743354300@develop-review-hart-desti-07sbl4.dev02.devhart.com
SUMMARY:Toledo Mud Hens vs. Columbus Clippers | Opening Weekend | Game 3 of 3
DESCRIPTION:The Toledo Mud Hens Opening Weekend concludes with a visit from the Cleveland Guardians’ AAA affiliate\, the Columbus Clippers. \n  \n  \n  \n2025 Season Schedule\nWeekends are for Mud Hens baseball. Thirty-nine of the 75 home games this season fall on weekend dates (13 Fridays\, 13 Saturday and 13 Sundays). The Mud Hens are also home for several holidays in 2025\, including Mother’s Day (May 11)\, Father’s Day (June 15)\, Memorial Day Weekend (May 23-25)\, and the week of Fourth of July (July 1-3). \nThe team plays at home against rival Columbus (Cleveland Guardians affiliate) 12 times (Opening Weekend\, July 1-3 and August 12-17)\, against Iowa (Chicago Cubs affiliate) 12 times (April 8-13 and May 6-11)\, and against Louisville (Cincinnati Reds affiliate) 12 times (May 27 – June 1 and September 9-14). The last home game of the regular 2025 season is slated for Sunday\, September 14. \nFor a full list of promotions\, bag policies\, and other FAQ visit Know Before You Go | Mud Hens
URL:https://develop-review-hart-desti-07sbl4.dev02.devhart.com/event/toledo-mud-hens-vs-columbus-clippers-opening-weekend-game-3-of-3-march
LOCATION:Fifth Third Field\, 406 Washington St\, Toledo\, OH\, 43604
ATTACH;FMTTYPE=image/jpeg:https://minio.devhart.com/destination-toledo-website/wp-content/uploads/2025/03/06143812/Mud-Hens-Events-Graphic.jpg
END:VEVENT
END:VCALENDAR