BEGIN:VCALENDAR
VERSION:2.0
PRODID:-//Destination Toledo - ECPv6.15.17.1//NONSGML v1.0//EN
CALSCALE:GREGORIAN
METHOD:PUBLISH
X-ORIGINAL-URL:https://develop-review-hart-desti-07sbl4.dev02.devhart.com
X-WR-CALDESC:Events for Destination Toledo
REFRESH-INTERVAL;VALUE=DURATION:PT1H
X-Robots-Tag:noindex
X-PUBLISHED-TTL:PT1H
BEGIN:VTIMEZONE
TZID:America/Detroit
BEGIN:DAYLIGHT
TZOFFSETFROM:-0500
TZOFFSETTO:-0400
TZNAME:EDT
DTSTART:20240310T070000
END:DAYLIGHT
BEGIN:STANDARD
TZOFFSETFROM:-0400
TZOFFSETTO:-0500
TZNAME:EST
DTSTART:20241103T060000
END:STANDARD
BEGIN:DAYLIGHT
TZOFFSETFROM:-0500
TZOFFSETTO:-0400
TZNAME:EDT
DTSTART:20250309T070000
END:DAYLIGHT
BEGIN:STANDARD
TZOFFSETFROM:-0400
TZOFFSETTO:-0500
TZNAME:EST
DTSTART:20251102T060000
END:STANDARD
BEGIN:DAYLIGHT
TZOFFSETFROM:-0500
TZOFFSETTO:-0400
TZNAME:EDT
DTSTART:20260308T070000
END:DAYLIGHT
BEGIN:STANDARD
TZOFFSETFROM:-0400
TZOFFSETTO:-0500
TZNAME:EST
DTSTART:20261101T060000
END:STANDARD
END:VTIMEZONE
BEGIN:VEVENT
DTSTART;TZID=America/Detroit:20250619T173000
DTEND;TZID=America/Detroit:20250619T200000
DTSTAMP:20260421T231219
CREATED:20250612T003910Z
LAST-MODIFIED:20250612T004014Z
UID:52487-1750354200-1750363200@develop-review-hart-desti-07sbl4.dev02.devhart.com
SUMMARY:Juneteenth 2.5 Mile Run
DESCRIPTION:Come out and celebrate freedom at Toledo’s only Juneteenth run/walk. Hosted for the 4th year by the Toledo Roadrunners Club\, join them for a free kids 1k and stay for the 2.5 run/walk at Glass City Metropark. \n  \n 
URL:https://develop-review-hart-desti-07sbl4.dev02.devhart.com/event/juneteenth-2-5-mile-run
LOCATION:Glass City Metropark\, 1505 Front Street\, Toledo\, Ohio
CATEGORIES:running,sports,wellness
ATTACH;FMTTYPE=image/png:https://minio.devhart.com/destination-toledo-website/wp-content/uploads/2025/05/17111008/image0-1.png
ORGANIZER;CN="The Toledo Roadrunners Club":MAILTO:vp@toledoroadrunners.org
END:VEVENT
END:VCALENDAR