BEGIN:VCALENDAR
VERSION:2.0
PRODID:-//Destination Toledo - ECPv6.15.17.1//NONSGML v1.0//EN
CALSCALE:GREGORIAN
METHOD:PUBLISH
X-WR-CALNAME:Destination Toledo
X-ORIGINAL-URL:https://develop-review-hart-desti-07sbl4.dev02.devhart.com
X-WR-CALDESC:Events for Destination Toledo
REFRESH-INTERVAL;VALUE=DURATION:PT1H
X-Robots-Tag:noindex
X-PUBLISHED-TTL:PT1H
BEGIN:VTIMEZONE
TZID:America/Detroit
BEGIN:DAYLIGHT
TZOFFSETFROM:-0500
TZOFFSETTO:-0400
TZNAME:EDT
DTSTART:20240310T070000
END:DAYLIGHT
BEGIN:STANDARD
TZOFFSETFROM:-0400
TZOFFSETTO:-0500
TZNAME:EST
DTSTART:20241103T060000
END:STANDARD
BEGIN:DAYLIGHT
TZOFFSETFROM:-0500
TZOFFSETTO:-0400
TZNAME:EDT
DTSTART:20250309T070000
END:DAYLIGHT
BEGIN:STANDARD
TZOFFSETFROM:-0400
TZOFFSETTO:-0500
TZNAME:EST
DTSTART:20251102T060000
END:STANDARD
BEGIN:DAYLIGHT
TZOFFSETFROM:-0500
TZOFFSETTO:-0400
TZNAME:EDT
DTSTART:20260308T070000
END:DAYLIGHT
BEGIN:STANDARD
TZOFFSETFROM:-0400
TZOFFSETTO:-0500
TZNAME:EST
DTSTART:20261101T060000
END:STANDARD
END:VTIMEZONE
BEGIN:VEVENT
DTSTART;TZID=America/Detroit:20250419T090000
DTEND;TZID=America/Detroit:20250419T103000
DTSTAMP:20260420T190029
CREATED:20250403T150225Z
LAST-MODIFIED:20250403T153027Z
UID:42891-1745053200-1745058600@develop-review-hart-desti-07sbl4.dev02.devhart.com
SUMMARY:Annual Fleet Feet Toledo Community Fun Run And Walk
DESCRIPTION:Celebrate Fleet Feet Toledo’s ONE YEAR ANNIVERSARY and 4RUN9 day with a Community Fun Run/Walk. Open to all paces! \nHappening right from the store\, there will be a 4.19 mile loop and a 1 mile loop. \nAll participants will get an exclusive Fleet Feet Toledo T-Shirt and you can stick around after for in-store giveaways and birthday specials!
URL:https://develop-review-hart-desti-07sbl4.dev02.devhart.com/event/annual-fleet-feet-toledo-community-fun-run-and-walk
LOCATION:Fleet Feet Toledo\, 3315 W Central Ave\, Toledo\, O\, 43606\, United States
CATEGORIES:exercise,family friendly,outdoors,racing,running,sports,wellness
ATTACH;FMTTYPE=image/png:https://minio.devhart.com/destination-toledo-website/wp-content/uploads/2025/04/17111700/fleet-feet-419-run-4x3-event-image.png
END:VEVENT
END:VCALENDAR