BEGIN:VCALENDAR
VERSION:2.0
PRODID:-//Destination Toledo - ECPv6.15.17.1//NONSGML v1.0//EN
CALSCALE:GREGORIAN
METHOD:PUBLISH
X-ORIGINAL-URL:https://develop-review-hart-desti-07sbl4.dev02.devhart.com
X-WR-CALDESC:Events for Destination Toledo
REFRESH-INTERVAL;VALUE=DURATION:PT1H
X-Robots-Tag:noindex
X-PUBLISHED-TTL:PT1H
BEGIN:VTIMEZONE
TZID:America/Detroit
BEGIN:DAYLIGHT
TZOFFSETFROM:-0500
TZOFFSETTO:-0400
TZNAME:EDT
DTSTART:20240310T070000
END:DAYLIGHT
BEGIN:STANDARD
TZOFFSETFROM:-0400
TZOFFSETTO:-0500
TZNAME:EST
DTSTART:20241103T060000
END:STANDARD
BEGIN:DAYLIGHT
TZOFFSETFROM:-0500
TZOFFSETTO:-0400
TZNAME:EDT
DTSTART:20250309T070000
END:DAYLIGHT
BEGIN:STANDARD
TZOFFSETFROM:-0400
TZOFFSETTO:-0500
TZNAME:EST
DTSTART:20251102T060000
END:STANDARD
BEGIN:DAYLIGHT
TZOFFSETFROM:-0500
TZOFFSETTO:-0400
TZNAME:EDT
DTSTART:20260308T070000
END:DAYLIGHT
BEGIN:STANDARD
TZOFFSETFROM:-0400
TZOFFSETTO:-0500
TZNAME:EST
DTSTART:20261101T060000
END:STANDARD
END:VTIMEZONE
BEGIN:VEVENT
DTSTART;TZID=America/Detroit:20250419T120000
DTEND;TZID=America/Detroit:20250419T170000
DTSTAMP:20260420T131313
CREATED:20250318T122452Z
LAST-MODIFIED:20250319T163829Z
UID:39484-1745064000-1745082000@develop-review-hart-desti-07sbl4.dev02.devhart.com
SUMMARY:Metroparks Takeover at Main Library
DESCRIPTION:Get ready\, Toledo! Metroparks Toledo is taking over the Main Library once again for an unforgettable day of fun and adventure! Experience the thrill of tree climbing\, test your aim with archery\, conquer a rock wall\, and explore so much more. Metroparks outdoor skills experts will be on-site to help you discover your next outdoor passion\, no matter your experience level. \n\nThis free and inclusive event ensures everyone can participate. Trained staff and adaptive equipment will be available to accommodate all abilities.
URL:https://develop-review-hart-desti-07sbl4.dev02.devhart.com/event/metroparks-takeover
LOCATION:Main Library\, 325 N Michigan St\, Toledo\, OH\, 43604\, United States
ATTACH;FMTTYPE=image/png:https://minio.devhart.com/destination-toledo-website/wp-content/uploads/2025/03/19123814/parks-library-takeover-4x3-event-image.png
END:VEVENT
END:VCALENDAR