BEGIN:VCALENDAR
VERSION:2.0
PRODID:-//Destination Toledo - ECPv6.15.17.1//NONSGML v1.0//EN
CALSCALE:GREGORIAN
METHOD:PUBLISH
X-WR-CALNAME:Destination Toledo
X-ORIGINAL-URL:https://develop-review-hart-desti-07sbl4.dev02.devhart.com
X-WR-CALDESC:Events for Destination Toledo
REFRESH-INTERVAL;VALUE=DURATION:PT1H
X-Robots-Tag:noindex
X-PUBLISHED-TTL:PT1H
BEGIN:VTIMEZONE
TZID:America/Detroit
BEGIN:DAYLIGHT
TZOFFSETFROM:-0500
TZOFFSETTO:-0400
TZNAME:EDT
DTSTART:20240310T070000
END:DAYLIGHT
BEGIN:STANDARD
TZOFFSETFROM:-0400
TZOFFSETTO:-0500
TZNAME:EST
DTSTART:20241103T060000
END:STANDARD
BEGIN:DAYLIGHT
TZOFFSETFROM:-0500
TZOFFSETTO:-0400
TZNAME:EDT
DTSTART:20250309T070000
END:DAYLIGHT
BEGIN:STANDARD
TZOFFSETFROM:-0400
TZOFFSETTO:-0500
TZNAME:EST
DTSTART:20251102T060000
END:STANDARD
BEGIN:DAYLIGHT
TZOFFSETFROM:-0500
TZOFFSETTO:-0400
TZNAME:EDT
DTSTART:20260308T070000
END:DAYLIGHT
BEGIN:STANDARD
TZOFFSETFROM:-0400
TZOFFSETTO:-0500
TZNAME:EST
DTSTART:20261101T060000
END:STANDARD
END:VTIMEZONE
BEGIN:VEVENT
DTSTART;TZID=America/Detroit:20250520T180500
DTEND;TZID=America/Detroit:20250520T210500
DTSTAMP:20260421T091402
CREATED:20250310T204943Z
LAST-MODIFIED:20250310T205443Z
UID:39275-1747764300-1747775100@develop-review-hart-desti-07sbl4.dev02.devhart.com
SUMMARY:Toledo Mud Hens vs. Indianapolis Indians | Hens & Hounds | Game 1 of 6
DESCRIPTION:The Toledo Mud Hens welcome the Pittsburgh Pirates’ AAA affiliate\, the Indianapolis Indians\, to town for a six-game series. Hens & Hounds is bark by popular demand! Bring your furry friend along to the game and the first 1\,000 dogs take home a Mud Hens branded collapsible dog bowl. \n  \n  \n  \n2025 Season Schedule\nWeekends are for Mud Hens baseball. Thirty-nine of the 75 home games this season fall on weekend dates (13 Fridays\, 13 Saturday and 13 Sundays). The Mud Hens are also home for several holidays in 2025\, including Mother’s Day (May 11)\, Father’s Day (June 15)\, Memorial Day Weekend (May 23-25)\, and the week of Fourth of July (July 1-3). \nThe team plays at home against rival Columbus (Cleveland Guardians affiliate) 12 times (Opening Weekend\, July 1-3 and August 12-17)\, against Iowa (Chicago Cubs affiliate) 12 times (April 8-13 and May 6-11)\, and against Louisville (Cincinnati Reds affiliate) 12 times (May 27 – June 1 and September 9-14). The last home game of the regular 2025 season is slated for Sunday\, September 14. \nFor a full list of promotions\, bag policies\, and other FAQ visit Know Before You Go | Mud Hens
URL:https://develop-review-hart-desti-07sbl4.dev02.devhart.com/event/toledo-mud-hens-vs-indianapolis-indians-game-1-of-6-may
LOCATION:Fifth Third Field\, 406 Washington St\, Toledo\, OH\, 43604
ATTACH;FMTTYPE=image/jpeg:https://minio.devhart.com/destination-toledo-website/wp-content/uploads/2025/03/06143812/Mud-Hens-Events-Graphic.jpg
END:VEVENT
BEGIN:VEVENT
DTSTART;TZID=America/Detroit:20250527T180500
DTEND;TZID=America/Detroit:20250527T210500
DTSTAMP:20260421T091402
CREATED:20250310T214800Z
LAST-MODIFIED:20250310T214800Z
UID:39285-1748369100-1748379900@develop-review-hart-desti-07sbl4.dev02.devhart.com
SUMMARY:Toledo Mud Hens vs. Louisville Bats | Hens & Hounds | Game 1 of 6
DESCRIPTION:The Toledo Mud Hens welcome the Cincinatti Reds’ AAA affiliate\, the Louisville Bats\, to town for a six-game series. Hens & Hounds is bark by popular demand! Bring your furry friend along to the game! \n  \n  \n  \n2025 Season Schedule\nWeekends are for Mud Hens baseball. Thirty-nine of the 75 home games this season fall on weekend dates (13 Fridays\, 13 Saturday and 13 Sundays). The Mud Hens are also home for several holidays in 2025\, including Mother’s Day (May 11)\, Father’s Day (June 15)\, Memorial Day Weekend (May 23-25)\, and the week of Fourth of July (July 1-3). \nThe team plays at home against rival Columbus (Cleveland Guardians affiliate) 12 times (Opening Weekend\, July 1-3 and August 12-17)\, against Iowa (Chicago Cubs affiliate) 12 times (April 8-13 and May 6-11)\, and against Louisville (Cincinnati Reds affiliate) 12 times (May 27 – June 1 and September 9-14). The last home game of the regular 2025 season is slated for Sunday\, September 14. \nFor a full list of promotions\, bag policies\, and other FAQ visit Know Before You Go | Mud Hens
URL:https://develop-review-hart-desti-07sbl4.dev02.devhart.com/event/toledo-mud-hens-vs-louisville-bats-hens-hounds-game-1-of-6-may
LOCATION:Fifth Third Field\, 406 Washington St\, Toledo\, OH\, 43604
ATTACH;FMTTYPE=image/jpeg:https://minio.devhart.com/destination-toledo-website/wp-content/uploads/2025/03/06143812/Mud-Hens-Events-Graphic.jpg
END:VEVENT
BEGIN:VEVENT
DTSTART;TZID=America/Detroit:20250601T100000
DTEND;TZID=America/Detroit:20250601T150000
DTSTAMP:20260421T091402
CREATED:20250423T133615Z
LAST-MODIFIED:20250424T144513Z
UID:51330-1748772000-1748790000@develop-review-hart-desti-07sbl4.dev02.devhart.com
SUMMARY:Thrift & Sip
DESCRIPTION:Thrift & Sip returns on June 1! Get ready to explore second-hand thrifts- like clothing\, art\, decor and much more at this highly anticipated event! \nSip on your favorite Maumee Bay Brewing Co. brews and enjoy delicious eats from the MBBC food truck. There will also be live music from Jeph (Jason Ramm & Stephanie Clegg) and also\, Tim Oehlersand\, and much more! \nNo Admission is required to shop for this family friendly and dog friendly event. \nBecome a Vendor:\nThere are indoor and outdoor options for vendor booths. Sell your gently used clothing\, art & more at Thrift & Sip!
URL:https://develop-review-hart-desti-07sbl4.dev02.devhart.com/event/thrift-sip-2
LOCATION:Maumee Bay Brewing Co.\, 27 Broadway St\, Toledo\, OH\, 43604\, United States
CATEGORIES:Beer,food,live music,shopping
ATTACH;FMTTYPE=image/png:https://minio.devhart.com/destination-toledo-website/wp-content/uploads/2025/04/17111349/thrift-and-sip-maumee-bay-2025-4x3-event-image.png
ORGANIZER;CN="Maumee Bay Brewing Co.":MAILTO:Dperkins@mbaybrew.com
END:VEVENT
BEGIN:VEVENT
DTSTART;TZID=America/Detroit:20250610T190500
DTEND;TZID=America/Detroit:20250610T220500
DTSTAMP:20260421T091402
CREATED:20250311T125648Z
LAST-MODIFIED:20250311T144240Z
UID:39292-1749582300-1749593100@develop-review-hart-desti-07sbl4.dev02.devhart.com
SUMMARY:Toledo Mud Hens vs. Omaha Storm Chasers | Hens & Hounds | Game 1 of 6
DESCRIPTION:The Toledo Mud Hens first homestand of June welcomes the Kansas City Royals’ AAA affiliate\, the Omaha Storm Chasers. Hens & Hounds is bark by popular demand! Bring your furry friend along to the game! June 10th’s game will feature an appearance from the Performance Dogs of Ohio. \n  \n  \n  \n2025 Season Schedule\nWeekends are for Mud Hens baseball. Thirty-nine of the 75 home games this season fall on weekend dates (13 Fridays\, 13 Saturday and 13 Sundays). The Mud Hens are also home for several holidays in 2025\, including Mother’s Day (May 11)\, Father’s Day (June 15)\, Memorial Day Weekend (May 23-25)\, and the week of Fourth of July (July 1-3). \nThe team plays at home against rival Columbus (Cleveland Guardians affiliate) 12 times (Opening Weekend\, July 1-3 and August 12-17)\, against Iowa (Chicago Cubs affiliate) 12 times (April 8-13 and May 6-11)\, and against Louisville (Cincinnati Reds affiliate) 12 times (May 27 – June 1 and September 9-14). The last home game of the regular 2025 season is slated for Sunday\, September 14. \nFor a full list of promotions\, bag policies\, and other FAQ visit Know Before You Go | Mud Hens
URL:https://develop-review-hart-desti-07sbl4.dev02.devhart.com/event/toledo-mud-hens-vs-omaha-storm-chasers-hens-and-hounds-game-1-of-6-june
LOCATION:Fifth Third Field\, 406 Washington St\, Toledo\, OH\, 43604
ATTACH;FMTTYPE=image/jpeg:https://minio.devhart.com/destination-toledo-website/wp-content/uploads/2025/03/06143812/Mud-Hens-Events-Graphic.jpg
END:VEVENT
BEGIN:VEVENT
DTSTART;TZID=America/Detroit:20250624T180500
DTEND;TZID=America/Detroit:20250624T210500
DTSTAMP:20260421T091402
CREATED:20250311T153642Z
LAST-MODIFIED:20250311T153642Z
UID:39300-1750788300-1750799100@develop-review-hart-desti-07sbl4.dev02.devhart.com
SUMMARY:Toledo Mud Hens vs. Charlotte Knights | Hens & Hounds | Game 1 of 6
DESCRIPTION:The Toledo Mud Hens last homestand of June welcomes the Chicago White Sox AAA affiliate\, the Charlotte Knights. Hens & Hounds is bark by popular demand! Bring your furry friend along to the game! \n  \n  \n  \n2025 Season Schedule\nWeekends are for Mud Hens baseball. Thirty-nine of the 75 home games this season fall on weekend dates (13 Fridays\, 13 Saturday and 13 Sundays). The Mud Hens are also home for several holidays in 2025\, including Mother’s Day (May 11)\, Father’s Day (June 15)\, Memorial Day Weekend (May 23-25)\, and the week of Fourth of July (July 1-3). \nThe team plays at home against rival Columbus (Cleveland Guardians affiliate) 12 times (Opening Weekend\, July 1-3 and August 12-17)\, against Iowa (Chicago Cubs affiliate) 12 times (April 8-13 and May 6-11)\, and against Louisville (Cincinnati Reds affiliate) 12 times (May 27 – June 1 and September 9-14). The last home game of the regular 2025 season is slated for Sunday\, September 14. \nFor a full list of promotions\, bag policies\, and other FAQ visit Know Before You Go | Mud Hens
URL:https://develop-review-hart-desti-07sbl4.dev02.devhart.com/event/toledo-mud-hens-vs-charlotte-knights-hens-hounds-game-1-of-6-june
LOCATION:Fifth Third Field\, 406 Washington St\, Toledo\, OH\, 43604
ATTACH;FMTTYPE=image/jpeg:https://minio.devhart.com/destination-toledo-website/wp-content/uploads/2025/03/06143812/Mud-Hens-Events-Graphic.jpg
END:VEVENT
BEGIN:VEVENT
DTSTART;TZID=America/Detroit:20250729T190500
DTEND;TZID=America/Detroit:20250729T220500
DTSTAMP:20260421T091402
CREATED:20250311T172213Z
LAST-MODIFIED:20250311T201730Z
UID:39314-1753815900-1753826700@develop-review-hart-desti-07sbl4.dev02.devhart.com
SUMMARY:Toledo Mud Hens vs. St. Paul Saints | Hens & Hounds | Game 1 of 6
DESCRIPTION:The Toledo Mud Hens welcome the Minnesota Twins’ AAA affiliate\, the St. Paul Saints to town for a six-game series. Hens & Hounds is bark by popular demand! Bring your furry friend along to the game! \n  \n  \n  \n2025 Season Schedule\nWeekends are for Mud Hens baseball. Thirty-nine of the 75 home games this season fall on weekend dates (13 Fridays\, 13 Saturday and 13 Sundays). The Mud Hens are also home for several holidays in 2025\, including Mother’s Day (May 11)\, Father’s Day (June 15)\, Memorial Day Weekend (May 23-25)\, and the week of Fourth of July (July 1-3). \nThe team plays at home against rival Columbus (Cleveland Guardians affiliate) 12 times (Opening Weekend\, July 1-3 and August 12-17)\, against Iowa (Chicago Cubs affiliate) 12 times (April 8-13 and May 6-11)\, and against Louisville (Cincinnati Reds affiliate) 12 times (May 27 – June 1 and September 9-14). The last home game of the regular 2025 season is slated for Sunday\, September 14. \nFor a full list of promotions\, bag policies\, and other FAQ visit Know Before You Go | Mud Hens
URL:https://develop-review-hart-desti-07sbl4.dev02.devhart.com/event/toledo-mud-hens-vs-st-paul-saints-hens-hounds-game-1-of-6
LOCATION:Fifth Third Field\, 406 Washington St\, Toledo\, OH\, 43604
ATTACH;FMTTYPE=image/jpeg:https://minio.devhart.com/destination-toledo-website/wp-content/uploads/2025/03/06143812/Mud-Hens-Events-Graphic.jpg
END:VEVENT
BEGIN:VEVENT
DTSTART;TZID=America/Detroit:20250812T183500
DTEND;TZID=America/Detroit:20250812T213500
DTSTAMP:20260421T091402
CREATED:20250311T201235Z
LAST-MODIFIED:20250311T203249Z
UID:39320-1755023700-1755034500@develop-review-hart-desti-07sbl4.dev02.devhart.com
SUMMARY:Toledo Mud Hens vs. Columbus Clippers | Hens & Hounds | Game 1 of 6
DESCRIPTION:The Toledo Mud Hens welcome the Cleveland Guardians’ AAA affiliate\, the Columbus Clippers to town for a six-game series. Hens & Hounds is bark by popular demand! Bring your furry friend along to the game! \n  \n  \n  \n2025 Season Schedule\nWeekends are for Mud Hens baseball. Thirty-nine of the 75 home games this season fall on weekend dates (13 Fridays\, 13 Saturday and 13 Sundays). The Mud Hens are also home for several holidays in 2025\, including Mother’s Day (May 11)\, Father’s Day (June 15)\, Memorial Day Weekend (May 23-25)\, and the week of Fourth of July (July 1-3). \nThe team plays at home against rival Columbus (Cleveland Guardians affiliate) 12 times (Opening Weekend\, July 1-3 and August 12-17)\, against Iowa (Chicago Cubs affiliate) 12 times (April 8-13 and May 6-11)\, and against Louisville (Cincinnati Reds affiliate) 12 times (May 27 – June 1 and September 9-14). The last home game of the regular 2025 season is slated for Sunday\, September 14. \nFor a full list of promotions\, bag policies\, and other FAQ visit Know Before You Go | Mud Hens
URL:https://develop-review-hart-desti-07sbl4.dev02.devhart.com/event/toledo-mud-hens-vs-columbus-clippers-hens-hounds-game-1-of-6-august
LOCATION:Fifth Third Field\, 406 Washington St\, Toledo\, OH\, 43604
ATTACH;FMTTYPE=image/jpeg:https://minio.devhart.com/destination-toledo-website/wp-content/uploads/2025/03/06143812/Mud-Hens-Events-Graphic.jpg
END:VEVENT
BEGIN:VEVENT
DTSTART;TZID=America/Detroit:20250826T183500
DTEND;TZID=America/Detroit:20250826T213500
DTSTAMP:20260421T091402
CREATED:20250311T205209Z
LAST-MODIFIED:20250311T205209Z
UID:39326-1756233300-1756244100@develop-review-hart-desti-07sbl4.dev02.devhart.com
SUMMARY:Toledo Mud Hens vs. St. Paul Saints | Hens & Hounds | Game 1 of 6
DESCRIPTION:The Toledo Mud Hens welcome the Minnesota Twins’ AAA affiliate\, the St. Paul Saints to town for a six-game series. Hens & Hounds is bark by popular demand! Bring your furry friend along to the game! \n  \n  \n  \n2025 Season Schedule\nWeekends are for Mud Hens baseball. Thirty-nine of the 75 home games this season fall on weekend dates (13 Fridays\, 13 Saturday and 13 Sundays). The Mud Hens are also home for several holidays in 2025\, including Mother’s Day (May 11)\, Father’s Day (June 15)\, Memorial Day Weekend (May 23-25)\, and the week of Fourth of July (July 1-3). \nThe team plays at home against rival Columbus (Cleveland Guardians affiliate) 12 times (Opening Weekend\, July 1-3 and August 12-17)\, against Iowa (Chicago Cubs affiliate) 12 times (April 8-13 and May 6-11)\, and against Louisville (Cincinnati Reds affiliate) 12 times (May 27 – June 1 and September 9-14). The last home game of the regular 2025 season is slated for Sunday\, September 14. \nFor a full list of promotions\, bag policies\, and other FAQ visit Know Before You Go | Mud Hens
URL:https://develop-review-hart-desti-07sbl4.dev02.devhart.com/event/toledo-mud-hens-vs-st-paul-saints-hens-hounds-game-1-of-6-aug
LOCATION:Fifth Third Field\, 406 Washington St\, Toledo\, OH\, 43604
ATTACH;FMTTYPE=image/jpeg:https://minio.devhart.com/destination-toledo-website/wp-content/uploads/2025/03/06143812/Mud-Hens-Events-Graphic.jpg
END:VEVENT
BEGIN:VEVENT
DTSTART;TZID=America/Detroit:20250909T183500
DTEND;TZID=America/Detroit:20250909T213500
DTSTAMP:20260421T091402
CREATED:20250312T001942Z
LAST-MODIFIED:20250312T002011Z
UID:39332-1757442900-1757453700@develop-review-hart-desti-07sbl4.dev02.devhart.com
SUMMARY:Toledo Mud Hens vs. Louisville Bats | Hens & Hounds | Game 1 of 6
DESCRIPTION:The Toledo Mud Hens welcome the Cincinatti Reds’ AAA affiliate\, the Louisville Bats\, to town for the final homestand of the season. Hens & Hounds is bark by popular demand! Bring your furry friend along to the game! \n  \n  \n  \n2025 Season Schedule\nWeekends are for Mud Hens baseball. Thirty-nine of the 75 home games this season fall on weekend dates (13 Fridays\, 13 Saturday and 13 Sundays). The Mud Hens are also home for several holidays in 2025\, including Mother’s Day (May 11)\, Father’s Day (June 15)\, Memorial Day Weekend (May 23-25)\, and the week of Fourth of July (July 1-3). \nThe team plays at home against rival Columbus (Cleveland Guardians affiliate) 12 times (Opening Weekend\, July 1-3 and August 12-17)\, against Iowa (Chicago Cubs affiliate) 12 times (April 8-13 and May 6-11)\, and against Louisville (Cincinnati Reds affiliate) 12 times (May 27 – June 1 and September 9-14). The last home game of the regular 2025 season is slated for Sunday\, September 14. \nFor a full list of promotions\, bag policies\, and other FAQ visit Know Before You Go | Mud Hens
URL:https://develop-review-hart-desti-07sbl4.dev02.devhart.com/event/toledo-mud-hens-vs-louisville-bats-hens-hounds-game-1-of-6-sept
LOCATION:Fifth Third Field\, 406 Washington St\, Toledo\, OH\, 43604
ATTACH;FMTTYPE=image/jpeg:https://minio.devhart.com/destination-toledo-website/wp-content/uploads/2025/03/06143812/Mud-Hens-Events-Graphic.jpg
END:VEVENT
END:VCALENDAR