BEGIN:VCALENDAR
VERSION:2.0
PRODID:-//Destination Toledo - ECPv6.15.17.1//NONSGML v1.0//EN
CALSCALE:GREGORIAN
METHOD:PUBLISH
X-WR-CALNAME:Destination Toledo
X-ORIGINAL-URL:https://develop-review-hart-desti-07sbl4.dev02.devhart.com
X-WR-CALDESC:Events for Destination Toledo
REFRESH-INTERVAL;VALUE=DURATION:PT1H
X-Robots-Tag:noindex
X-PUBLISHED-TTL:PT1H
BEGIN:VTIMEZONE
TZID:America/Detroit
BEGIN:DAYLIGHT
TZOFFSETFROM:-0500
TZOFFSETTO:-0400
TZNAME:EDT
DTSTART:20240310T070000
END:DAYLIGHT
BEGIN:STANDARD
TZOFFSETFROM:-0400
TZOFFSETTO:-0500
TZNAME:EST
DTSTART:20241103T060000
END:STANDARD
BEGIN:DAYLIGHT
TZOFFSETFROM:-0500
TZOFFSETTO:-0400
TZNAME:EDT
DTSTART:20250309T070000
END:DAYLIGHT
BEGIN:STANDARD
TZOFFSETFROM:-0400
TZOFFSETTO:-0500
TZNAME:EST
DTSTART:20251102T060000
END:STANDARD
BEGIN:DAYLIGHT
TZOFFSETFROM:-0500
TZOFFSETTO:-0400
TZNAME:EDT
DTSTART:20260308T070000
END:DAYLIGHT
BEGIN:STANDARD
TZOFFSETFROM:-0400
TZOFFSETTO:-0500
TZNAME:EST
DTSTART:20261101T060000
END:STANDARD
BEGIN:DAYLIGHT
TZOFFSETFROM:-0500
TZOFFSETTO:-0400
TZNAME:EDT
DTSTART:20270314T070000
END:DAYLIGHT
BEGIN:STANDARD
TZOFFSETFROM:-0400
TZOFFSETTO:-0500
TZNAME:EST
DTSTART:20271107T060000
END:STANDARD
END:VTIMEZONE
BEGIN:VEVENT
DTSTART;TZID=America/Detroit:20250815T183000
DTEND;TZID=America/Detroit:20250815T220000
DTSTAMP:20260419T042448
CREATED:20250806T184947Z
LAST-MODIFIED:20250806T185309Z
UID:53825-1755282600-1755295200@develop-review-hart-desti-07sbl4.dev02.devhart.com
SUMMARY:Movie Night in the Glass Bowl
DESCRIPTION:The University of Toledo will be hosting a free movie night for the community in the Glass Bowl on Friday\, Aug. 15. The event is sponsored by State Farm agent Jennifer Roberts. \nGates will open at 6:30 p.m. for various activities including bounce houses\, movie-themed games\, and autographs from Toledo student-athletes. The movie will begin at approximately 7:30 p.m. Fans may enter the Glass Bowl stadium at the Northwest and Northeast field gates or Gate A. \nGuests must park in Area 10\, which is just north of the football stadium. Attendees may bring their own chairs and blankets to sit on the field. \nThe following concessions will be available: \n\nHot dogs\nChips\nNachos\nPopcorn\nPizza\nPretzels\nCandy\nBottled beverages\n\nFor more information about Movie Night at the Glass Bowl\, please call 419-530-5433. Movie begins: 7:30 p.m. \n 
URL:https://develop-review-hart-desti-07sbl4.dev02.devhart.com/event/movie-night-in-the-glass-bowl
LOCATION:Glass Bowl Stadium\, 1745 Stadium Dr\, Toledo\, 43606
CATEGORIES:movie,outdoors
ATTACH;FMTTYPE=image/png:https://minio.devhart.com/destination-toledo-website/wp-content/uploads/2025/08/17110229/Glass-Bowl-movie-4x3-event-image.png
ORGANIZER;CN="Toledo Athletics":MAILTO:AthleticTicketOffice@utoledo.edu
END:VEVENT
BEGIN:VEVENT
DTSTART;TZID=America/Detroit:20251107T180000
DTEND;TZID=America/Detroit:20251107T210000
DTSTAMP:20260419T042448
CREATED:20251027T181231Z
LAST-MODIFIED:20251027T181231Z
UID:55508-1762538400-1762549200@develop-review-hart-desti-07sbl4.dev02.devhart.com
SUMMARY:Plates & Pictures | Wicked
DESCRIPTION:Dinner and a movie… like you’ve never experienced it before! \nIntroducing Plates & Pictures\, a one-of-a-kind dining and film experience where food and film meet in perfect harmony. This isn’t just watching your favorite movie — it’s living it. Savor a curated\, themed menu inspired by iconic films while immersing yourself in the sights\, sounds\, and flavors that bring the story to life. \nEach event is a full sensory experience — taste\, smell\, and watch your way through cinematic classics in a stylish\, social setting curated by KB Events\, in partnership with Summit Toledo.
URL:https://develop-review-hart-desti-07sbl4.dev02.devhart.com/event/plates-pictures-wicked
LOCATION:The Summit Toledo\, 23 North Summit Street\, Toledo\, 43604
CATEGORIES:entertainment,movie
ATTACH;FMTTYPE=image/png:https://minio.devhart.com/destination-toledo-website/wp-content/uploads/2025/10/17105359/wicked-dinner-4x3-event-image.png
END:VEVENT
BEGIN:VEVENT
DTSTART;TZID=America/Detroit:20251120T180000
DTEND;TZID=America/Detroit:20251120T203000
DTSTAMP:20260419T042448
CREATED:20251023T195238Z
LAST-MODIFIED:20251023T202300Z
UID:55514-1763661600-1763670600@develop-review-hart-desti-07sbl4.dev02.devhart.com
SUMMARY:Plates & Pictures | Nightmare Before Christmas
DESCRIPTION:Dinner and a movie… like you’ve never experienced it before! \nIntroducing Plates & Pictures\, a one-of-a-kind dining and film experience where food and film meet in perfect harmony. This isn’t just watching your favorite movie — it’s living it. Savor a curated\, themed menu inspired by iconic films while immersing yourself in the sights\, sounds\, and flavors that bring the story to life. \nEach event is a full sensory experience — taste\, smell\, and watch your way through cinematic classics in a stylish\, social setting curated by KB Events\, in partnership with Summit Toledo.
URL:https://develop-review-hart-desti-07sbl4.dev02.devhart.com/event/plates-pictures-nightmare-before-christmas
LOCATION:The Summit Toledo\, 23 North Summit Street\, Toledo\, 43604
CATEGORIES:entertainment,food,movie
ATTACH;FMTTYPE=image/png:https://minio.devhart.com/destination-toledo-website/wp-content/uploads/2025/10/17105412/Untitled-design-25.png
END:VEVENT
BEGIN:VEVENT
DTSTART;TZID=America/Detroit:20251212T180000
DTEND;TZID=America/Detroit:20251212T203000
DTSTAMP:20260419T042448
CREATED:20251027T172352Z
LAST-MODIFIED:20251027T172352Z
UID:55522-1765562400-1765571400@develop-review-hart-desti-07sbl4.dev02.devhart.com
SUMMARY:Plates & Pictures | Princess and the Frog
DESCRIPTION:Dinner and a movie… like you’ve never experienced it before! \nIntroducing Plates & Pictures\, a one-of-a-kind dining and film experience where food and film meet in perfect harmony. This isn’t just watching your favorite movie — it’s living it. Savor a curated\, themed menu inspired by iconic films while immersing yourself in the sights\, sounds\, and flavors that bring the story to life. \nEach event is a full sensory experience — taste\, smell\, and watch your way through cinematic classics in a stylish\, social setting curated by KB Events\, in partnership with Summit Toledo.
URL:https://develop-review-hart-desti-07sbl4.dev02.devhart.com/event/plates-pictures-princess-and-the-frog
LOCATION:The Summit Toledo\, 23 North Summit Street\, Toledo\, 43604
CATEGORIES:entertainment,movie
ATTACH;FMTTYPE=image/png:https://minio.devhart.com/destination-toledo-website/wp-content/uploads/2025/10/17105359/princess-and-the-frog-4x3-event-image.png
END:VEVENT
BEGIN:VEVENT
DTSTART;TZID=America/Detroit:20260306T173000
DTEND;TZID=America/Detroit:20260306T210000
DTSTAMP:20260419T042449
CREATED:20250806T154709Z
LAST-MODIFIED:20250806T154709Z
UID:53918-1772818200-1772830800@develop-review-hart-desti-07sbl4.dev02.devhart.com
SUMMARY:Jumanji Movie & Game Night
DESCRIPTION:Join The Valentine Theatre for their Silver Screen movies presentation of Jumanji starring Robin Williams on FRIDAY\, MARCH 6th! Mark your calendars for an evening of family\, old friends\, or make new friends in the Valentine Grand Lobby. All are welcome! Bring your own favorite old\, or new board\, card\, or dice games to play\, or they will have games for you to play! Full bar service will be available.\n\nTickets are $5! Doors open at 5:30p for games\, screening of Jumanji at 7:30!\n\nTickets for all movies are on sale now at valentinetheatre.com 24/7\, or call their Box Office at 419/242-2787 Monday through Friday 10am to 4pm! See you at The Valentine!
URL:https://develop-review-hart-desti-07sbl4.dev02.devhart.com/event/jumanji-movie-game-night
LOCATION:Valentine Theatre\, 410 Adams St\, Toledo\, OH\, 43604\, United States
CATEGORIES:entertainment,movie
ATTACH;FMTTYPE=image/png:https://minio.devhart.com/destination-toledo-website/wp-content/uploads/2025/08/17110231/valentine-theatre-4x3-event-image.png
END:VEVENT
END:VCALENDAR