BEGIN:VCALENDAR
VERSION:2.0
PRODID:-//Destination Toledo - ECPv6.15.17.1//NONSGML v1.0//EN
CALSCALE:GREGORIAN
METHOD:PUBLISH
X-WR-CALNAME:Destination Toledo
X-ORIGINAL-URL:https://develop-review-hart-desti-07sbl4.dev02.devhart.com
X-WR-CALDESC:Events for Destination Toledo
REFRESH-INTERVAL;VALUE=DURATION:PT1H
X-Robots-Tag:noindex
X-PUBLISHED-TTL:PT1H
BEGIN:VTIMEZONE
TZID:America/Detroit
BEGIN:DAYLIGHT
TZOFFSETFROM:-0500
TZOFFSETTO:-0400
TZNAME:EDT
DTSTART:20240310T070000
END:DAYLIGHT
BEGIN:STANDARD
TZOFFSETFROM:-0400
TZOFFSETTO:-0500
TZNAME:EST
DTSTART:20241103T060000
END:STANDARD
BEGIN:DAYLIGHT
TZOFFSETFROM:-0500
TZOFFSETTO:-0400
TZNAME:EDT
DTSTART:20250309T070000
END:DAYLIGHT
BEGIN:STANDARD
TZOFFSETFROM:-0400
TZOFFSETTO:-0500
TZNAME:EST
DTSTART:20251102T060000
END:STANDARD
BEGIN:DAYLIGHT
TZOFFSETFROM:-0500
TZOFFSETTO:-0400
TZNAME:EDT
DTSTART:20260308T070000
END:DAYLIGHT
BEGIN:STANDARD
TZOFFSETFROM:-0400
TZOFFSETTO:-0500
TZNAME:EST
DTSTART:20261101T060000
END:STANDARD
END:VTIMEZONE
BEGIN:VEVENT
DTSTART;TZID=America/Detroit:20250806T180000
DTEND;TZID=America/Detroit:20250806T200000
DTSTAMP:20260419T123816
CREATED:20250710T122347Z
LAST-MODIFIED:20250710T141802Z
UID:53433-1754503200-1754510400@develop-review-hart-desti-07sbl4.dev02.devhart.com
SUMMARY:Toledo Jazz Week | Keith Bernhard & More Jazz Messengers
DESCRIPTION:Glass City Jazz fest presents Toledo Jazz week with Keith Bernhard & More Jazz Messengers at The Toledo Club Red Room. A respected drummer\, Keith Bernhard was the last “house drummer” at Toledo’s iconic Murphy’s Place Jazz Club\,\nwhere he performed alongside Claude Black and Clifford Murphy for over a decade. Enjoy free jazz shows all week long leading up to the Glass City Jazz Fest on Saturday\, August 9.\n \nWhether you’re a jazz enthusiast or just looking for a great night out\, Toledo Jazz Week offers a perfect blend of music\, community\, and summer vibes. \nToledo Jazz Week Lineup: \nMonday\, August 4\nLeslie Deshazor\nAssembly at American Brasserie – Downtown Hilton\n101 N Summit St.\, Toledo\, OH 43604\n \nTuesday\, August 5\nLori Lefevre & The Toledo School of the Arts Jazz Vocalists\nMiddlegrounds Metropark\n111 Ottawa St.\, Toledo\, OH 43604\nOutdoor | Family-friendly | Bring lawn chairs\n \nWednesday\, August 6\nKeith Bernhard & More Jazz Messengers\nToledo Club – Red Room\n235 14th St.\, Toledo\, OH 43604 \nThursday\, August 7\nJerome Clark Trio\nClub 1343\n1343 Avondale Ave.\, Toledo\, OH 43607\n \nFriday\, August 8\nGene Parker & Damen Cook\nGlass City Metropark – Pavilion\n1001 Front St.\, Toledo\, OH 43605\nOutdoor | Family-friendly | Bring lawn chairs
URL:https://develop-review-hart-desti-07sbl4.dev02.devhart.com/event/toledo-jazz-week-keith-bernhard-more-jazz-messengers
LOCATION:Toledo Club\, 235 14th St\, Toledo\, Ohio\, 43604\, United States
CATEGORIES:entertainment,family friendly,food,Jazz,live music,outdoors
ATTACH;FMTTYPE=image/png:https://minio.devhart.com/destination-toledo-website/wp-content/uploads/2025/07/17110607/Toledo-Jazz-Week-2025-4x3-event-image.png
END:VEVENT
BEGIN:VEVENT
DTSTART;TZID=America/Detroit:20250611T183000
DTEND;TZID=America/Detroit:20250611T203000
DTSTAMP:20260419T123816
CREATED:20250402T181509Z
LAST-MODIFIED:20250402T181509Z
UID:42676-1749666600-1749673800@develop-review-hart-desti-07sbl4.dev02.devhart.com
SUMMARY:Verandah Concert Series at Hayes Presidential Library & Museums
DESCRIPTION:Bring a lawn chair and relax to the sounds of ragtime\, bluegrass\, Irish music and other genres this summer during the Verandah Concert series at the Hayes Presidential Library & Museums. The popular concerts take place twice a month on Wednesdays on the verandah of the historic home of 19th U.S. President Rutherford and First Lady Lucy Hayes. Admission is free. \nEach event begins with an ice cream social at 6:30 p.m. Donations can be made for the ice cream but are not required. Performances start at 7 p.m. \nThe 2025 Verandah Concert schedule is: \n\nJune 11 – Matthew Ball\, The Boogie Woogie Kid\, playing boogie piano music\nJune 25 – Bridge County Bluegrass Band\nJuly 9 – Toraigh\, playing Irish music\nJuly 23 – Ragtime Rick & The Chefs of Dixieland\nAug. 6  – Terra Brass Choir\nAug. 20 – North Coast Big Band\, performing toe-tapping tunes of the World War II era\n\nVerandah Concerts are sponsored by Fremont Federal Credit Union. Additional funding by Promedica Memorial Hospital. \nIf there is inclement weather\, concerts could be canceled. For updates\, visit rbhayes.org or call 800-998-7737. Updates also will be posted on the Hayes Presidential Library & Museums’ social media pages. \nHayes Presidential is America’s first presidential library and the forerunner of the federal presidential library system. It is partially funded by the state of Ohio and affiliated with the Ohio History Connection. Hayes Presidential is located at Spiegel Grove on Buckland Avenue.
URL:https://develop-review-hart-desti-07sbl4.dev02.devhart.com/event/verandah-concert-series-at-hayes-presidential-library-museums
LOCATION:Rutherford B. Hayes Presidential Library & Museums\, Spiegel Grove\, Fremont\, OH\, 43420\, United States
CATEGORIES:live music,outdoors
ATTACH;FMTTYPE=image/png:https://minio.devhart.com/destination-toledo-website/wp-content/uploads/2025/04/17111707/rutherford-hayes-library-16x9-header.png
END:VEVENT
BEGIN:VEVENT
DTSTART;TZID=America/Detroit:20250402T190000
DTEND;TZID=America/Detroit:20250402T220000
DTSTAMP:20260419T123816
CREATED:20250401T201253Z
LAST-MODIFIED:20250402T115011Z
UID:42193-1743620400-1743631200@develop-review-hart-desti-07sbl4.dev02.devhart.com
SUMMARY:The Tip Jar - Jazz Night
DESCRIPTION:Jazz Up Your Wednesday Nights!\nEscape the midweek slump at Maumee Bay Brewing Co.! Every Wednesday evening\, join the fun at The Tip Jar (in the old Mutz) for live jazz. Sip your favorite brews or cocktails while soaking in the sweet sounds of jazz. Whether you’re catching up with old friends or meeting new ones\, let the music set the perfect vibe. Clear your calendar—make Wednesday YOUR night for jazz!
URL:https://develop-review-hart-desti-07sbl4.dev02.devhart.com/event/the-tip-jar-jazz-night
LOCATION:Maumee Bay Brewing Co.\, 27 Broadway St\, Toledo\, OH\, 43604\, United States
CATEGORIES:Jazz,live music
ATTACH;FMTTYPE=image/png:https://minio.devhart.com/destination-toledo-website/wp-content/uploads/2025/04/17111712/maumee-bay-brew-tip-jar-4x3-event-image.png
END:VEVENT
END:VCALENDAR