BEGIN:VCALENDAR
VERSION:2.0
PRODID:-//Destination Toledo - ECPv6.15.17.1//NONSGML v1.0//EN
CALSCALE:GREGORIAN
METHOD:PUBLISH
X-WR-CALNAME:Destination Toledo
X-ORIGINAL-URL:https://develop-review-hart-desti-07sbl4.dev02.devhart.com
X-WR-CALDESC:Events for Destination Toledo
REFRESH-INTERVAL;VALUE=DURATION:PT1H
X-Robots-Tag:noindex
X-PUBLISHED-TTL:PT1H
BEGIN:VTIMEZONE
TZID:America/Detroit
BEGIN:DAYLIGHT
TZOFFSETFROM:-0500
TZOFFSETTO:-0400
TZNAME:EDT
DTSTART:20240310T070000
END:DAYLIGHT
BEGIN:STANDARD
TZOFFSETFROM:-0400
TZOFFSETTO:-0500
TZNAME:EST
DTSTART:20241103T060000
END:STANDARD
BEGIN:DAYLIGHT
TZOFFSETFROM:-0500
TZOFFSETTO:-0400
TZNAME:EDT
DTSTART:20250309T070000
END:DAYLIGHT
BEGIN:STANDARD
TZOFFSETFROM:-0400
TZOFFSETTO:-0500
TZNAME:EST
DTSTART:20251102T060000
END:STANDARD
BEGIN:DAYLIGHT
TZOFFSETFROM:-0500
TZOFFSETTO:-0400
TZNAME:EDT
DTSTART:20260308T070000
END:DAYLIGHT
BEGIN:STANDARD
TZOFFSETFROM:-0400
TZOFFSETTO:-0500
TZNAME:EST
DTSTART:20261101T060000
END:STANDARD
END:VTIMEZONE
BEGIN:VEVENT
DTSTART;TZID=America/Detroit:20250725T080000
DTEND;TZID=America/Detroit:20250725T170000
DTSTAMP:20260424T175850
CREATED:20250725T150347Z
LAST-MODIFIED:20250725T150347Z
UID:53710-1753430400-1753462800@develop-review-hart-desti-07sbl4.dev02.devhart.com
SUMMARY:Craft Beers\, Cocktails & Corks
DESCRIPTION:Ten breweries and three wineries will offer samples and a local mixologist will make 1920s cocktails during the seventh-annual Craft Beers\, Cocktails & Corks at Spiegel Grove on Saturday\, Aug 23. \nThe event is from 4 to 8 p.m. on the grounds of the Hayes Presidential Library & Museums. The VIP ticketed experience will begin at 3 p.m. \nCraft Beers\, Cocktails & Corks ticket holders can enjoy beer and wine samples\, as well as choose a handcrafted 1920s-themed cocktail by mixologist Dave Spridgon\, food truck fare\, live music by the Bridge County Bluegrass Band and raffles. \nVIP ticket holders get all of those benefits plus a VIP-only tent with seating\, hors d’oeuvres\, three drinks not included in the main event and a commemorative pint glass. The VIP tent will be open to VIP ticket holders throughout the evening. \nParticipating breweries are Brewing Green of Bowling Green\, Buffalo Rock of Waterville\, Double Wing Brewing of Cleveland\, Earnest Brew Works of Toledo\, Findlay Brewing Co. of Findlay\, Inside the Five of Sylvania\, Laird Aracade Brewery of Tiffin\, Oncore Brewing of Swanton\, Twin Oast Brewing of Catawba Island and UrbanWoody Brewery of Fostoria. \nParticipating wineries are Chateau Winery of Helena\, Copper Whale Winery of Clyde and White Stag Winery of Gibsonburg. \nFood trucks will be on site\, but is not included with admission price. \nSeating is limited\, so attendees are asked to bring lawn chairs and can spread out on the shady and expansive grounds. Attendees must be 21 years old or older and have valid ID. \nVIP tickets must be purchased by 11:59 p.m. Thursday\, Aug. 21\, and cost $100 per person. \nGeneral admission tickets purchased in advance of the event by 11:59 p.m. Thursday\, Aug. 21. \n\nBeer and wine only – $30 for non-members and $25 for Hayes Presidential members.\nBeer\, wine and one full cocktail – $40 for non-members and $35 for Hayes Presidential members.
URL:https://develop-review-hart-desti-07sbl4.dev02.devhart.com/event/craft-beers-cocktails-corks
LOCATION:Rutherford B. Hayes Presidential Library & Museums\, Spiegel Grove\, Fremont\, OH\, 43420\, United States
CATEGORIES:Beer,cocktails,live music,wine
ATTACH;FMTTYPE=image/png:https://minio.devhart.com/destination-toledo-website/wp-content/uploads/2025/07/17110412/Rutherford-Hayes-museum-4x3-event-image.png
END:VEVENT
BEGIN:VEVENT
DTSTART;TZID=America/Detroit:20250725T140000
DTEND;TZID=America/Detroit:20250725T220000
DTSTAMP:20260424T175850
CREATED:20250325T153709Z
LAST-MODIFIED:20250513T174700Z
UID:39855-1753452000-1753480800@develop-review-hart-desti-07sbl4.dev02.devhart.com
SUMMARY:Dylan Scott at the NWO Rib Off
DESCRIPTION:Get ready for Dylan Scott and special opener Dylan Schneider as they join us for Country Weekend at the Northwest Ohio Rib Off On Friday\, July 25! Featuring mouth-watering ribs\, live country music\, and exciting competitions taking place at the Lucas County Fairgrounds. Gates open at 2 p.m. and the concert starts at 8 p.m.\n\nGet your tickets now at Ticketmaster.com or The Huntington Center Box Office\n\n· General admission: $25 in advance\, $30 at the gate (while supplies last)· General admission seating: $65\, advanced ticket sales only· VIP tickets (including stage front view\, meal\, VIP bar): $150\, advanced ticket sales only\n\nDylan Scott\, a powerhouse vocalist and heartfelt songwriter has earned ACM nominations\, four No. 1 radio hits like “My Girl” and “Can’t Have Mine\,” and a GMA Dove Award for “Good Morning Mercy.” Meanwhile\, Dylan Schneider is a rising star shaping the future of country music\, with his debut album Puzzled delivering hits including “Ain’t Missing You” and “Better Than You Left Me.”
URL:https://develop-review-hart-desti-07sbl4.dev02.devhart.com/event/dylan-scott-at-the-nwo-rib-off
LOCATION:Lucas County Fairgrounds\, 1406 Key St\, Maumee\, OH\, 43537\, United States
CATEGORIES:concert,country music,food,live music
ATTACH;FMTTYPE=image/png:https://minio.devhart.com/destination-toledo-website/wp-content/uploads/2025/03/17111830/rib-off-4x3-event-image.png
END:VEVENT
BEGIN:VEVENT
DTSTART;TZID=America/Detroit:20250725T180000
DTEND;TZID=America/Detroit:20250725T210000
DTSTAMP:20260424T175850
CREATED:20250424T171431Z
LAST-MODIFIED:20250424T171431Z
UID:51546-1753466400-1753477200@develop-review-hart-desti-07sbl4.dev02.devhart.com
SUMMARY:Party in the Park | The Skittlebots
DESCRIPTION:Promenade Park\, Fridays\, 6:00 p.m. from May 30 – August 29 \n“Party in the Park” returns to Downtown Toledo\, with free summer concerts every Friday Night! \n\nMay 30: Zack Attack Band with opener Trip-letters\nJune 6: Beef Carvers with opener The 25s\nJune 13: The Grape Smugglers & Hot Air Balloon Glow with opener Miser Vossen\nJune 20: Distant Cousinz with opener Wall Music\nJune 27: North of Nashville with opener J.T. Hayden\nJuly 4: Toledo fireworks show\nJuly 11: Arctic Clam with opener Nikki D and the Sisters of Thunder\nJuly 18: The Day Drinkers with opener Funk Factory\nJuly 25: The Skittlebots with opener Daisy Chain\nAug. 1: Jeep Fest\nAug. 8: Greggie and the Jets with opener Venyx\, and Elton John tribute band\nAug. 15: Toledo Pride\nAug. 22: “’90s R&B Jam” hosted Big Trice with Dj Lyte N Rod\, Wall Music and Friends\nAug. 29: The Ultimate Garth Brooks Tribute Band & Drone Show with opener Ashley Martin Band\n\n 
URL:https://develop-review-hart-desti-07sbl4.dev02.devhart.com/event/party-in-the-park-the-skittlebots
LOCATION:Toledo Promenade Park\, 400 Water St\, Toledo\, 43604
CATEGORIES:concert,entertainment,family friendly,live music
ATTACH;FMTTYPE=image/png:https://minio.devhart.com/destination-toledo-website/wp-content/uploads/2025/04/17111430/party-in-the-park-4x3-event-image.png
END:VEVENT
BEGIN:VEVENT
DTSTART;TZID=America/Detroit:20250725T180000
DTEND;TZID=America/Detroit:20250725T220000
DTSTAMP:20260424T175850
CREATED:20250724T142707Z
LAST-MODIFIED:20250724T142839Z
UID:53651-1753466400-1753480800@develop-review-hart-desti-07sbl4.dev02.devhart.com
SUMMARY:Blitzen in July | Thrift & Sip
DESCRIPTION:Every year Blitzen stops by for the summer\, and they make sure to celebrate in a big way! This year\, you can get your summer fix of Blitzen at their Blitzen in July party on Friday\, July 25th! Our Blitzen brew will be joined by live music\, featuring Live Roots\, the big man from the North Pole & a special evening edition of our Thrift & Sip Vintage Market! \nWander the MBBC Event Warehouse & Hops Garden while sipping on Blitzen and shopping second-hand clothing\, art\, decor & more! \nThis is an evening you won’t want to miss\, so mark your calendar now! \nDogs are welcome to this event but must be on leashes.
URL:https://develop-review-hart-desti-07sbl4.dev02.devhart.com/event/blitzen-in-july-thrift-sip
LOCATION:Maumee Bay Brewing Co.\, 27 Broadway St\, Toledo\, OH\, 43604\, United States
CATEGORIES:Beer,family friendly,holiday,live music
ATTACH;FMTTYPE=image/png:https://minio.devhart.com/destination-toledo-website/wp-content/uploads/2025/07/17110453/blitzen-in-July-4x3-event-image.png
END:VEVENT
END:VCALENDAR