BEGIN:VCALENDAR
VERSION:2.0
PRODID:-//Destination Toledo - ECPv6.15.17.1//NONSGML v1.0//EN
CALSCALE:GREGORIAN
METHOD:PUBLISH
X-WR-CALNAME:Destination Toledo
X-ORIGINAL-URL:https://develop-review-hart-desti-07sbl4.dev02.devhart.com
X-WR-CALDESC:Events for Destination Toledo
REFRESH-INTERVAL;VALUE=DURATION:PT1H
X-Robots-Tag:noindex
X-PUBLISHED-TTL:PT1H
BEGIN:VTIMEZONE
TZID:America/Detroit
BEGIN:DAYLIGHT
TZOFFSETFROM:-0500
TZOFFSETTO:-0400
TZNAME:EDT
DTSTART:20240310T070000
END:DAYLIGHT
BEGIN:STANDARD
TZOFFSETFROM:-0400
TZOFFSETTO:-0500
TZNAME:EST
DTSTART:20241103T060000
END:STANDARD
BEGIN:DAYLIGHT
TZOFFSETFROM:-0500
TZOFFSETTO:-0400
TZNAME:EDT
DTSTART:20250309T070000
END:DAYLIGHT
BEGIN:STANDARD
TZOFFSETFROM:-0400
TZOFFSETTO:-0500
TZNAME:EST
DTSTART:20251102T060000
END:STANDARD
BEGIN:DAYLIGHT
TZOFFSETFROM:-0500
TZOFFSETTO:-0400
TZNAME:EDT
DTSTART:20260308T070000
END:DAYLIGHT
BEGIN:STANDARD
TZOFFSETFROM:-0400
TZOFFSETTO:-0500
TZNAME:EST
DTSTART:20261101T060000
END:STANDARD
END:VTIMEZONE
BEGIN:VEVENT
DTSTART;TZID=America/Detroit:20250711T150000
DTEND;TZID=America/Detroit:20250711T220000
DTSTAMP:20260425T151342
CREATED:20250703T173103Z
LAST-MODIFIED:20250703T173411Z
UID:53275-1752246000-1752271200@develop-review-hart-desti-07sbl4.dev02.devhart.com
SUMMARY:Brewed in the 419
DESCRIPTION:Don’t miss out on the ultimate Summer Celebration at Packo’s at the Park!\n\nYou can expect to sip on incredible local brews\, savor mouthwatering bites\, play exciting games\, listen to live music\, and win fantastic prizes at Tony Packo’s 2nd Annual Brewed in 419 Street Party.\n\nFEATURING CRAFT BREWS FROM:Earnest Brew WorksInside the FiveMaumee Bay Brewing CompanyQuenched and Tempered and\, more!
URL:https://develop-review-hart-desti-07sbl4.dev02.devhart.com/event/brewed-in-the-419
LOCATION:Packo’s at the Park Event Center\, 7 S Superior St\, Toledo\, O\, 43604\, United States
CATEGORIES:Beer,food,live music
ATTACH;FMTTYPE=image/png:https://minio.devhart.com/destination-toledo-website/wp-content/uploads/2025/07/17110631/brewed-in-the-419-2025-4x3-event-image-Recovered.png
END:VEVENT
BEGIN:VEVENT
DTSTART;TZID=America/Detroit:20250711T180000
DTEND;TZID=America/Detroit:20250711T203000
DTSTAMP:20260425T151342
CREATED:20250710T211213Z
LAST-MODIFIED:20250710T211235Z
UID:53453-1752256800-1752265800@develop-review-hart-desti-07sbl4.dev02.devhart.com
SUMMARY:Toledo Jeep Fest Hype Bash | Toledo Speedway
DESCRIPTION:Get ready\, Jeep enthusiasts! The Toledo Jeep Fest Hype Bash is rolling into town on Friday\, July 11\, from 6 p.m. to 8:30 p.m. at Toledo Speedway\, located at 5639 Benore Road\, Toledo\, OH 43612. \nThis high-energy\, family-friendly event is the perfect prelude to the main festival in August. Here’s what you can look forward to: \nToledo Speedway Event Highlights \n\n8:30 p.m. Free Laps on the Racetrack: Coordinated by the Glass City Crawlers.\nRTI Ramp & Balance Blocks & Junk Yard: Test your Jeep’s articulation and balance on specialized equipment.\nVehicle Smashin’ Opportunities: Take part in or watch thrilling vehicle-smashing demonstrations.\nNew TJF Merchandise: Be among the first to purchase the latest Toledo Jeep Fest gear.\nMusic Entertainment: by 93.5 WRQN.\nVendors: Explore a variety of local vendors offering Jeep-related products and services.\nFood & Spirits: Savor delicious offerings from a selection of food trucks.\nRaffle Giveaways: Enter for a chance to win exciting prizes.
URL:https://develop-review-hart-desti-07sbl4.dev02.devhart.com/event/toledo-jeep-fest-hype-bash-toledo-speedway
LOCATION:Toledo Speedway\, 5639 Benore Rd\, Toledo\, OH\, 43612\, United States
CATEGORIES:Automobiles,family friendly,food,outdoors,racing
ATTACH;FMTTYPE=image/png:https://minio.devhart.com/destination-toledo-website/wp-content/uploads/2025/07/17110551/jeep-fest-4x3-event-image-Recovered.png
END:VEVENT
END:VCALENDAR