BEGIN:VCALENDAR
VERSION:2.0
PRODID:-//Destination Toledo - ECPv6.15.17.1//NONSGML v1.0//EN
CALSCALE:GREGORIAN
METHOD:PUBLISH
X-WR-CALNAME:Destination Toledo
X-ORIGINAL-URL:https://develop-review-hart-desti-07sbl4.dev02.devhart.com
X-WR-CALDESC:Events for Destination Toledo
REFRESH-INTERVAL;VALUE=DURATION:PT1H
X-Robots-Tag:noindex
X-PUBLISHED-TTL:PT1H
BEGIN:VTIMEZONE
TZID:America/Detroit
BEGIN:DAYLIGHT
TZOFFSETFROM:-0500
TZOFFSETTO:-0400
TZNAME:EDT
DTSTART:20240310T070000
END:DAYLIGHT
BEGIN:STANDARD
TZOFFSETFROM:-0400
TZOFFSETTO:-0500
TZNAME:EST
DTSTART:20241103T060000
END:STANDARD
BEGIN:DAYLIGHT
TZOFFSETFROM:-0500
TZOFFSETTO:-0400
TZNAME:EDT
DTSTART:20250309T070000
END:DAYLIGHT
BEGIN:STANDARD
TZOFFSETFROM:-0400
TZOFFSETTO:-0500
TZNAME:EST
DTSTART:20251102T060000
END:STANDARD
BEGIN:DAYLIGHT
TZOFFSETFROM:-0500
TZOFFSETTO:-0400
TZNAME:EDT
DTSTART:20260308T070000
END:DAYLIGHT
BEGIN:STANDARD
TZOFFSETFROM:-0400
TZOFFSETTO:-0500
TZNAME:EST
DTSTART:20261101T060000
END:STANDARD
END:VTIMEZONE
BEGIN:VEVENT
DTSTART;TZID=America/Detroit:20250507T180000
DTEND;TZID=America/Detroit:20250507T200000
DTSTAMP:20260423T044714
CREATED:20250424T195016Z
LAST-MODIFIED:20250424T195016Z
UID:51567-1746640800-1746648000@develop-review-hart-desti-07sbl4.dev02.devhart.com
SUMMARY:The Art of Charcuterie - Hosted by Chef Christopher Miller
DESCRIPTION:Learn to design and build your own charcuterie board with Chef Christopher Miller at Urban Pine Winery. \nPlease arrive promptly as the class will begin at 6pm.  Additional food and wine may be purchased.  This class includes a glass of wine and the items to build your charcuterie.  Tickets cost $45 each and are non-refundable.
URL:https://develop-review-hart-desti-07sbl4.dev02.devhart.com/event/the-art-of-charcuterie-hosted-by-chef-christopher-miller
LOCATION:Urban Pine Winery\, 3415 Briarfield Blvd.\, Maumee\, OH\, 43537\, United States
CATEGORIES:educational,food,wine
ATTACH;FMTTYPE=image/png:https://minio.devhart.com/destination-toledo-website/wp-content/uploads/2025/04/17111338/urban-pine-charcuterie-4x3-event-image.png
END:VEVENT
BEGIN:VEVENT
DTSTART;TZID=America/Detroit:20250507T193500
DTEND;TZID=America/Detroit:20250507T213500
DTSTAMP:20260423T044714
CREATED:20250505T124848Z
LAST-MODIFIED:20250505T130701Z
UID:51952-1746646500-1746653700@develop-review-hart-desti-07sbl4.dev02.devhart.com
SUMMARY:Toledo Walleye – Kelly Cup Playoffs – Watch Party: Division Finals Game 4
DESCRIPTION:Fleetwood’s Tap Room is the official headquarters for Walleye playoff watch parties! Join your friends to watch the Walleye during all games (home and away!) of the Kelly Cup playoffs. \nIn addition to showing the games on every TV and the large projector screen\, we’ll have: \n\nLive DJ spinning your favorite game tunes*\nSpecial giveaways and raffle prizes\nAppearances from Spike or CatTrick*\nFood & drink available for purchase (including a specialty drink or two!)\nAnd more!\n\nFleetwood’s Tap Room doors will open at 5 p.m. \n*denotes activities Fleetwood’s will have during away games only.
URL:https://develop-review-hart-desti-07sbl4.dev02.devhart.com/event/toledo-walleye-kelly-cup-playoffs-watch-party-division-finals
LOCATION:OH
CATEGORIES:entertainment,food,sports
ATTACH;FMTTYPE=image/png:https://minio.devhart.com/destination-toledo-website/wp-content/uploads/2025/04/17111307/fleetwoodwatchpartyplayoffs20254x3-event-image.png
END:VEVENT
END:VCALENDAR