BEGIN:VCALENDAR
VERSION:2.0
PRODID:-//Destination Toledo - ECPv6.15.17.1//NONSGML v1.0//EN
CALSCALE:GREGORIAN
METHOD:PUBLISH
X-WR-CALNAME:Destination Toledo
X-ORIGINAL-URL:https://develop-review-hart-desti-07sbl4.dev02.devhart.com
X-WR-CALDESC:Events for Destination Toledo
REFRESH-INTERVAL;VALUE=DURATION:PT1H
X-Robots-Tag:noindex
X-PUBLISHED-TTL:PT1H
BEGIN:VTIMEZONE
TZID:America/Detroit
BEGIN:DAYLIGHT
TZOFFSETFROM:-0500
TZOFFSETTO:-0400
TZNAME:EDT
DTSTART:20240310T070000
END:DAYLIGHT
BEGIN:STANDARD
TZOFFSETFROM:-0400
TZOFFSETTO:-0500
TZNAME:EST
DTSTART:20241103T060000
END:STANDARD
BEGIN:DAYLIGHT
TZOFFSETFROM:-0500
TZOFFSETTO:-0400
TZNAME:EDT
DTSTART:20250309T070000
END:DAYLIGHT
BEGIN:STANDARD
TZOFFSETFROM:-0400
TZOFFSETTO:-0500
TZNAME:EST
DTSTART:20251102T060000
END:STANDARD
BEGIN:DAYLIGHT
TZOFFSETFROM:-0500
TZOFFSETTO:-0400
TZNAME:EDT
DTSTART:20260308T070000
END:DAYLIGHT
BEGIN:STANDARD
TZOFFSETFROM:-0400
TZOFFSETTO:-0500
TZNAME:EST
DTSTART:20261101T060000
END:STANDARD
BEGIN:DAYLIGHT
TZOFFSETFROM:-0500
TZOFFSETTO:-0400
TZNAME:EDT
DTSTART:20270314T070000
END:DAYLIGHT
BEGIN:STANDARD
TZOFFSETFROM:-0400
TZOFFSETTO:-0500
TZNAME:EST
DTSTART:20271107T060000
END:STANDARD
END:VTIMEZONE
BEGIN:VEVENT
DTSTART;TZID=America/Detroit:20250928T120000
DTEND;TZID=America/Detroit:20250928T140000
DTSTAMP:20260421T190243
CREATED:20250923T182605Z
LAST-MODIFIED:20250923T182605Z
UID:54760-1759060800-1759068000@develop-review-hart-desti-07sbl4.dev02.devhart.com
SUMMARY:Boozy Brunch Bingo
DESCRIPTION:Spend your Sunday at Toledo Spirits’ Bellwether with Boozy Brunch Bingo! From 11 AM – 3 PM\, enjoy craft cocktails and delicious brunch dishes\, then join the fun and test your luck during Bingo from Noon – 2 PM. With exciting prizes\, a lively atmosphere\, and a family-friendly vibe\, this event is perfect for friends\, family\, and anyone looking to wrap up the weekend with food\, drinks\, and friendly competition. Location: Bellwether at Toledo Spirits\, 1301 N Summit St\, Toledo.
URL:https://develop-review-hart-desti-07sbl4.dev02.devhart.com/event/boozy-brunch-bingo
LOCATION:Toledo Spirits Company\, 1301 N Summit St\, Toledo\, OH\, 43604\, United States
CATEGORIES:cocktails,entertainment
ATTACH;FMTTYPE=image/png:https://minio.devhart.com/destination-toledo-website/wp-content/uploads/2025/09/17105824/toledo-spirits-boozy-brunch-bingo-4x3-event-image.png
END:VEVENT
BEGIN:VEVENT
DTSTART;TZID=America/Detroit:20260215T170000
DTEND;TZID=America/Detroit:20260215T193000
DTSTAMP:20260421T190243
CREATED:20251013T172453Z
LAST-MODIFIED:20251013T172453Z
UID:55300-1771174800-1771183800@develop-review-hart-desti-07sbl4.dev02.devhart.com
SUMMARY:Toledo Walleye vs. Fort Wayne Komets
DESCRIPTION:Be part of the excitement of Toledo Walleye hockey season at the Huntington Center! They’re back on the ice Sunday\, Feb. 15 with a visit from their conference rivals\, the Fort Wayne Komets. \nBuilding on last season’s successful campaign\, the Walleye look to bring the ECHL’s Kelly Cup to Toledo and continue their league leading home sell-out streak. \nDOORS OPEN: 4:00 p.m.PUCK DROP: 5:15 p.m. \nSpecial Promotion: We Love Our FINatics! This weekend is all about the best fans in the ECHL\, the FINatics! The Walleye are showing their appreciation with a special FINatics jersey and post-game open skate.
URL:https://develop-review-hart-desti-07sbl4.dev02.devhart.com/event/toledo-walleye-vs-fort-wayne-komets-5
LOCATION:Huntington Center\, 500 Jefferson Ave\, Toledo\, OH\, 43604\, United States
CATEGORIES:hockey,sports
ATTACH;FMTTYPE=image/jpeg:https://minio.devhart.com/destination-toledo-website/wp-content/uploads/2024/12/18102750/Walleye-Events-Graphic.jpg
END:VEVENT
BEGIN:VEVENT
DTSTART;TZID=America/Detroit:20251012T183000
DTEND;TZID=America/Detroit:20251012T210000
DTSTAMP:20260421T190243
CREATED:20251006T152518Z
LAST-MODIFIED:20251006T152518Z
UID:55073-1760293800-1760302800@develop-review-hart-desti-07sbl4.dev02.devhart.com
SUMMARY:Sunday Night Comedy at Home Slice Pizza
DESCRIPTION:Every Sunday | Seating at 6:30 PM | Show 7:00–8:45 PM\nEnd your weekend with a slice of laughter at Home Slice Pizza during Sunday Night Comedy\, presented by Crumbley Comedy. This free weekly showcase features a rotating lineup of top touring comedians\, regional talent\, and local rising stars — all served up in one of Toledo’s favorite hangouts. \nGrab a pizza\, order a drink\, and settle in for a night of nonstop laughs in a laid-back\, welcoming atmosphere. With delicious food\, great company\, and hilarious stand-up\, Sunday nights at Home Slice are the perfect way to wrap up your weekend. \nNo cover — just pizza\, pints\, and punchlines every Sunday night!
URL:https://develop-review-hart-desti-07sbl4.dev02.devhart.com/event/sunday-night-comedy-at-home-slice-pizza
LOCATION:Home Slice Pizza\, 28 S Saint Clair St\, Toledo\, 43604\, United States
CATEGORIES:comedy,entertainment
ATTACH;FMTTYPE=image/png:https://minio.devhart.com/destination-toledo-website/wp-content/uploads/2025/10/17105647/crumbley-comedy-sunday-home-slice-pizza-4x3-event-image.png
END:VEVENT
END:VCALENDAR