BEGIN:VCALENDAR
VERSION:2.0
PRODID:-//Destination Toledo - ECPv6.15.17.1//NONSGML v1.0//EN
CALSCALE:GREGORIAN
METHOD:PUBLISH
X-WR-CALNAME:Destination Toledo
X-ORIGINAL-URL:https://develop-review-hart-desti-07sbl4.dev02.devhart.com
X-WR-CALDESC:Events for Destination Toledo
REFRESH-INTERVAL;VALUE=DURATION:PT1H
X-Robots-Tag:noindex
X-PUBLISHED-TTL:PT1H
BEGIN:VTIMEZONE
TZID:America/Detroit
BEGIN:DAYLIGHT
TZOFFSETFROM:-0500
TZOFFSETTO:-0400
TZNAME:EDT
DTSTART:20240310T070000
END:DAYLIGHT
BEGIN:STANDARD
TZOFFSETFROM:-0400
TZOFFSETTO:-0500
TZNAME:EST
DTSTART:20241103T060000
END:STANDARD
BEGIN:DAYLIGHT
TZOFFSETFROM:-0500
TZOFFSETTO:-0400
TZNAME:EDT
DTSTART:20250309T070000
END:DAYLIGHT
BEGIN:STANDARD
TZOFFSETFROM:-0400
TZOFFSETTO:-0500
TZNAME:EST
DTSTART:20251102T060000
END:STANDARD
BEGIN:DAYLIGHT
TZOFFSETFROM:-0500
TZOFFSETTO:-0400
TZNAME:EDT
DTSTART:20260308T070000
END:DAYLIGHT
BEGIN:STANDARD
TZOFFSETFROM:-0400
TZOFFSETTO:-0500
TZNAME:EST
DTSTART:20261101T060000
END:STANDARD
END:VTIMEZONE
BEGIN:VEVENT
DTSTART;TZID=America/Detroit:20250715T000000
DTEND;TZID=America/Detroit:20250715T235959
DTSTAMP:20260421T162451
CREATED:20250715T123451Z
LAST-MODIFIED:20250715T123632Z
UID:53507-1752537600-1752623999@develop-review-hart-desti-07sbl4.dev02.devhart.com
SUMMARY:Infinite Images: The Art of Algorithms
DESCRIPTION:Explore the intersection of art and technology in Infinite Images: The Art of Algorithms. This exhibition highlights the innovative ways artists use code\, systems\, and generative processes to create visually striking works that challenge how we define creativity. From early experiments in computer art to today’s algorithm-driven visuals\, discover how artists are reimagining image-making in the digital age. \nDon’t miss this rare opportunity; reserve your exhibition tickets today.
URL:https://develop-review-hart-desti-07sbl4.dev02.devhart.com/event/infinite-images-the-art-of-algorithms
LOCATION:Toledo Museum of Art\, 2445 Monroe St\, Toledo\, OH\, 43620\, United States
CATEGORIES:art,educational
ATTACH;FMTTYPE=image/png:https://minio.devhart.com/destination-toledo-website/wp-content/uploads/2025/07/17110539/Infinite-Images-tma-exhibit-4x3-event-image.png
END:VEVENT
BEGIN:VEVENT
DTSTART;TZID=America/Detroit:20250920T100000
DTEND;TZID=America/Detroit:20250920T123000
DTSTAMP:20260421T162451
CREATED:20250911T155559Z
LAST-MODIFIED:20250911T164841Z
UID:54487-1758362400-1758371400@develop-review-hart-desti-07sbl4.dev02.devhart.com
SUMMARY:Dark Waters: Curator Tours
DESCRIPTION:Step beyond the exhibit labels with an exclusive guided tour of Dark Waters: True Crime & Mystery on the Great Lakes. Led by the exhibit’s curator\, Director Emeritus Chris Gillcrist\, these intimate tours uncover untold stories\, chilling details\, and behind-the-scenes insights into how the exhibit came together.\nExplore all seven stories featured in the gallery while discovering additional accounts\, hidden details\, and deeper context behind the artifacts on display. Perfect for both history buffs and true crime fans\, this unique experience offers a rare chance to dive deeper into our latest temporary exhibit.\nDark Waters is recommended for ages 13 and up.\n\nGet tickets: https://darkwaterstours.eventbrite.com \n\nTour Dates & Times Saturday\, September 2010:15–11:15 AM | 11:30 AM–12:30 PM\n Saturday\, October 2510:15–11:15 AM | 11:30 AM–12:30 PM\n Saturday\, November 1 (Closed-Door Experience)10:15–11:15 AM – The final opportunity to see the exhibit before it closes.\n Tickets$20 NMGL Members | $40 Non-Members(Museum admission included. Registration required.)\nRegister now: https://darkwaterstours.eventbrite.com\nAll tours take place in the temporary exhibit gallery at the National Museum of the Great Lakes.
URL:https://develop-review-hart-desti-07sbl4.dev02.devhart.com/event/dark-waters-curator-tours
LOCATION:National Museum of the Great Lakes\, 1701 Front St\, Toledo\, OH\, 43605\, United States
CATEGORIES:educational,history
ATTACH;FMTTYPE=image/png:https://minio.devhart.com/destination-toledo-website/wp-content/uploads/2025/09/17105937/nmgl-dark-waters-4x3-event-image.png
END:VEVENT
BEGIN:VEVENT
DTSTART;TZID=America/Detroit:20251025T100000
DTEND;TZID=America/Detroit:20251025T170000
DTSTAMP:20260421T162451
CREATED:20250725T145530Z
LAST-MODIFIED:20250725T145530Z
UID:53707-1761386400-1761411600@develop-review-hart-desti-07sbl4.dev02.devhart.com
SUMMARY:Civil War Winter Camp
DESCRIPTION:A military band performing while on horseback is the newest addition to the Hayes Presidential Library & Museums’ annual Civil War Winter Camp taking place Saturday\, Oct. 25\, at Spiegel Grove. \nCivil War Winter Camp is from 10 a.m. to 5 p.m. It focuses on life in a winter camp like those of President Rutherford B. Hayes’ regiment\, the 23rd Ohio Volunteer Infantry\, and takes participants inside the camp to see aspects of how soldiers lived during the war. It includes: \n\nPerformance by the 2ndCavalry Brigade Band\, a brass band that plays while mounted on horseback\nTours of the winter camp with Civil War reenactors\nDemonstration by the 5th U.S. Colored Troops\nKids’ event\nTalk on President Hayes’ Civil War service\nRifle infantry demonstrations\n73rd Regimental Band performance\nReenactors portraying Civil War veterans\nFree Model-T rides by Firelands Timeless Ts. These are being offered because veterans would have driven Model-Ts to their reunions.\n\nRoots Poultry’s food truck and Maumee Valley Heritage Corridor’s root beer stand will sell lunch and snacks. Refreshments are not included with admission. \nCamp tours last about 50 minutes and are outdoors. Please dress for the weather. Paid tickets are required for camp tours. Tickets for non-members are $10 ages 13 and older\, $7 ages 6-12 and free for ages 5 and younger. Tickets for Hayes Presidential Library & Museums members are $8 for ages 13 and older\, $5 for ages 6-12 and free for ages 5 and younger. All tickets are non-refundable.
URL:https://develop-review-hart-desti-07sbl4.dev02.devhart.com/event/civil-war-winter-camp
LOCATION:Rutherford B. Hayes Presidential Library & Museums\, Spiegel Grove\, Fremont\, OH\, 43420\, United States
CATEGORIES:educational,history,nature,outdoors
ATTACH;FMTTYPE=image/png:https://minio.devhart.com/destination-toledo-website/wp-content/uploads/2025/07/17110412/Rutherford-Hayes-museum-4x3-event-image.png
END:VEVENT
BEGIN:VEVENT
DTSTART;TZID=America/Detroit:20251024T100000
DTEND;TZID=America/Detroit:20251024T170000
DTSTAMP:20260421T162451
CREATED:20251024T221408Z
LAST-MODIFIED:20251024T221408Z
UID:55585-1761300000-1761325200@develop-review-hart-desti-07sbl4.dev02.devhart.com
SUMMARY:Spooky Science
DESCRIPTION:Who you gonna call for the spookiest\, creepiest\, scariest\, most scientific Halloween? Imagination Station! \nYou’ll have a frighteningly good time as you experience new activities that send chills down your spine\, engulf your senses\, and leave you on the edge of your seat. Don’t worry\, they’ll have more treats than tricks…. Or will they? \nActivities: \n\n\nDo you boo-lieve in ghosts? Try to catch all of our Ghost Bubbles before they float away… \n\n\nCome face-to-face with The Blob! And then make your own \n\n\nBuild your own monster and watch it come to life in our LEGO® Laboratory \n\n\nEat a cricket…but only if you dare
URL:https://develop-review-hart-desti-07sbl4.dev02.devhart.com/event/spooky-science
LOCATION:Imagination Station\, 1 Discovery Way\, Toledo\, OH\, 43604
CATEGORIES:educational,family friendly,holiday
ATTACH;FMTTYPE=image/png:https://minio.devhart.com/destination-toledo-website/wp-content/uploads/2025/10/17105401/spooky-science-imagination-station-IS-4x3-event-image.png
END:VEVENT
BEGIN:VEVENT
DTSTART;TZID=America/Detroit:20251017T190000
DTEND;TZID=America/Detroit:20251017T210000
DTSTAMP:20260421T162451
CREATED:20250904T172732Z
LAST-MODIFIED:20250918T164935Z
UID:54397-1760727600-1760734800@develop-review-hart-desti-07sbl4.dev02.devhart.com
SUMMARY:Garrison Ghost Walk
DESCRIPTION:Each summer during Fort Meigs’ living history encampments\, strange lights and sounds\, along with the appearance of soldiers long dead have been reported by staff\, volunteers\, and visiting re-enactors. These phenomenal occurrences have never been accounted for or explained… \nGuided by lantern light\, experience ghostly tales around campfires within the walls of this historic fortification. \nCost: \nAdults 18+ – $17\nSeniors (60+): $15\nChildren (6-17): $12* \nNote: This program is not suitable for children 5 and under \nAdditional Notes: \n– Advanced tickets to this event are required. Please have your email confirmation with you when you arrive. Tickets are not sold at the door.\n– This event is not appropriate for children age 5 and under.\n– Doors open at 6:30pm. Please arrive 10-15 minutes prior to your tour time. Tours leave promptly every 15 minutes.\n– Tour lasts approximately 90 minutes\n– Dress for the weather! Ghost Walk takes place outdoors\, rain or shine\, and over varying terrain. If severe weather develops\, the event may be postponed or cancelled. Those affected by any changes will be notified the day of the event and issued a refund.\n-Flashlights and other illuminating devices are not permitted.\n– No refunds (unless the event is cancelled) or exchanges\n– The 8:30pm\, 8:45pm and 9:00pm tours are reserved for Adults 18+ & Seniors\, 60+. \n* Rain contingency plans are in effect. If severe weather develops\, event planners may postpone or cancel an evening’s activities. Those affected by any changes will be notified by phone on the day of the event. \nThis event is a fundraiser for the Old Northwest Military History Association (ONMHA). ONMHA was organized in 1993 to support Fort Meigs Historic Site. The 501(c)3 non-profit volunteer organization assists Fort Meigs staff with group tours\, special events\, and other historical activities. Additionally\, ONMHA helps create\, purchase\, and maintain the historical reproductions used at Fort Meigs and co-sponsors and coordinates living history events at the historical site. Members of the organization also travel to other War of 1812 sites around North America in order to participate in reenactments and events\, spreading their knowledge to the public. Visit www.onmha.org for more information.
URL:https://develop-review-hart-desti-07sbl4.dev02.devhart.com/event/garrison-ghost-walk
LOCATION:Fort Meigs: Ohio’s War of 1812 Battlefield\, 29100 W. River Rd.\, Perrysburg\, OH\, 43551\, United States
CATEGORIES:history,holiday,outdoors
ATTACH;FMTTYPE=image/jpeg:https://minio.devhart.com/destination-toledo-website/wp-content/uploads/2025/09/17105846/ggw-event-page-banner-1.jpg
END:VEVENT
BEGIN:VEVENT
DTSTART;TZID=America/Detroit:20251025T200000
DTEND;TZID=America/Detroit:20251025T213000
DTSTAMP:20260421T162451
CREATED:20250923T183733Z
LAST-MODIFIED:20250923T183733Z
UID:54765-1761422400-1761427800@develop-review-hart-desti-07sbl4.dev02.devhart.com
SUMMARY:Flashlight Tour: Art in the Dark
DESCRIPTION:Discover the Toledo Museum of Art like never before with Flashlight Tour: Art in the Dark. This unique\, after-hours experience invites visitors to explore the galleries in a whole new light\, guided by an expert TMA docent. Participants will receive a complimentary flashlight to use during the tour and take home as a souvenir. Advance registration is required. Ticket prices are $20 for members\, $30 for non-members\, and $10 for youth (ages 5–17)\, with youth participants needing to be accompanied by a registered adult. Don’t miss this fun\, spooky\, and unforgettable museum adventure!
URL:https://develop-review-hart-desti-07sbl4.dev02.devhart.com/event/flashlight-tour-art-in-the-dark
LOCATION:Toledo Museum of Art\, 2445 Monroe St\, Toledo\, OH\, 43620\, United States
CATEGORIES:art,educational,family friendly
ATTACH;FMTTYPE=image/png:https://minio.devhart.com/destination-toledo-website/wp-content/uploads/2025/09/17105823/toledo-museum-of-art-flashlight-tour-4x3-event-image.png
END:VEVENT
END:VCALENDAR