BEGIN:VCALENDAR
VERSION:2.0
PRODID:-//Destination Toledo - ECPv6.15.17.1//NONSGML v1.0//EN
CALSCALE:GREGORIAN
METHOD:PUBLISH
X-WR-CALNAME:Destination Toledo
X-ORIGINAL-URL:https://develop-review-hart-desti-07sbl4.dev02.devhart.com
X-WR-CALDESC:Events for Destination Toledo
REFRESH-INTERVAL;VALUE=DURATION:PT1H
X-Robots-Tag:noindex
X-PUBLISHED-TTL:PT1H
BEGIN:VTIMEZONE
TZID:America/Detroit
BEGIN:DAYLIGHT
TZOFFSETFROM:-0500
TZOFFSETTO:-0400
TZNAME:EDT
DTSTART:20240310T070000
END:DAYLIGHT
BEGIN:STANDARD
TZOFFSETFROM:-0400
TZOFFSETTO:-0500
TZNAME:EST
DTSTART:20241103T060000
END:STANDARD
BEGIN:DAYLIGHT
TZOFFSETFROM:-0500
TZOFFSETTO:-0400
TZNAME:EDT
DTSTART:20250309T070000
END:DAYLIGHT
BEGIN:STANDARD
TZOFFSETFROM:-0400
TZOFFSETTO:-0500
TZNAME:EST
DTSTART:20251102T060000
END:STANDARD
BEGIN:DAYLIGHT
TZOFFSETFROM:-0500
TZOFFSETTO:-0400
TZNAME:EDT
DTSTART:20260308T070000
END:DAYLIGHT
BEGIN:STANDARD
TZOFFSETFROM:-0400
TZOFFSETTO:-0500
TZNAME:EST
DTSTART:20261101T060000
END:STANDARD
BEGIN:DAYLIGHT
TZOFFSETFROM:-0500
TZOFFSETTO:-0400
TZNAME:EDT
DTSTART:20270314T070000
END:DAYLIGHT
BEGIN:STANDARD
TZOFFSETFROM:-0400
TZOFFSETTO:-0500
TZNAME:EST
DTSTART:20271107T060000
END:STANDARD
END:VTIMEZONE
BEGIN:VEVENT
DTSTART;TZID=America/Detroit:20251030T000000
DTEND;TZID=America/Detroit:20260118T235959
DTSTAMP:20260421T155040
CREATED:20251030T213754Z
LAST-MODIFIED:20251030T213754Z
UID:55711-1761782400-1768780799@develop-review-hart-desti-07sbl4.dev02.devhart.com
SUMMARY:Radiance and Reverie: Jewels from the Collection of Neil Lane
DESCRIPTION:Step into a world where artistry and adornment meet at the Toledo Museum of Art. Radiance and Reverie: Jewels from the Collection of Neil Lane invites you to discover the exquisite craftsmanship and timeless beauty of jewelry from the personal collection of Neil Lane\, celebrated designer to the stars\, through January 18\, 2026. Each piece tells a story of glamour\, history\, and the enduring allure of wearable art. \nReserve your ticket today and experience these treasures up close. \nTicket Age Ranges \nUnless otherwise noted\, ticket categories are defined as follows: \n• Ages 0–4: Free\, no ticket required\n• Ages 5–17: Child ticket\n• Ages 18 and up: Adult ticket \nThese age ranges apply to events and exhibition tickets only. Programs such as classes and the Family Center may follow different guidelines. \nLearn more about the exhibit on the Toledo Museum of Art website. 
URL:https://develop-review-hart-desti-07sbl4.dev02.devhart.com/event/radiance-and-reverie-jewels-from-the-collection-of-neil-lane
LOCATION:Toledo Museum of Art\, 2445 Monroe St\, Toledo\, OH\, 43620\, United States
CATEGORIES:art,educational,museum
ATTACH;FMTTYPE=image/png:https://minio.devhart.com/destination-toledo-website/wp-content/uploads/2025/10/17105329/tma-exhibit-Radiance-and-Reverie-4x3-event-image.png
END:VEVENT
BEGIN:VEVENT
DTSTART;TZID=America/Detroit:20251101T160000
DTEND;TZID=America/Detroit:20251101T180000
DTSTAMP:20260421T155040
CREATED:20251028T191254Z
LAST-MODIFIED:20251028T191254Z
UID:55671-1762012800-1762020000@develop-review-hart-desti-07sbl4.dev02.devhart.com
SUMMARY:Toledo Walleye Opening Night Pregame Party
DESCRIPTION:Start hockey season with a bang at the Toledo Walleye Opening Night Pregame Party on Saturday\, November 1! Head to Hensville Park from 4–6 p.m. and celebrate before the puck drops with music\, games\, food\, and fun for fans of all ages.\nEnjoy live entertainment\, grab great eats and drinks at Fleetwood’s Tap Room\, and check out interactive fan experiences like the Spike Tunnel and inflatable hockey rink.This event is FREE and open to the public—no game ticket required. (Please note: the tent inside Hensville Park is reserved for FINatics members only.)Kick off the 2025–26 Walleye season in true Toledo style and get ready to cheer on your favorite team! \n📍 Location: Hensville Park\, Downtown Toledo🕓 Time: 4–6 p.m.🎟️ Admission: Free and open to the public
URL:https://develop-review-hart-desti-07sbl4.dev02.devhart.com/event/toledo-walleye-opening-night-pregame-party
LOCATION:Hensville Park\, Monroe St & N St Clair St\, Toledo\, OH\, 43604\, United States
CATEGORIES:Festival,hockey,sports
ATTACH;FMTTYPE=image/png:https://minio.devhart.com/destination-toledo-website/wp-content/uploads/2025/10/17105337/walleye-pregame-hensville-4x3-event-image.png
END:VEVENT
BEGIN:VEVENT
DTSTART;TZID=America/Detroit:20251031T160000
DTEND;TZID=America/Detroit:20251031T233000
DTSTAMP:20260421T155040
CREATED:20251027T165841Z
LAST-MODIFIED:20251027T165841Z
UID:55604-1761926400-1761953400@develop-review-hart-desti-07sbl4.dev02.devhart.com
SUMMARY:The Official Halloween Bar Crawl
DESCRIPTION:Get Spooky This Halloween! \nRound up your boo crew\, show off your costumes\, and prepare for a night of creepy cocktails\, chills\, and unforgettable bar-hopping fun! \nHere’s What You Get:\n Join a Spine-Chilling Crowd of Spooky Crawlers! 2 Days Full Of Bar Crawl Adventures (Friday AND Saturday) 2-3 Drinks or Shots Included No Cover At All Bars\, Mid Party\, & After Party Professional Photographers (Friday Only) Crawl With US Stadium Party Cup and Bottle Opener Lanyard Exclusive Drink Specials Food Specials at Select Venues Awesome After Party Custom Halloween Bar Crawl Badge With Vouchers Access To Our Toledo Pub Crawl Map Get tickets NOW before prices go up! _______________________________________\nGet ready to celebrate Halloween like never before! On October 31st and November 1st\, join the fun in Toledo for a spooktacular TWO-DAY bar crawl featuring creepy cocktails\, outrageous costumes\, and an electrifying atmosphere. Make your way through Toledo’s top bars with exclusive drink deals\, Halloween-themed entertainment\, and surprises lurking around every corner.\nGrab your friends and throw on your most hilarious\, horrifying\, or out-of-this-world outfits—because this night is all about bold looks and big scares. Each stop on the crawl will bring a new vibe\, from bone-rattling beats to ghoulishly good drinks. Whether you’re dressed as a vampire\, villain\, or just out to vibe\, this is the place to be for Halloween night. Toledo is turning up the fright and fun — and you won’t want to miss a moment. _______________________________________\n For all the latest venue information\, special offers\, event details\, and ticket purchases\, be sure to visit our website! It’s your one-stop shop for everything you need to know. \nwww.crawlwith.us/toledo/halloween\n CHECK IN 4PM – 6PM  CRAWL LOCATIONS 4PM – 10PM  MID PARTY 7PM – 9PM  AFTER PARTY 10PM – 12AM _______________________________________100% CANCELLATION REFUND GUARANTEE:\nIf the event is cancelled for any reason\, all tickets will be refunded in full! No vouchers\, no credits\, just your money back in your bank! Guaranteed!_______________________________________ FREQUENTLY ASKED QUESTIONS \nhttps://www.crawlwith.us/faq_______________________________________㉑ ATTENDEES MUST BE 21+ ㉑\nDue to the nature of our events\, all attendees must be 21+ with a valid government issued ID
URL:https://develop-review-hart-desti-07sbl4.dev02.devhart.com/event/the-official-halloween-bar-crawl
LOCATION:OH
CATEGORIES:cocktails,entertainment,holiday
ATTACH;FMTTYPE=image/png:https://minio.devhart.com/destination-toledo-website/wp-content/uploads/2025/10/17105400/halloween-bar-crawl-2025-4x3-event-image.png
END:VEVENT
BEGIN:VEVENT
DTSTART;TZID=America/Detroit:20251101T190000
DTEND;TZID=America/Detroit:20251101T220000
DTSTAMP:20260421T155040
CREATED:20250814T144522Z
LAST-MODIFIED:20250814T144522Z
UID:54075-1762023600-1762034400@develop-review-hart-desti-07sbl4.dev02.devhart.com
SUMMARY:Toledo Walleye vs. Indy Fuel | Walleye Home Opener
DESCRIPTION:The Toledo Walleye drop the puck on another exciting season of hockey at the Huntington Center! They open their home slate on Saturday\, Nov. 1 with a visit from conference rivals\, the Indy Fuel. \nBuilding on last season’s successful campaign\, the Walleye look to bring the ECHL’s Kelly Cup to Toledo and continue their league leading home sell-out streak. \nGATES OPEN: 5:30 p.m.PUCK DROP: 7:15 p.m.\nTickets are SOLD OUT for Nov. 1
URL:https://develop-review-hart-desti-07sbl4.dev02.devhart.com/event/toledo-walleye-vs-indy-fuel-home-opener-2025
LOCATION:Huntington Center\, 500 Jefferson Ave\, Toledo\, OH\, 43604\, United States
CATEGORIES:hockey,sports
ATTACH;FMTTYPE=image/jpeg:https://minio.devhart.com/destination-toledo-website/wp-content/uploads/2024/12/18102750/Walleye-Events-Graphic.jpg
END:VEVENT
END:VCALENDAR