BEGIN:VCALENDAR
VERSION:2.0
PRODID:-//Destination Toledo - ECPv6.15.17.1//NONSGML v1.0//EN
CALSCALE:GREGORIAN
METHOD:PUBLISH
X-ORIGINAL-URL:https://develop-review-hart-desti-07sbl4.dev02.devhart.com
X-WR-CALDESC:Events for Destination Toledo
REFRESH-INTERVAL;VALUE=DURATION:PT1H
X-Robots-Tag:noindex
X-PUBLISHED-TTL:PT1H
BEGIN:VTIMEZONE
TZID:America/Detroit
BEGIN:DAYLIGHT
TZOFFSETFROM:-0500
TZOFFSETTO:-0400
TZNAME:EDT
DTSTART:20240310T070000
END:DAYLIGHT
BEGIN:STANDARD
TZOFFSETFROM:-0400
TZOFFSETTO:-0500
TZNAME:EST
DTSTART:20241103T060000
END:STANDARD
BEGIN:DAYLIGHT
TZOFFSETFROM:-0500
TZOFFSETTO:-0400
TZNAME:EDT
DTSTART:20250309T070000
END:DAYLIGHT
BEGIN:STANDARD
TZOFFSETFROM:-0400
TZOFFSETTO:-0500
TZNAME:EST
DTSTART:20251102T060000
END:STANDARD
BEGIN:DAYLIGHT
TZOFFSETFROM:-0500
TZOFFSETTO:-0400
TZNAME:EDT
DTSTART:20260308T070000
END:DAYLIGHT
BEGIN:STANDARD
TZOFFSETFROM:-0400
TZOFFSETTO:-0500
TZNAME:EST
DTSTART:20261101T060000
END:STANDARD
END:VTIMEZONE
BEGIN:VEVENT
DTSTART;TZID=America/Detroit:20251005T110000
DTEND;TZID=America/Detroit:20251005T170000
DTSTAMP:20260419T162632
CREATED:20250903T182647Z
LAST-MODIFIED:20250903T182647Z
UID:54369-1759662000-1759683600@develop-review-hart-desti-07sbl4.dev02.devhart.com
SUMMARY:Vistula Artist Market
DESCRIPTION:Discover the Vistula Artist Market hosted by Toledo Spirits Company!\nJoin art enthusiasts on October 5\, 2025\, from 11 AM to 5 PM for a vibrant celebration of creativity and community!\nShop Unique Creations: Explore handcrafted treasures from over 50 local artisans!\nSavor Local Flavors: Enjoy delicious bites from food trucks or dine in during Boozy Brunch and sip on handcrafted cocktails using local spirits!\nEnjoy live music by Chloe and The Steel Strings\nTie Dye Station + Face Painting for Kids!\nGet Creative: Choose to carve or paint your own pumpkin!\nFree Admission | On-Site Parking\nMark your calendars for a day of art\, food\, and fun at the Vistula Artist Market!
URL:https://develop-review-hart-desti-07sbl4.dev02.devhart.com/event/vistula-artist-market
LOCATION:Toledo Spirits Company\, 1301 N Summit St\, Toledo\, OH\, 43604\, United States
CATEGORIES:art,crafts,family friendly,Festival
ATTACH;FMTTYPE=image/png:https://minio.devhart.com/destination-toledo-website/wp-content/uploads/2025/09/17110010/vistula-artist-market-4x3-event-image.png
END:VEVENT
BEGIN:VEVENT
DTSTART;TZID=America/Detroit:20251004T130000
DTEND;TZID=America/Detroit:20251004T150000
DTSTAMP:20260419T162632
CREATED:20250312T200506Z
LAST-MODIFIED:20250313T161022Z
UID:39367-1759582800-1759590000@develop-review-hart-desti-07sbl4.dev02.devhart.com
SUMMARY:Fall Color Cruise on The Sandpiper
DESCRIPTION:Enjoy the fall festival of color on this two-hour boat cruise on the Maumee River. As the leaves change\, the river becomes even more breathtaking. This cruise is narrated by our crew to provide historical information about Downtown Toledo and the Maumee River. Warm apple cider and donuts are provided by Mama C’s Bakery and Los Toros Catering. \nGuests are welcome to bring their own food and beverages\, including alcoholic beverages\, aboard any J&M Cruise Line event. Guests are encouraged to bring a small cooler to keep their items cold. \nJ&M Cruise Lines 2025 Season\nJ&M Cruise Lines operates the Sandpiper\, Glass City Pearl\, and the Water Street Taxi & Tour\, and manages the Glass City Marina and the Downtown Toledo docks.  \nVisit www.jmcruiselines.com for more information about their boats\, cruises\, and policies. \nFor a full list of J&M Cruise Lines’ events visit www.jmcruiselines.com/calendar
URL:https://develop-review-hart-desti-07sbl4.dev02.devhart.com/event/fall-color-cruises-on-the-sandpiper
LOCATION:OH
ATTACH;FMTTYPE=image/jpeg:https://minio.devhart.com/destination-toledo-website/wp-content/uploads/2025/03/12155826/fall-colors.jpg
END:VEVENT
END:VCALENDAR