BEGIN:VCALENDAR
VERSION:2.0
PRODID:-//Destination Toledo - ECPv6.15.17.1//NONSGML v1.0//EN
CALSCALE:GREGORIAN
METHOD:PUBLISH
X-ORIGINAL-URL:https://develop-review-hart-desti-07sbl4.dev02.devhart.com
X-WR-CALDESC:Events for Destination Toledo
REFRESH-INTERVAL;VALUE=DURATION:PT1H
X-Robots-Tag:noindex
X-PUBLISHED-TTL:PT1H
BEGIN:VTIMEZONE
TZID:America/Detroit
BEGIN:DAYLIGHT
TZOFFSETFROM:-0500
TZOFFSETTO:-0400
TZNAME:EDT
DTSTART:20240310T070000
END:DAYLIGHT
BEGIN:STANDARD
TZOFFSETFROM:-0400
TZOFFSETTO:-0500
TZNAME:EST
DTSTART:20241103T060000
END:STANDARD
BEGIN:DAYLIGHT
TZOFFSETFROM:-0500
TZOFFSETTO:-0400
TZNAME:EDT
DTSTART:20250309T070000
END:DAYLIGHT
BEGIN:STANDARD
TZOFFSETFROM:-0400
TZOFFSETTO:-0500
TZNAME:EST
DTSTART:20251102T060000
END:STANDARD
BEGIN:DAYLIGHT
TZOFFSETFROM:-0500
TZOFFSETTO:-0400
TZNAME:EDT
DTSTART:20260308T070000
END:DAYLIGHT
BEGIN:STANDARD
TZOFFSETFROM:-0400
TZOFFSETTO:-0500
TZNAME:EST
DTSTART:20261101T060000
END:STANDARD
END:VTIMEZONE
BEGIN:VEVENT
DTSTART;TZID=America/Detroit:20250516T180000
DTEND;TZID=America/Detroit:20250516T200000
DTSTAMP:20260421T112624
CREATED:20250312T190315Z
LAST-MODIFIED:20250312T190315Z
UID:39359-1747418400-1747425600@develop-review-hart-desti-07sbl4.dev02.devhart.com
SUMMARY:Friday Night Family Cruise on The Sandpiper
DESCRIPTION:Enjoy an extended lunch break on a two-hour tour of the Maumee River! Cruises travel along the river to view stately homes\, yacht clubs and wildlife. Come see what downtown Toledo has to offer. This cruise is catered by Daves Cosmic Subs with a variety of options to choose from when booking a ticket. Bookings will cease 1 hour prior to cruise due to catering. \nGuests are welcome to bring their own food and beverages\, including alcoholic beverages\, aboard any J&M Cruise Line event. Guests are encouraged to bring a small cooler to keep their items cold. \nJ&M Cruise Lines 2025 Season\nJ&M Cruise Lines operates the Sandpiper\, Glass City Pearl\, and the Water Street Taxi & Tour\, and manages the Glass City Marina and the Downtown Toledo docks.  \nVisit www.jmcruiselines.com for more information about their boats\, cruises\, and policies. \nFor a full list of J&M Cruise Lines’ events visit www.jmcruiselines.com/calendar
URL:https://develop-review-hart-desti-07sbl4.dev02.devhart.com/event/friday-night-family-cruise-on-the-sandpiper
LOCATION:OH
ATTACH;FMTTYPE=image/jpeg:https://minio.devhart.com/destination-toledo-website/wp-content/uploads/2025/03/12145909/Sandpiper-42.jpg
END:VEVENT
BEGIN:VEVENT
DTSTART;TZID=America/Detroit:20250829T180000
DTEND;TZID=America/Detroit:20250829T200000
DTSTAMP:20260421T112624
CREATED:20250808T202820Z
LAST-MODIFIED:20250811T145134Z
UID:53998-1756490400-1756497600@develop-review-hart-desti-07sbl4.dev02.devhart.com
SUMMARY:Summer Wine Tasting Series: SAUVIGNON BLANC
DESCRIPTION:Summer Wine Tasting Series: SAUVIGNON BLANC  \nwith guest speakers- Tim Bauer & Tara Kearns\, Southern Glazers of Ohio  \nAugust 29\, 2025 | 6pm | $62.99 per person all inclusive  \n First Wine:   \nAttitude Sauvignon Blanc 2024 \nChemery en Touraine\, Loire\, France  \nSecond Wine: \nStag’s Leap Wine Cellars ‘Aveta’ Sauvignon Blanc 2023 \nNapa Valley\, California  \nThird Wine:   \nSouthern Right Sauvignon Blanc 2023 \nWalker Bay\, South Africa  \nFourth Wine:   \nYealands Estate Single Vineyard Sauvignon Blanc 2023 \nAwatere Valley\, Marlborough\, New Zealand  \n  \n Light Appetizers provided by Chef Tim Childers  \n  \n RESERVATIONS REQUIRED \nReservation Link: https://resy.com/cities/toledo-oh/venues/chop-house-toledo/events/summer-wine-tasting-series-sauvignon-blanc-2025-08-29?seats=2&date=2025-08-07
URL:https://develop-review-hart-desti-07sbl4.dev02.devhart.com/event/summer-wine-tasting-series-sauvignon-blanc
LOCATION:The Chop House Toledo\, 300 N Summit St\, Toledo\, OH\, 43604\, United States
CATEGORIES:food,wine
ATTACH;FMTTYPE=image/png:https://minio.devhart.com/destination-toledo-website/wp-content/uploads/2025/08/17110214/chop-house-summer-wine-4x3-event-image.png
END:VEVENT
BEGIN:VEVENT
DTSTART;TZID=America/Detroit:20250829T190500
DTEND;TZID=America/Detroit:20250829T220500
DTSTAMP:20260421T112624
CREATED:20250312T001225Z
LAST-MODIFIED:20250312T001225Z
UID:39329-1756494300-1756505100@develop-review-hart-desti-07sbl4.dev02.devhart.com
SUMMARY:Toledo Mud Hens vs. St. Paul Saints | Girls Night Out | Game 4 of 6
DESCRIPTION:The Toledo Mud Hens welcome the Minnesota Twins’ AAA affiliate\, the St. Paul Saints to town for a six-game series. Grab your gal pals for a special girls night out with the Mud Hens on August 29th! The first 1\,500 guests will receive a friendship bracelet\, and your game ticket gets you into the post-game concert at Hensville ft. Taylor’s Story. \n  \n  \n  \n2025 Season Schedule\nWeekends are for Mud Hens baseball. Thirty-nine of the 75 home games this season fall on weekend dates (13 Fridays\, 13 Saturday and 13 Sundays). The Mud Hens are also home for several holidays in 2025\, including Mother’s Day (May 11)\, Father’s Day (June 15)\, Memorial Day Weekend (May 23-25)\, and the week of Fourth of July (July 1-3). \nThe team plays at home against rival Columbus (Cleveland Guardians affiliate) 12 times (Opening Weekend\, July 1-3 and August 12-17)\, against Iowa (Chicago Cubs affiliate) 12 times (April 8-13 and May 6-11)\, and against Louisville (Cincinnati Reds affiliate) 12 times (May 27 – June 1 and September 9-14). The last home game of the regular 2025 season is slated for Sunday\, September 14. \nFor a full list of promotions\, bag policies\, and other FAQ visit Know Before You Go | Mud Hens
URL:https://develop-review-hart-desti-07sbl4.dev02.devhart.com/event/toledo-mud-hens-vs-st-paul-saints-girls-night-out-game-4-of-6
LOCATION:Fifth Third Field\, 406 Washington St\, Toledo\, OH\, 43604
ATTACH;FMTTYPE=image/jpeg:https://minio.devhart.com/destination-toledo-website/wp-content/uploads/2025/03/06143812/Mud-Hens-Events-Graphic.jpg
END:VEVENT
BEGIN:VEVENT
DTSTART;TZID=America/Detroit:20250606T210000
DTEND;TZID=America/Detroit:20250606T230000
DTSTAMP:20260421T112624
CREATED:20250313T184841Z
LAST-MODIFIED:20250313T184841Z
UID:39383-1749243600-1749250800@develop-review-hart-desti-07sbl4.dev02.devhart.com
SUMMARY:Friday Night Booze Cruise on the Sandpiper
DESCRIPTION:Enjoy a relaxing and kid-free Friday evening cruise on The Maumee River. Guests will enjoy a two-hour long cruise with good jams and peaceful vibes. This cruise is for adults only (21 and over). Local musicians\, entertainers\, and karaoke will be provided throughout the month. Look at the title of each cruise for more information. \nGuests are welcome to bring their own food and beverages\, including alcoholic beverages\, aboard any J&M Cruise Line event. Guests are encouraged to bring a small cooler to keep their items cold. \nJ&M Cruise Lines 2025 Season\nJ&M Cruise Lines operates the Sandpiper\, Glass City Pearl\, and the Water Street Taxi & Tour\, and manages the Glass City Marina and the Downtown Toledo docks.  \nVisit www.jmcruiselines.com for more information about their boats\, cruises\, and policies. \nFor a full list of J&M Cruise Lines’ events visit www.jmcruiselines.com/calendar
URL:https://develop-review-hart-desti-07sbl4.dev02.devhart.com/event/friday-night-booze-cruise-on-the-sandpiper
LOCATION:OH
ATTACH;FMTTYPE=image/jpeg:https://minio.devhart.com/destination-toledo-website/wp-content/uploads/2025/03/13144516/SP-TRAIN-BRIDGE.jpg
END:VEVENT
END:VCALENDAR