BEGIN:VCALENDAR
VERSION:2.0
PRODID:-//Destination Toledo - ECPv6.15.17.1//NONSGML v1.0//EN
CALSCALE:GREGORIAN
METHOD:PUBLISH
X-WR-CALNAME:Destination Toledo
X-ORIGINAL-URL:https://develop-review-hart-desti-07sbl4.dev02.devhart.com
X-WR-CALDESC:Events for Destination Toledo
REFRESH-INTERVAL;VALUE=DURATION:PT1H
X-Robots-Tag:noindex
X-PUBLISHED-TTL:PT1H
BEGIN:VTIMEZONE
TZID:America/Detroit
BEGIN:DAYLIGHT
TZOFFSETFROM:-0500
TZOFFSETTO:-0400
TZNAME:EDT
DTSTART:20240310T070000
END:DAYLIGHT
BEGIN:STANDARD
TZOFFSETFROM:-0400
TZOFFSETTO:-0500
TZNAME:EST
DTSTART:20241103T060000
END:STANDARD
BEGIN:DAYLIGHT
TZOFFSETFROM:-0500
TZOFFSETTO:-0400
TZNAME:EDT
DTSTART:20250309T070000
END:DAYLIGHT
BEGIN:STANDARD
TZOFFSETFROM:-0400
TZOFFSETTO:-0500
TZNAME:EST
DTSTART:20251102T060000
END:STANDARD
BEGIN:DAYLIGHT
TZOFFSETFROM:-0500
TZOFFSETTO:-0400
TZNAME:EDT
DTSTART:20260308T070000
END:DAYLIGHT
BEGIN:STANDARD
TZOFFSETFROM:-0400
TZOFFSETTO:-0500
TZNAME:EST
DTSTART:20261101T060000
END:STANDARD
END:VTIMEZONE
BEGIN:VEVENT
DTSTART;TZID=America/Detroit:20250517T100000
DTEND;TZID=America/Detroit:20250517T120000
DTSTAMP:20260421T133558
CREATED:20250312T191735Z
LAST-MODIFIED:20250312T195014Z
UID:39362-1747476000-1747483200@develop-review-hart-desti-07sbl4.dev02.devhart.com
SUMMARY:Discover the River Cruise on The Sandpiper
DESCRIPTION:Enjoy a two- hour morning cruise on the Maumee River. Relax and take in all of the stately homes\, wildlife\, and local history along the river. \nGuests are welcome to bring their own food and beverages\, including alcoholic beverages\, aboard any J&M Cruise Line event. Guests are encouraged to bring a small cooler to keep their items cold. \nJ&M Cruise Lines 2025 Season\nJ&M Cruise Lines operates the Sandpiper\, Glass City Pearl\, and the Water Street Taxi & Tour\, and manages the Glass City Marina and the Downtown Toledo docks.  \nVisit www.jmcruiselines.com for more information about their boats\, cruises\, and policies. \nFor a full list of J&M Cruise Lines’ events visit www.jmcruiselines.com/calendar
URL:https://develop-review-hart-desti-07sbl4.dev02.devhart.com/event/discover-the-river-cruise-on-the-sandpiper
LOCATION:OH
ATTACH;FMTTYPE=image/jpeg:https://minio.devhart.com/destination-toledo-website/wp-content/uploads/2025/03/12142358/Sandpiper0682.jpg
END:VEVENT
BEGIN:VEVENT
DTSTART;TZID=America/Detroit:20250726T120000
DTEND;TZID=America/Detroit:20250726T160000
DTSTAMP:20260421T133558
CREATED:20250723T185625Z
LAST-MODIFIED:20250723T185625Z
UID:53638-1753531200-1753545600@develop-review-hart-desti-07sbl4.dev02.devhart.com
SUMMARY:Disabled and Proud Fest
DESCRIPTION:Celebrate disability pride and community at the third annual Disabled and Proud Fest\, happening Saturday\, July 26\, 2025\, from 12 to 4 p.m. at Glass City Metropark. City of Toledo in partnership with Metroparks Toledo\, welcomes everyone to join the fun at this event! \nThis year’s celebration is especially meaningful as it also marks the 35th anniversary of the Americans with Disabilities Act (ADA)\, the landmark civil rights law that continues to advance equity\, accessibility\, and inclusion for millions of Americans. \nThis year’s event highlights music\, movement\, and community pride\, welcoming individuals of all abilities to share in the celebration. Free skate rentals\, rock climbing passes\, and frozen treats will be available while supplies last. Boccia games and a community art project will also be available for everyone to enjoy. \n2025 Schedule of ActivitiesGlass City Metropark | Saturday\, July 26 | 12–4 p.m. \n12:00 p.m.  Dance\, Move\, and GrooveKick off the afternoon with an all-abilities movement session to get everyone energized. \n1:00 p.m.   Tim Tegge\nExecutive director of The Sight Center and an award-winning entertainer\, brings a fun and engaging performance to the stage. \n2:00 p.m.   Toledo Ballet Adaptive DanceExperience the beauty of adaptive dance performed by local talent. \n3:00 p.m.   Perrysburg School of RockLive music from the next generation of performers. \n3:45 p.m.   Parade Through the ParkA spirited\, inclusive march to close out the day with celebration and unity.
URL:https://develop-review-hart-desti-07sbl4.dev02.devhart.com/event/disabled-and-proud-fest
LOCATION:Glass City Metropark\, 1505 Front Street\, Toledo\, Ohio
CATEGORIES:dance,entertainment,family friendly,Festival,food,live music
ATTACH;FMTTYPE=image/png:https://minio.devhart.com/destination-toledo-website/wp-content/uploads/2025/07/17110457/disbaled-and-proud-fest-4x3-event-image.png
END:VEVENT
BEGIN:VEVENT
DTSTART;TZID=America/Detroit:20250726T120000
DTEND;TZID=America/Detroit:20250727T020000
DTSTAMP:20260421T133558
CREATED:20250710T200244Z
LAST-MODIFIED:20250710T200244Z
UID:53418-1753531200-1753581600@develop-review-hart-desti-07sbl4.dev02.devhart.com
SUMMARY:Sleigh All Day Christmas In July
DESCRIPTION:It’s Christmas… but HOTTER. \nDowntown Toledo turns into the ultimate holiday playground for Sleigh All Day — the wildest Christmas in July bar crawl you’ve ever seen. \n4 Bars — 1 Ticket — ALL the Holiday Chaos:\nTable 44\nCock N Bull\nThe Blarney\nMigos \nExpect:\nFoam parties\nSlip N Slides\nDJs & live bands\nChristmas cocktails & drink specials\nNo cover all day \nYour ticket gets you access\, drinks\, party swag\, and the kind of memories that’ll make Santa proud (or concerned). \nSkip the FOMO — Sleigh All Day is happening July 26th. \nGet your ticket now\nhttps://sleigh-all-day.district419.com/home-688925
URL:https://develop-review-hart-desti-07sbl4.dev02.devhart.com/event/sleigh-all-day-christmas-in-july
LOCATION:Ye Olde Cock n Bull\, 9 N Huron St\, Toledo\, OH\, 43604\, United States
CATEGORIES:cocktails,live music
ATTACH;FMTTYPE=image/png:https://minio.devhart.com/destination-toledo-website/wp-content/uploads/2025/07/17110554/sleigh-all-day-4x3-event.png
ORGANIZER;CN="District 419":MAILTO:Mydistrict419@gmail.com
END:VEVENT
END:VCALENDAR