BEGIN:VCALENDAR
VERSION:2.0
PRODID:-//Destination Toledo - ECPv6.15.17.1//NONSGML v1.0//EN
CALSCALE:GREGORIAN
METHOD:PUBLISH
X-ORIGINAL-URL:https://develop-review-hart-desti-07sbl4.dev02.devhart.com
X-WR-CALDESC:Events for Destination Toledo
REFRESH-INTERVAL;VALUE=DURATION:PT1H
X-Robots-Tag:noindex
X-PUBLISHED-TTL:PT1H
BEGIN:VTIMEZONE
TZID:America/Detroit
BEGIN:DAYLIGHT
TZOFFSETFROM:-0500
TZOFFSETTO:-0400
TZNAME:EDT
DTSTART:20240310T070000
END:DAYLIGHT
BEGIN:STANDARD
TZOFFSETFROM:-0400
TZOFFSETTO:-0500
TZNAME:EST
DTSTART:20241103T060000
END:STANDARD
BEGIN:DAYLIGHT
TZOFFSETFROM:-0500
TZOFFSETTO:-0400
TZNAME:EDT
DTSTART:20250309T070000
END:DAYLIGHT
BEGIN:STANDARD
TZOFFSETFROM:-0400
TZOFFSETTO:-0500
TZNAME:EST
DTSTART:20251102T060000
END:STANDARD
BEGIN:DAYLIGHT
TZOFFSETFROM:-0500
TZOFFSETTO:-0400
TZNAME:EDT
DTSTART:20260308T070000
END:DAYLIGHT
BEGIN:STANDARD
TZOFFSETFROM:-0400
TZOFFSETTO:-0500
TZNAME:EST
DTSTART:20261101T060000
END:STANDARD
END:VTIMEZONE
BEGIN:VEVENT
DTSTART;TZID=America/Detroit:20250417T080000
DTEND;TZID=America/Detroit:20250417T170000
DTSTAMP:20260420T014949
CREATED:20250421T170151Z
LAST-MODIFIED:20250421T170151Z
UID:50877-1744876800-1744909200@develop-review-hart-desti-07sbl4.dev02.devhart.com
SUMMARY:Sacred Steel Workshop and Jam Session
DESCRIPTION:The history of Sacred Steel is a fascinating one and is said by many to be one of the most extraordinary American roots musical forms of the 21st century. \nIn America\, the steel guitar is generally associated with Country Western or Hawaiian music\, but for over 80 years African Americans have used the steel guitar to make a joyful noise unto the Lord in their church worship services\, which is unknown to the masses. \nCome learn about each artist style and techinique!
URL:https://develop-review-hart-desti-07sbl4.dev02.devhart.com/event/sacred-steel-workshop-and-jam-session
LOCATION:Collingwood Presbyterian Church\, 2108 Collingwood Blvd\, Toledo\, 43620
CATEGORIES:educational,live music
ATTACH;FMTTYPE=image/png:https://minio.devhart.com/destination-toledo-website/wp-content/uploads/2025/04/17111359/sacred-steel-jam-4x3-event-image.png
END:VEVENT
BEGIN:VEVENT
DTSTART;TZID=America/Detroit:20250513T070000
DTEND;TZID=America/Detroit:20250513T080000
DTSTAMP:20260420T014949
CREATED:20250417T171755Z
LAST-MODIFIED:20250417T171755Z
UID:50851-1747119600-1747123200@develop-review-hart-desti-07sbl4.dev02.devhart.com
SUMMARY:Om in the Outfield - Yoga at Fifth Third Field
DESCRIPTION:Namaste\, Toledo! Now is your chance to do yoga at Fifth Third Field during three “Om in the Outfield” sessions in May.\n\nAdmission to each hour-long yoga class is one game ticket to Mental Health Awareness Night on Thursday\, May 29.\nGet your tickets now: bit.ly/mh_OMintheOutfield
URL:https://develop-review-hart-desti-07sbl4.dev02.devhart.com/event/om-in-the-outfield-yoga-at-fifth-third-field
LOCATION:Fifth Third Field\, 406 Washington St\, Toledo\, OH\, 43604
CATEGORIES:exercise,outdoors,wellness,yoga
ATTACH;FMTTYPE=image/png:https://minio.devhart.com/destination-toledo-website/wp-content/uploads/2025/04/17111419/om-in-the-outfield-4x3-event-image.png
END:VEVENT
BEGIN:VEVENT
DTSTART;TZID=America/Detroit:20250517T100000
DTEND;TZID=America/Detroit:20250517T120000
DTSTAMP:20260420T014949
CREATED:20250312T191735Z
LAST-MODIFIED:20250312T195014Z
UID:39362-1747476000-1747483200@develop-review-hart-desti-07sbl4.dev02.devhart.com
SUMMARY:Discover the River Cruise on The Sandpiper
DESCRIPTION:Enjoy a two- hour morning cruise on the Maumee River. Relax and take in all of the stately homes\, wildlife\, and local history along the river. \nGuests are welcome to bring their own food and beverages\, including alcoholic beverages\, aboard any J&M Cruise Line event. Guests are encouraged to bring a small cooler to keep their items cold. \nJ&M Cruise Lines 2025 Season\nJ&M Cruise Lines operates the Sandpiper\, Glass City Pearl\, and the Water Street Taxi & Tour\, and manages the Glass City Marina and the Downtown Toledo docks.  \nVisit www.jmcruiselines.com for more information about their boats\, cruises\, and policies. \nFor a full list of J&M Cruise Lines’ events visit www.jmcruiselines.com/calendar
URL:https://develop-review-hart-desti-07sbl4.dev02.devhart.com/event/discover-the-river-cruise-on-the-sandpiper
LOCATION:OH
ATTACH;FMTTYPE=image/jpeg:https://minio.devhart.com/destination-toledo-website/wp-content/uploads/2025/03/12142358/Sandpiper0682.jpg
END:VEVENT
BEGIN:VEVENT
DTSTART;TZID=America/Detroit:20250516T120000
DTEND;TZID=America/Detroit:20250516T220000
DTSTAMP:20260420T014949
CREATED:20250319T180923Z
LAST-MODIFIED:20250319T180936Z
UID:39666-1747396800-1747432800@develop-review-hart-desti-07sbl4.dev02.devhart.com
SUMMARY:Toledo Tattoo Festival
DESCRIPTION:The Toledo Tattoo Festival offers a selection of over 200 of the best artists from all over the world right here in Toledo for three days of tattooing\, art making\, merch selling\, and much more. \nAt the Festival\, attendees will have the opportunity to get tattooed from traveling and local artists alike. Many artists will book the festival in advance\, but there will be opportunities each day to find artists that are taking walk up tattoos on a first come first serve basis. \nIf you do not want to get tattooed over the weekend you will not be short of entertainment. Artists and vendors alike will be selling merchandise\, there will be contests where you can enter your tattoos that you have previously collected\, watch contests take place\, and see some of the best artists from across the globe practice their craft. \nTattoo artists will have the opportunity to buy supplies from a variety of vendors for use at the festival and to take back to their home shop. There will be a tattoo of the day competition daily to show off the best tattoos made at the Festival. \nWhether you are coming to the Toledo Tattoo Festival for your first tattoo\, your 100th\, or just to have fun\, we are happy to have you\, and cannot wait to see you there.
URL:https://develop-review-hart-desti-07sbl4.dev02.devhart.com/event/toledo-tattoo-festival
LOCATION:Glass City Center\, 401 Jefferson Ave\, Toledo\, OH\, 43606\, United States
ATTACH;FMTTYPE=image/png:https://minio.devhart.com/destination-toledo-website/wp-content/uploads/2025/03/19140751/tattoo-fest-4x3-event-image.png
END:VEVENT
BEGIN:VEVENT
DTSTART;TZID=America/Detroit:20250517T120000
DTEND;TZID=America/Detroit:20250517T170000
DTSTAMP:20260420T014949
CREATED:20250404T191840Z
LAST-MODIFIED:20250404T193147Z
UID:44778-1747483200-1747501200@develop-review-hart-desti-07sbl4.dev02.devhart.com
SUMMARY:Ohio Vintage Fest
DESCRIPTION:Ohio Vintage Fest is returning to Toledo for the third time! \n\nThe nineteenth Ohio Vintage Fest will be taking place on Saturday\, May 17th and Sunday\, May 18th at the Glass City Center in Toledo\, OH from 12 to 5 PM! Come shop with over 50 vendors selling primarily vintage clothing as well as other vintage items such as vintage home goods\, vinyl records\, toys and collectibles\, and other vintage items!\nTickets are $5 for General Admission\, $12 for Early Bird\, and kids under 12 are free.\nEarly Bird admission grants you access at 11 AM\, 1 hour before general admission on Saturday only. Early Bird tickets are limited and can only be purchased online on Humantix. Early Bird tickets include free General Admission for Sunday. General Admission can be purchased online or at the door for $5 on Saturday or Sunday. General Admission for both days is available for $8. These tickets must be purchased online on Humantix. Follow us on Instagram @ohiovintagefest for more information!
URL:https://develop-review-hart-desti-07sbl4.dev02.devhart.com/event/ohio-vintage-fest
LOCATION:Glass City Center\, 401 Jefferson Ave\, Toledo\, OH\, 43606\, United States
CATEGORIES:shopping
ATTACH;FMTTYPE=image/png:https://minio.devhart.com/destination-toledo-website/wp-content/uploads/2025/04/17111641/ohio-vintage-fest-4x3-event-image.png
END:VEVENT
BEGIN:VEVENT
DTSTART;TZID=America/Detroit:20250517T191500
DTEND;TZID=America/Detroit:20250517T220000
DTSTAMP:20260420T014949
CREATED:20250408T195241Z
LAST-MODIFIED:20250408T195241Z
UID:46379-1747509300-1747519200@develop-review-hart-desti-07sbl4.dev02.devhart.com
SUMMARY:Ramona Collins at Lucille's Jazz Lounge
DESCRIPTION:Singer\, songwriter\, actress\, educator\, emcee\, and radio personality Ramona Collins is a premier entertainer. Audiences throughout the Midwest have known for quite some time this Toledo-based singer is one of the region’s true treasures and best-kept secrets. Born in Toledo\, Ohio\, Ramona was reared in Lansing\, Michigan by a jazz pianist/singer mother\, the late Alice Carter\, who encouraged her daughter to sing at an early age to combat shyness. Today\, anyone fortunate enough to witness the veteran performer at work will detect not a whit of shyness. Sultry\, seasoned\, witty and cool are words that come to mind when experiencing this engaging performer whose command of the stage and vast repertoire have helped her establish a solid rapport with club\, concert and festival audiences wherever she goes.
URL:https://develop-review-hart-desti-07sbl4.dev02.devhart.com/event/ramona-collins-at-lucilles-jazz-lounge
LOCATION:Lucille’s Jazz Lounge\, 1447 N. Summit St.\, Toledo\, OH\, 43604\, United States
CATEGORIES:Jazz,live music
ATTACH;FMTTYPE=image/png:https://minio.devhart.com/destination-toledo-website/wp-content/uploads/2025/04/17111549/ramona-collins-4x3-event-image.png
END:VEVENT
END:VCALENDAR