BEGIN:VCALENDAR
VERSION:2.0
PRODID:-//Destination Toledo - ECPv6.15.17.1//NONSGML v1.0//EN
CALSCALE:GREGORIAN
METHOD:PUBLISH
X-WR-CALNAME:Destination Toledo
X-ORIGINAL-URL:https://develop-review-hart-desti-07sbl4.dev02.devhart.com
X-WR-CALDESC:Events for Destination Toledo
REFRESH-INTERVAL;VALUE=DURATION:PT1H
X-Robots-Tag:noindex
X-PUBLISHED-TTL:PT1H
BEGIN:VTIMEZONE
TZID:America/Detroit
BEGIN:DAYLIGHT
TZOFFSETFROM:-0500
TZOFFSETTO:-0400
TZNAME:EDT
DTSTART:20240310T070000
END:DAYLIGHT
BEGIN:STANDARD
TZOFFSETFROM:-0400
TZOFFSETTO:-0500
TZNAME:EST
DTSTART:20241103T060000
END:STANDARD
BEGIN:DAYLIGHT
TZOFFSETFROM:-0500
TZOFFSETTO:-0400
TZNAME:EDT
DTSTART:20250309T070000
END:DAYLIGHT
BEGIN:STANDARD
TZOFFSETFROM:-0400
TZOFFSETTO:-0500
TZNAME:EST
DTSTART:20251102T060000
END:STANDARD
BEGIN:DAYLIGHT
TZOFFSETFROM:-0500
TZOFFSETTO:-0400
TZNAME:EDT
DTSTART:20260308T070000
END:DAYLIGHT
BEGIN:STANDARD
TZOFFSETFROM:-0400
TZOFFSETTO:-0500
TZNAME:EST
DTSTART:20261101T060000
END:STANDARD
END:VTIMEZONE
BEGIN:VEVENT
DTSTART;TZID=America/Detroit:20250502T190000
DTEND;TZID=America/Detroit:20250502T213000
DTSTAMP:20260425T183802
CREATED:20250411T151352Z
LAST-MODIFIED:20250411T151352Z
UID:46672-1746212400-1746221400@develop-review-hart-desti-07sbl4.dev02.devhart.com
SUMMARY:UT vs. BG Baseball - Battle of I-75
DESCRIPTION:The Battle of I-75 returns to Downtown Toledo! The Toledo Rockets face Bowling Green on Friday\, May 2\, at 7:00 PM at Fifth Third Field!\n\nTickets are on sale now and can be purchased through the Mud Hens’ ticket office. Fans can visit utrockets.com/UTvsBG.
URL:https://develop-review-hart-desti-07sbl4.dev02.devhart.com/event/ut-vs-bg-baseball-battle-of-i-75
LOCATION:Fifth Third Field\, 406 Washington St\, Toledo\, OH\, 43604
CATEGORIES:sports
ATTACH;FMTTYPE=image/png:https://minio.devhart.com/destination-toledo-website/wp-content/uploads/2025/04/17111510/battle-of-I75-4x3-event-image.png
END:VEVENT
END:VCALENDAR