BEGIN:VCALENDAR
VERSION:2.0
PRODID:-//Destination Toledo - ECPv6.15.17.1//NONSGML v1.0//EN
CALSCALE:GREGORIAN
METHOD:PUBLISH
X-WR-CALNAME:Destination Toledo
X-ORIGINAL-URL:https://develop-review-hart-desti-07sbl4.dev02.devhart.com
X-WR-CALDESC:Events for Destination Toledo
REFRESH-INTERVAL;VALUE=DURATION:PT1H
X-Robots-Tag:noindex
X-PUBLISHED-TTL:PT1H
BEGIN:VTIMEZONE
TZID:America/Detroit
BEGIN:DAYLIGHT
TZOFFSETFROM:-0500
TZOFFSETTO:-0400
TZNAME:EDT
DTSTART:20240310T070000
END:DAYLIGHT
BEGIN:STANDARD
TZOFFSETFROM:-0400
TZOFFSETTO:-0500
TZNAME:EST
DTSTART:20241103T060000
END:STANDARD
BEGIN:DAYLIGHT
TZOFFSETFROM:-0500
TZOFFSETTO:-0400
TZNAME:EDT
DTSTART:20250309T070000
END:DAYLIGHT
BEGIN:STANDARD
TZOFFSETFROM:-0400
TZOFFSETTO:-0500
TZNAME:EST
DTSTART:20251102T060000
END:STANDARD
BEGIN:DAYLIGHT
TZOFFSETFROM:-0500
TZOFFSETTO:-0400
TZNAME:EDT
DTSTART:20260308T070000
END:DAYLIGHT
BEGIN:STANDARD
TZOFFSETFROM:-0400
TZOFFSETTO:-0500
TZNAME:EST
DTSTART:20261101T060000
END:STANDARD
END:VTIMEZONE
BEGIN:VEVENT
DTSTART;TZID=America/Detroit:20250426T100000
DTEND;TZID=America/Detroit:20250426T160000
DTSTAMP:20260422T055241
CREATED:20250326T170024Z
LAST-MODIFIED:20250326T170024Z
UID:40045-1745661600-1745683200@develop-review-hart-desti-07sbl4.dev02.devhart.com
SUMMARY:Spring Vintage Market at Flying Rhino
DESCRIPTION:Come join other vintage enthusiasts at a Spring Vintage Market at Flying Rhino Coffee!\n\n-Vintage Vendors-Specialty Menu-Earth Week Spring Vibes\nBUY LOCAL! BUY VINTAGE!\nFree Event to All!
URL:https://develop-review-hart-desti-07sbl4.dev02.devhart.com/event/spring-vintage-market-at-flying-rhino
LOCATION:Flying Rhino Coffee\, 201 Morris St\, Suite G\, Toledo\, OH\, 43604\, United States
CATEGORIES:coffee,shopping
ATTACH;FMTTYPE=image/png:https://minio.devhart.com/destination-toledo-website/wp-content/uploads/2025/03/17111749/flying-rhino-vintage-4x3-event-image.png
END:VEVENT
BEGIN:VEVENT
DTSTART;TZID=America/Detroit:20250426T170500
DTEND;TZID=America/Detroit:20250426T200500
DTSTAMP:20260422T055241
CREATED:20250310T193502Z
LAST-MODIFIED:20250319T171247Z
UID:39264-1745687100-1745697900@develop-review-hart-desti-07sbl4.dev02.devhart.com
SUMMARY:Toledo Mud Hens vs. Omaha Storm Chasers | Game 5 of 6
DESCRIPTION:The Toledo Mud Hens last homestand of April welcomes the Kansas City Royals’ AAA affiliate\, the Omaha Storm Chasers. \n  \n  \n  \n2025 Season Schedule\nWeekends are for Mud Hens baseball. Thirty-nine of the 75 home games this season fall on weekend dates (13 Fridays\, 13 Saturday and 13 Sundays). The Mud Hens are also home for several holidays in 2025\, including Mother’s Day (May 11)\, Father’s Day (June 15)\, Memorial Day Weekend (May 23-25)\, and the week of Fourth of July (July 1-3). \nThe team plays at home against rival Columbus (Cleveland Guardians affiliate) 12 times (Opening Weekend\, July 1-3 and August 12-17)\, against Iowa (Chicago Cubs affiliate) 12 times (April 8-13 and May 6-11)\, and against Louisville (Cincinnati Reds affiliate) 12 times (May 27 – June 1 and September 9-14). The last home game of the regular 2025 season is slated for Sunday\, September 14. \nFor a full list of promotions\, bag policies\, and other FAQ visit Know Before You Go | Mud Hens
URL:https://develop-review-hart-desti-07sbl4.dev02.devhart.com/event/toledo-mud-hens-vs-omaha-storm-chasers-game-5-of-6-april
LOCATION:Fifth Third Field\, 406 Washington St\, Toledo\, OH\, 43604
ATTACH;FMTTYPE=image/jpeg:https://minio.devhart.com/destination-toledo-website/wp-content/uploads/2025/03/06143812/Mud-Hens-Events-Graphic.jpg
END:VEVENT
BEGIN:VEVENT
DTSTART;TZID=America/Detroit:20250426T180000
DTEND;TZID=America/Detroit:20250426T193000
DTSTAMP:20260422T055241
CREATED:20250417T174024Z
LAST-MODIFIED:20250417T174024Z
UID:50859-1745690400-1745695800@develop-review-hart-desti-07sbl4.dev02.devhart.com
SUMMARY:Free Yoga and Community Connection
DESCRIPTION:This free beginner-friendly Yoga & Mindfulness Meditation session led by Toledo Mindfulness Institute in partnership with Metroparks Toledo and the City of Toledo. Our wellness shapes Toledo’s future.\nGlass City Metropark\, Glass City Pavilion Event LawnSaturday\, April 26\, 6 to 7:30 p.m.Reservations Required\, FREERegistration: https://metroparkstoledo.com/yoga\n\nWhat to Expect:\nAn uplifting yoga and mindfulness meditation session designed to inspire excitement about Toledo’s future.Metroparks community updates – learn about historic upcoming initiatives and ways to get involved.A chance to connect with like-minded people who care about wellness and Toledo’s growth.
URL:https://develop-review-hart-desti-07sbl4.dev02.devhart.com/event/free-yoga-and-community-connection
LOCATION:OH
CATEGORIES:outdoors,wellness,yoga
ATTACH;FMTTYPE=image/png:https://minio.devhart.com/destination-toledo-website/wp-content/uploads/2025/04/17111416/free-yoga-glass-city-4x3-event-image.png
END:VEVENT
END:VCALENDAR