BEGIN:VCALENDAR
VERSION:2.0
PRODID:-//Destination Toledo - ECPv6.15.17.1//NONSGML v1.0//EN
CALSCALE:GREGORIAN
METHOD:PUBLISH
X-WR-CALNAME:Destination Toledo
X-ORIGINAL-URL:https://develop-review-hart-desti-07sbl4.dev02.devhart.com
X-WR-CALDESC:Events for Destination Toledo
REFRESH-INTERVAL;VALUE=DURATION:PT1H
X-Robots-Tag:noindex
X-PUBLISHED-TTL:PT1H
BEGIN:VTIMEZONE
TZID:America/Detroit
BEGIN:DAYLIGHT
TZOFFSETFROM:-0500
TZOFFSETTO:-0400
TZNAME:EDT
DTSTART:20240310T070000
END:DAYLIGHT
BEGIN:STANDARD
TZOFFSETFROM:-0400
TZOFFSETTO:-0500
TZNAME:EST
DTSTART:20241103T060000
END:STANDARD
BEGIN:DAYLIGHT
TZOFFSETFROM:-0500
TZOFFSETTO:-0400
TZNAME:EDT
DTSTART:20250309T070000
END:DAYLIGHT
BEGIN:STANDARD
TZOFFSETFROM:-0400
TZOFFSETTO:-0500
TZNAME:EST
DTSTART:20251102T060000
END:STANDARD
BEGIN:DAYLIGHT
TZOFFSETFROM:-0500
TZOFFSETTO:-0400
TZNAME:EDT
DTSTART:20260308T070000
END:DAYLIGHT
BEGIN:STANDARD
TZOFFSETFROM:-0400
TZOFFSETTO:-0500
TZNAME:EST
DTSTART:20261101T060000
END:STANDARD
END:VTIMEZONE
BEGIN:VEVENT
DTSTART;TZID=America/Detroit:20250606T200000
DTEND;TZID=America/Detroit:20250606T223000
DTSTAMP:20260420T113249
CREATED:20250326T151228Z
LAST-MODIFIED:20250326T153843Z
UID:40018-1749240000-1749249000@develop-review-hart-desti-07sbl4.dev02.devhart.com
SUMMARY:Gavin Adcock at Centennial Terrace
DESCRIPTION:Gavin Adcock is a 25-year-old Georgia native born and raised in Watkinsville. Former Georgia Southern University football player Gavin grew up working on his family cattle farm and dreamed of riding bulls in the PBR. He started writing songs in high school\, but it wasn’t until the spring of 2021 when he tore up his knee playing football that he used his time healing to record and release his first original single. Since then\, he has put all focus into his music and has released multiple singles that have now amassed nearly 500 million US streams collectively with his recent release A Cigarette having over 80 million streams and counting. His debut major label album\, Actin Up Again\, was released in August of 2024 and was the most streamed country debut album of the year. He has sold over 100000 tickets between the two legs of the highly successful Actin Up Again tour which runs from the fall of 2024 until spring of 2025.
URL:https://develop-review-hart-desti-07sbl4.dev02.devhart.com/event/gavin-adcock-at-centennial-terrace
LOCATION:Centennial Terrace\, 5773 Centennial Road\, Sylvania\, Ohio\, 43560\, United States
CATEGORIES:concert,country music,live music,outdoors
ATTACH;FMTTYPE=image/png:https://minio.devhart.com/destination-toledo-website/wp-content/uploads/2025/03/17111750/gavin-adcock-4x3-event-image.png
END:VEVENT
END:VCALENDAR