BEGIN:VCALENDAR
VERSION:2.0
PRODID:-//Destination Toledo - ECPv6.15.17.1//NONSGML v1.0//EN
CALSCALE:GREGORIAN
METHOD:PUBLISH
X-WR-CALNAME:Destination Toledo
X-ORIGINAL-URL:https://develop-review-hart-desti-07sbl4.dev02.devhart.com
X-WR-CALDESC:Events for Destination Toledo
REFRESH-INTERVAL;VALUE=DURATION:PT1H
X-Robots-Tag:noindex
X-PUBLISHED-TTL:PT1H
BEGIN:VTIMEZONE
TZID:America/Detroit
BEGIN:DAYLIGHT
TZOFFSETFROM:-0500
TZOFFSETTO:-0400
TZNAME:EDT
DTSTART:20240310T070000
END:DAYLIGHT
BEGIN:STANDARD
TZOFFSETFROM:-0400
TZOFFSETTO:-0500
TZNAME:EST
DTSTART:20241103T060000
END:STANDARD
BEGIN:DAYLIGHT
TZOFFSETFROM:-0500
TZOFFSETTO:-0400
TZNAME:EDT
DTSTART:20250309T070000
END:DAYLIGHT
BEGIN:STANDARD
TZOFFSETFROM:-0400
TZOFFSETTO:-0500
TZNAME:EST
DTSTART:20251102T060000
END:STANDARD
BEGIN:DAYLIGHT
TZOFFSETFROM:-0500
TZOFFSETTO:-0400
TZNAME:EDT
DTSTART:20260308T070000
END:DAYLIGHT
BEGIN:STANDARD
TZOFFSETFROM:-0400
TZOFFSETTO:-0500
TZNAME:EST
DTSTART:20261101T060000
END:STANDARD
END:VTIMEZONE
BEGIN:VEVENT
DTSTART;TZID=America/Detroit:20251002T160000
DTEND;TZID=America/Detroit:20251002T220000
DTSTAMP:20260423T193747
CREATED:20250929T173325Z
LAST-MODIFIED:20250929T175333Z
UID:54886-1759420800-1759442400@develop-review-hart-desti-07sbl4.dev02.devhart.com
SUMMARY:Hellwether Halloween Pop-Up at Toledo Spirits
DESCRIPTION:Beware Hellwether! The ultimate Halloween pop-up bar! \nTaking place in the Underground at Toledo Spirits\, Hellwether transforms the basement beer bar and pinball room into the most terrifying bar experience in the area. Embrace the terror of the season with seasonal beers\, spooky cocktails\, haunted tours\, and other activities designed to terrify!
URL:https://develop-review-hart-desti-07sbl4.dev02.devhart.com/event/hellwether-halloween-pop-up-at-toledo-spirits
LOCATION:Toledo Spirits Company\, 1301 N Summit St\, Toledo\, OH\, 43604\, United States
CATEGORIES:Beer,cocktails,holiday
ATTACH;FMTTYPE=image/png:https://minio.devhart.com/destination-toledo-website/wp-content/uploads/2025/09/17105731/toledo-spirits-hellwether-4x3-event-image.png
END:VEVENT
BEGIN:VEVENT
DTSTART;TZID=America/Detroit:20251030T180000
DTEND;TZID=America/Detroit:20251030T200000
DTSTAMP:20260423T193747
CREATED:20250930T124342Z
LAST-MODIFIED:20250930T124342Z
UID:54916-1761847200-1761854400@develop-review-hart-desti-07sbl4.dev02.devhart.com
SUMMARY:Gothic Creole Dinner
DESCRIPTION:Experience an unforgettable evening of mystery and flavor at Registry Bistro’s Gothic Creole Dinner on Thursday\, October 30. Set within the restaurant’s candlelit ballroom\, this one-night-only event blends Southern Creole tradition with Gothic elegance for a dining experience unlike any other. Guests will indulge in five inspired courses\, each infused with smoky spices and paired with craft cocktails that capture the haunting spirit of New Orleans after dark. With accompanying entertainment to enhance the atmosphere\, this enchanted dinner is perfect for those who crave both sophistication and a touch of the macabre. Seating is limited\, and reservations are required. $120 per guest plus tax and gratuity. Call 419-725-0444 for tickets.
URL:https://develop-review-hart-desti-07sbl4.dev02.devhart.com/event/gothic-creole-dinner
LOCATION:Registry Bistro\, 144 N Superior St\, Toledo\, OH\, 43604\, United States
CATEGORIES:cocktails,food,holiday
ATTACH;FMTTYPE=image/png:https://minio.devhart.com/destination-toledo-website/wp-content/uploads/2025/09/17105725/registry-bistro-gothic-creole-4x3-event-image.png
END:VEVENT
END:VCALENDAR