BEGIN:VCALENDAR
VERSION:2.0
PRODID:-//Destination Toledo - ECPv6.15.17.1//NONSGML v1.0//EN
CALSCALE:GREGORIAN
METHOD:PUBLISH
X-WR-CALNAME:Destination Toledo
X-ORIGINAL-URL:https://develop-review-hart-desti-07sbl4.dev02.devhart.com
X-WR-CALDESC:Events for Destination Toledo
REFRESH-INTERVAL;VALUE=DURATION:PT1H
X-Robots-Tag:noindex
X-PUBLISHED-TTL:PT1H
BEGIN:VTIMEZONE
TZID:America/Detroit
BEGIN:DAYLIGHT
TZOFFSETFROM:-0500
TZOFFSETTO:-0400
TZNAME:EDT
DTSTART:20240310T070000
END:DAYLIGHT
BEGIN:STANDARD
TZOFFSETFROM:-0400
TZOFFSETTO:-0500
TZNAME:EST
DTSTART:20241103T060000
END:STANDARD
BEGIN:DAYLIGHT
TZOFFSETFROM:-0500
TZOFFSETTO:-0400
TZNAME:EDT
DTSTART:20250309T070000
END:DAYLIGHT
BEGIN:STANDARD
TZOFFSETFROM:-0400
TZOFFSETTO:-0500
TZNAME:EST
DTSTART:20251102T060000
END:STANDARD
BEGIN:DAYLIGHT
TZOFFSETFROM:-0500
TZOFFSETTO:-0400
TZNAME:EDT
DTSTART:20260308T070000
END:DAYLIGHT
BEGIN:STANDARD
TZOFFSETFROM:-0400
TZOFFSETTO:-0500
TZNAME:EST
DTSTART:20261101T060000
END:STANDARD
END:VTIMEZONE
BEGIN:VEVENT
DTSTART;TZID=America/Detroit:20251002T160000
DTEND;TZID=America/Detroit:20251002T220000
DTSTAMP:20260422T032934
CREATED:20250929T173325Z
LAST-MODIFIED:20250929T175333Z
UID:54886-1759420800-1759442400@develop-review-hart-desti-07sbl4.dev02.devhart.com
SUMMARY:Hellwether Halloween Pop-Up at Toledo Spirits
DESCRIPTION:Beware Hellwether! The ultimate Halloween pop-up bar! \nTaking place in the Underground at Toledo Spirits\, Hellwether transforms the basement beer bar and pinball room into the most terrifying bar experience in the area. Embrace the terror of the season with seasonal beers\, spooky cocktails\, haunted tours\, and other activities designed to terrify!
URL:https://develop-review-hart-desti-07sbl4.dev02.devhart.com/event/hellwether-halloween-pop-up-at-toledo-spirits
LOCATION:Toledo Spirits Company\, 1301 N Summit St\, Toledo\, OH\, 43604\, United States
CATEGORIES:Beer,cocktails,holiday
ATTACH;FMTTYPE=image/png:https://minio.devhart.com/destination-toledo-website/wp-content/uploads/2025/09/17105731/toledo-spirits-hellwether-4x3-event-image.png
END:VEVENT
BEGIN:VEVENT
DTSTART;TZID=America/Detroit:20251002T180000
DTEND;TZID=America/Detroit:20251002T193000
DTSTAMP:20260422T032934
CREATED:20250923T145421Z
LAST-MODIFIED:20250923T145421Z
UID:54738-1759428000-1759433400@develop-review-hart-desti-07sbl4.dev02.devhart.com
SUMMARY:Cemetarium Workshop w/ The Green Crow Plants
DESCRIPTION:Toledo Spirits and The Green Crow Plants invite guests to celebrate the season with the Cemetarium Workshop\, a hands-on experience that blends creativity\, nature\, and a touch of Halloween magic. Participants will design their own bioactive terrarium complete with moss\, plants\, and springtails—tiny beneficial insects that help maintain a healthy\, balanced ecosystem with its own self-sustaining “rain cycle.” \nEach terrarium will feature customizable gravestones and glowing ghost accents\, allowing every guest to create a one-of-a-kind miniature world that is both spooky and enchanting. Using glass containers\, specially mixed soil\, rocks\, and greenery\, attendees will craft a living piece of art that requires little upkeep and can be enjoyed long after Halloween. \nGuests are encouraged to grab a cocktail from Toledo Spirits\, get creative\, and take home their unique terrarium masterpiece for a seasonal keepsake like no other.
URL:https://develop-review-hart-desti-07sbl4.dev02.devhart.com/event/cemetarium-workshop-w-the-green-crow-plants
LOCATION:Toledo Spirits Company\, 1301 N Summit St\, Toledo\, OH\, 43604\, United States
CATEGORIES:cocktails,crafts,educational
ATTACH;FMTTYPE=image/png:https://minio.devhart.com/destination-toledo-website/wp-content/uploads/2025/09/17105828/toledo-spirits-green-crow-halloween-4x3-event-image.png
END:VEVENT
BEGIN:VEVENT
DTSTART;TZID=America/Detroit:20251002T213000
DTEND;TZID=America/Detroit:20251003T000000
DTSTAMP:20260422T032934
CREATED:20250917T174023Z
LAST-MODIFIED:20250917T174023Z
UID:54615-1759440600-1759449600@develop-review-hart-desti-07sbl4.dev02.devhart.com
SUMMARY:Taylor Swift 'The Life of a Showgirl' Album Release Party
DESCRIPTION:Celebrate Taylor’s newest era: The Life of a Showgirl. \nJoin the fun at Migos on Thursday\, October 2\, starting at 9:30 PM for a night of Taylor’s greatest hits\, dancing\, and cocktails. When the clock strikes midnight\, Migos will be the first to celebrate The Life of a Showgirl with a live listening party. Grab your friends and make it a night to remember!
URL:https://develop-review-hart-desti-07sbl4.dev02.devhart.com/event/taylor-swift-the-life-of-a-showgirl-album-release-party
LOCATION:Migos\, 713 Monroe\, Toledo\, 43604
CATEGORIES:cocktails,entertainment
ATTACH;FMTTYPE=image/png:https://minio.devhart.com/destination-toledo-website/wp-content/uploads/2025/09/17105916/migos-taylor-swift-4x3-event-image.png
ORGANIZER;CN="Migos":MAILTO:lsmith@thinkcommunica.com
END:VEVENT
END:VCALENDAR