BEGIN:VCALENDAR
VERSION:2.0
PRODID:-//Destination Toledo - ECPv6.15.17.1//NONSGML v1.0//EN
CALSCALE:GREGORIAN
METHOD:PUBLISH
X-WR-CALNAME:Destination Toledo
X-ORIGINAL-URL:https://develop-review-hart-desti-07sbl4.dev02.devhart.com
X-WR-CALDESC:Events for Destination Toledo
REFRESH-INTERVAL;VALUE=DURATION:PT1H
X-Robots-Tag:noindex
X-PUBLISHED-TTL:PT1H
BEGIN:VTIMEZONE
TZID:America/Detroit
BEGIN:DAYLIGHT
TZOFFSETFROM:-0500
TZOFFSETTO:-0400
TZNAME:EDT
DTSTART:20240310T070000
END:DAYLIGHT
BEGIN:STANDARD
TZOFFSETFROM:-0400
TZOFFSETTO:-0500
TZNAME:EST
DTSTART:20241103T060000
END:STANDARD
BEGIN:DAYLIGHT
TZOFFSETFROM:-0500
TZOFFSETTO:-0400
TZNAME:EDT
DTSTART:20250309T070000
END:DAYLIGHT
BEGIN:STANDARD
TZOFFSETFROM:-0400
TZOFFSETTO:-0500
TZNAME:EST
DTSTART:20251102T060000
END:STANDARD
BEGIN:DAYLIGHT
TZOFFSETFROM:-0500
TZOFFSETTO:-0400
TZNAME:EDT
DTSTART:20260308T070000
END:DAYLIGHT
BEGIN:STANDARD
TZOFFSETFROM:-0400
TZOFFSETTO:-0500
TZNAME:EST
DTSTART:20261101T060000
END:STANDARD
END:VTIMEZONE
BEGIN:VEVENT
DTSTART;TZID=America/Detroit:20250607T110000
DTEND;TZID=America/Detroit:20250607T130000
DTSTAMP:20260420T002337
CREATED:20250317T153854Z
LAST-MODIFIED:20250317T153854Z
UID:39422-1749294000-1749301200@develop-review-hart-desti-07sbl4.dev02.devhart.com
SUMMARY:Saturday Brunch on the Glass City Pearl
DESCRIPTION:Enjoy brunch and a Saturday morning cruise on the Maumee River aboard the Glass City Pearl. Guests are encouraged to bring their own champagne and/or vodka to take advantage of our signature “Maumosa” and “Mary Dalby – Bloody Mary” recipes. Brunch will be catered in and is included in the ticket price. \nIf you have any dietary restrictions\, please include them within your booking information. Booking may cease 24 hours prior to the cruise to accommodate all catering requests. \nJ&M Cruise Lines 2025 Season\nJ&M Cruise Lines operates the Sandpiper\, Glass City Pearl\, and the Water Street Taxi & Tour\, and manages the Glass City Marina and the Downtown Toledo docks.  \nVisit www.jmcruiselines.com for more information about their boats\, cruises\, and policies. \nFor a full list of J&M Cruise Lines’ events visit www.jmcruiselines.com/calendar
URL:https://develop-review-hart-desti-07sbl4.dev02.devhart.com/event/saturday-brunch-on-the-glass-city-pearl
LOCATION:J&M Boat Launch\, 1 Jefferson Ave\, Toledo\, OH\, 43604\, United States
ATTACH;FMTTYPE=image/jpeg:https://minio.devhart.com/destination-toledo-website/wp-content/uploads/2025/03/17113527/DJI_0695.jpg
END:VEVENT
BEGIN:VEVENT
DTSTART;TZID=America/Detroit:20250823T190000
DTEND;TZID=America/Detroit:20250823T220000
DTSTAMP:20260420T002337
CREATED:20250609T130105Z
LAST-MODIFIED:20250609T130105Z
UID:52687-1755975600-1755986400@develop-review-hart-desti-07sbl4.dev02.devhart.com
SUMMARY:Science After Dark: Steamy Science
DESCRIPTION:It’s time to swipe right on science and unlock the secrets of sex\, love and attraction at Science After Dark: STEAMy Science at Imagination Station. \nThey’re turning up the heat for one night full of hot topics\, cool demonstrations and cheeky fun for adults. With over a dozen different activities to try\, you’ll find out what really makes sparks fly—from the science of love potions to learning the art of seduction. \nTickets \nAdmission: $20 \n\nSee and hear your heartbeat in a live visualizer\nDiscover the science of intimacy with electric stimuli\nAxe Me About My Ex—Axe Throwing\nLearn about star-crossed lovers through Astrology\nTest your knowledge with safe sex trivia\nMake love bracelets for your partner\, to showcase your relationship status or just for fun\n\nPlus! \n\nTry our specialty\, steamy cocktail or mocktail\nSee our latest exhibit: HOCKEY: Faster Than Ever\n\nFor more information about workshops and more activities being announced visit the Imagination Station’s website! \n\n\n\n\n\n\n\n\n\n*Each attendee must be at least 21 years of age to enter Science After Dark at Imagination Station. No admittance will be permitted without a valid ID.*
URL:https://develop-review-hart-desti-07sbl4.dev02.devhart.com/event/science-after-dark-steamy-science
LOCATION:Imagination Station\, 1 Discovery Way\, Toledo\, OH\, 43604
CATEGORIES:cocktails,educational
ATTACH;FMTTYPE=image/png:https://minio.devhart.com/destination-toledo-website/wp-content/uploads/2025/06/17110900/steamy-science-4x3-event-image.png
END:VEVENT
END:VCALENDAR