BEGIN:VCALENDAR
VERSION:2.0
PRODID:-//Destination Toledo - ECPv6.15.17.1//NONSGML v1.0//EN
CALSCALE:GREGORIAN
METHOD:PUBLISH
X-WR-CALNAME:Destination Toledo
X-ORIGINAL-URL:https://develop-review-hart-desti-07sbl4.dev02.devhart.com
X-WR-CALDESC:Events for Destination Toledo
REFRESH-INTERVAL;VALUE=DURATION:PT1H
X-Robots-Tag:noindex
X-PUBLISHED-TTL:PT1H
BEGIN:VTIMEZONE
TZID:America/Detroit
BEGIN:DAYLIGHT
TZOFFSETFROM:-0500
TZOFFSETTO:-0400
TZNAME:EDT
DTSTART:20240310T070000
END:DAYLIGHT
BEGIN:STANDARD
TZOFFSETFROM:-0400
TZOFFSETTO:-0500
TZNAME:EST
DTSTART:20241103T060000
END:STANDARD
BEGIN:DAYLIGHT
TZOFFSETFROM:-0500
TZOFFSETTO:-0400
TZNAME:EDT
DTSTART:20250309T070000
END:DAYLIGHT
BEGIN:STANDARD
TZOFFSETFROM:-0400
TZOFFSETTO:-0500
TZNAME:EST
DTSTART:20251102T060000
END:STANDARD
BEGIN:DAYLIGHT
TZOFFSETFROM:-0500
TZOFFSETTO:-0400
TZNAME:EDT
DTSTART:20260308T070000
END:DAYLIGHT
BEGIN:STANDARD
TZOFFSETFROM:-0400
TZOFFSETTO:-0500
TZNAME:EST
DTSTART:20261101T060000
END:STANDARD
END:VTIMEZONE
BEGIN:VEVENT
DTSTART;TZID=America/Detroit:20250712T180000
DTEND;TZID=America/Detroit:20250712T230000
DTSTAMP:20260422T232821
CREATED:20250702T152832Z
LAST-MODIFIED:20250702T152832Z
UID:53166-1752343200-1752361200@develop-review-hart-desti-07sbl4.dev02.devhart.com
SUMMARY:CLUB X Dance Club | Toledo Spirits Company
DESCRIPTION:Club X is back at Toledo Spirits Company!\n\nIt’s time to throwback to the era of TRL\, body glitter\, and late-night dance floors. Join Toledo Spirits at Bellwether for Club X\, the ultimate dance party made for those that love the 80s and 90s!\n\nDJs Folk and Mattimoe spinning your favorite throwbacks! Signature 90s dance club inspired cocktails\, including Dirty Clearly Canadians!\n\nGrab your girls\, dust off that mini backpack\, and meet them under the lights!
URL:https://develop-review-hart-desti-07sbl4.dev02.devhart.com/event/club-x-dance-club-toledo-spirits-company
LOCATION:Toledo Spirits Company\, 1301 N Summit St\, Toledo\, OH\, 43604\, United States
CATEGORIES:cocktails,dance
ATTACH;FMTTYPE=image/png:https://minio.devhart.com/destination-toledo-website/wp-content/uploads/2025/07/17110643/club-X-dance-party-toledo-spirit-4x3-event-image-Recovered.png
END:VEVENT
END:VCALENDAR