BEGIN:VCALENDAR
VERSION:2.0
PRODID:-//Destination Toledo - ECPv6.15.17.1//NONSGML v1.0//EN
CALSCALE:GREGORIAN
METHOD:PUBLISH
X-ORIGINAL-URL:https://develop-review-hart-desti-07sbl4.dev02.devhart.com
X-WR-CALDESC:Events for Destination Toledo
REFRESH-INTERVAL;VALUE=DURATION:PT1H
X-Robots-Tag:noindex
X-PUBLISHED-TTL:PT1H
BEGIN:VTIMEZONE
TZID:America/Detroit
BEGIN:DAYLIGHT
TZOFFSETFROM:-0500
TZOFFSETTO:-0400
TZNAME:EDT
DTSTART:20250309T070000
END:DAYLIGHT
BEGIN:STANDARD
TZOFFSETFROM:-0400
TZOFFSETTO:-0500
TZNAME:EST
DTSTART:20251102T060000
END:STANDARD
BEGIN:DAYLIGHT
TZOFFSETFROM:-0500
TZOFFSETTO:-0400
TZNAME:EDT
DTSTART:20260308T070000
END:DAYLIGHT
BEGIN:STANDARD
TZOFFSETFROM:-0400
TZOFFSETTO:-0500
TZNAME:EST
DTSTART:20261101T060000
END:STANDARD
BEGIN:DAYLIGHT
TZOFFSETFROM:-0500
TZOFFSETTO:-0400
TZNAME:EDT
DTSTART:20270314T070000
END:DAYLIGHT
BEGIN:STANDARD
TZOFFSETFROM:-0400
TZOFFSETTO:-0500
TZNAME:EST
DTSTART:20271107T060000
END:STANDARD
END:VTIMEZONE
BEGIN:VEVENT
DTSTART;TZID=America/Detroit:20260110T000000
DTEND;TZID=America/Detroit:20260110T235959
DTSTAMP:20260423T020147
CREATED:20251014T200251Z
LAST-MODIFIED:20251014T200535Z
UID:55385-1768003200-1768089599@develop-review-hart-desti-07sbl4.dev02.devhart.com
SUMMARY:Toledo Rockets Basketball vs. Miami\, OH - Time TBA
DESCRIPTION:Toledo Rockets Men’s Basketball vs. Miami\, OH \nThe Toledo Rockets continue their MAC conference schedule at Savage Arena with a matchup against Miami\, OH. \nUnder the leadership of longtime head coach Tod Kowalczyk\, now entering his 16th season\, the Rockets are primed for another year of championship-caliber basketball. With eight 20-win seasons in the past 12 years\, Toledo continues to be one of the MAC’s premier programs. \nThis season’s lineup features dynamic returning guard Sonny Wilson\, along with high-profile additions including former Ohio State Buckeye center Austin Parks\, CMU sharpshooter Kyler Vanderjagt\, and a talented class of freshmen ready to make their mark. \nDon’t miss your chance to experience the fast-paced action\, electric atmosphere\, and championship energy of Toledo Rockets basketball. \n* Due to television contracts\, some scheduled Saturday games may be moved to Friday night.
URL:https://develop-review-hart-desti-07sbl4.dev02.devhart.com/event/toledo-rockets-basketball-vs-miami-oh-time-tba
LOCATION:University of Toledo\, 2801 W Bancroft St\, Toledo\, Ohio\, 43606\, United States
CATEGORIES:sports
ATTACH;FMTTYPE=image/png:https://minio.devhart.com/destination-toledo-website/wp-content/uploads/2025/10/17105433/ut-rocket-basketball-4x3-event-image.png
END:VEVENT
BEGIN:VEVENT
DTSTART;TZID=America/Detroit:20260110T140000
DTEND;TZID=America/Detroit:20260110T160000
DTSTAMP:20260423T020147
CREATED:20251017T175924Z
LAST-MODIFIED:20251017T183934Z
UID:55465-1768053600-1768060800@develop-review-hart-desti-07sbl4.dev02.devhart.com
SUMMARY:Toledo Rockets Women's Basketball vs. Western Michigan
DESCRIPTION:Savage Arena will be rocking as the Toledo Rockets women’s basketball team continues their conference schedule against Western Michigan on Saturday\, January 10\, 2026. \nLed by head coach Ginny Boggess\, now in her second season\, the Rockets are building on a stellar 24–9 campaign and a run to the MAC Tournament Championship. Veterans Kendall Carruthers\, Cadence Dykstra\, Ella Weaver\, and Faith Fedd-Robinson return to anchor a hungry\, talented roster looking to make a statement this season. \nToledo’s home-court advantage is one of the best in the nation—Savage Arena has led the MAC in attendance for 30 consecutive seasons and consistently ranks among the Top 30 nationally for fan support. Don’t miss the chance to see high-level women’s basketball\, electric energy\, and a community that loves its Rockets. \n🎟️ Tickets and Info: UTRockets.com/WBBtix📍 Location: Savage Arena\, University of Toledo🕒 Date: Saturday\, January 10\, 2026
URL:https://develop-review-hart-desti-07sbl4.dev02.devhart.com/event/toledo-rockets-womens-basketball-vs-western-michigan
LOCATION:University of Toledo\, 2801 W Bancroft St\, Toledo\, Ohio\, 43606\, United States
CATEGORIES:sports
ATTACH;FMTTYPE=image/png:https://minio.devhart.com/destination-toledo-website/wp-content/uploads/2025/10/17105423/ut-rockets-womens-basketball-4x3-event-image.png
END:VEVENT
BEGIN:VEVENT
DTSTART;TZID=America/Detroit:20260113T190000
DTEND;TZID=America/Detroit:20260113T210000
DTSTAMP:20260423T020147
CREATED:20251014T200735Z
LAST-MODIFIED:20251014T201054Z
UID:55387-1768330800-1768338000@develop-review-hart-desti-07sbl4.dev02.devhart.com
SUMMARY:Toledo Rockets Basketball vs. Ohio
DESCRIPTION:Toledo Rockets Men’s Basketball vs. Ohio \nThe Toledo Rockets continue their MAC conference schedule at Savage Arena with a matchup against Ohio. \nUnder the leadership of longtime head coach Tod Kowalczyk\, now entering his 16th season\, the Rockets are primed for another year of championship-caliber basketball. With eight 20-win seasons in the past 12 years\, Toledo continues to be one of the MAC’s premier programs. \nThis season’s lineup features dynamic returning guard Sonny Wilson\, along with high-profile additions including former Ohio State Buckeye center Austin Parks\, CMU sharpshooter Kyler Vanderjagt\, and a talented class of freshmen ready to make their mark. \nDon’t miss your chance to experience the fast-paced action\, electric atmosphere\, and championship energy of Toledo Rockets basketball.
URL:https://develop-review-hart-desti-07sbl4.dev02.devhart.com/event/toledo-rockets-basketball-vs-ohio
LOCATION:University of Toledo\, 2801 W Bancroft St\, Toledo\, Ohio\, 43606\, United States
CATEGORIES:sports
ATTACH;FMTTYPE=image/png:https://minio.devhart.com/destination-toledo-website/wp-content/uploads/2025/10/17105433/ut-rocket-basketball-4x3-event-image.png
END:VEVENT
BEGIN:VEVENT
DTSTART;TZID=America/Detroit:20260114T190000
DTEND;TZID=America/Detroit:20260114T210000
DTSTAMP:20260423T020147
CREATED:20251017T180200Z
LAST-MODIFIED:20251017T183913Z
UID:55466-1768417200-1768424400@develop-review-hart-desti-07sbl4.dev02.devhart.com
SUMMARY:Toledo Rockets Women's Basketball vs. Northern Illinois
DESCRIPTION:Savage Arena will be rocking as the Toledo Rockets women’s basketball team continues their conference schedule against Northern Illinois on Wednesday\, January 14\, 2026. \nLed by head coach Ginny Boggess\, now in her second season\, the Rockets are building on a stellar 24–9 campaign and a run to the MAC Tournament Championship. Veterans Kendall Carruthers\, Cadence Dykstra\, Ella Weaver\, and Faith Fedd-Robinson return to anchor a hungry\, talented roster looking to make a statement this season. \nToledo’s home-court advantage is one of the best in the nation—Savage Arena has led the MAC in attendance for 30 consecutive seasons and consistently ranks among the Top 30 nationally for fan support. Don’t miss the chance to see high-level women’s basketball\, electric energy\, and a community that loves its Rockets. \n🎟️ Tickets and Info: UTRockets.com/WBBtix📍 Location: Savage Arena\, University of Toledo🕒 Date: Wednesday\, January 14\, 2026
URL:https://develop-review-hart-desti-07sbl4.dev02.devhart.com/event/toledo-rockets-womens-basketball-vs-northern-illinois
LOCATION:University of Toledo\, 2801 W Bancroft St\, Toledo\, Ohio\, 43606\, United States
CATEGORIES:sports
ATTACH;FMTTYPE=image/png:https://minio.devhart.com/destination-toledo-website/wp-content/uploads/2025/10/17105423/ut-rockets-womens-basketball-4x3-event-image.png
END:VEVENT
BEGIN:VEVENT
DTSTART;TZID=America/Detroit:20260124T170000
DTEND;TZID=America/Detroit:20260124T193000
DTSTAMP:20260423T020147
CREATED:20251017T150129Z
LAST-MODIFIED:20251017T150129Z
UID:55447-1769274000-1769283000@develop-review-hart-desti-07sbl4.dev02.devhart.com
SUMMARY:Toledo Rockets Basketball vs. Bowling Green
DESCRIPTION:Toledo Rockets Men’s Basketball vs. Bowling Green \nThe Toledo Rockets continue their MAC conference schedule at Savage Arena with a matchup against their fiercest rival Bowling Green. \nUnder the leadership of longtime head coach Tod Kowalczyk\, now entering his 16th season\, the Rockets are primed for another year of championship-caliber basketball. With eight 20-win seasons in the past 12 years\, Toledo continues to be one of the MAC’s premier programs. \nThis season’s lineup features dynamic returning guard Sonny Wilson\, along with high-profile additions including former Ohio State Buckeye center Austin Parks\, CMU sharpshooter Kyler Vanderjagt\, and a talented class of freshmen ready to make their mark. \nDon’t miss your chance to experience the fast-paced action\, electric atmosphere\, and championship energy of Toledo Rockets basketball.
URL:https://develop-review-hart-desti-07sbl4.dev02.devhart.com/event/toledo-rockets-basketball-vs-bowling-green
LOCATION:University of Toledo\, 2801 W Bancroft St\, Toledo\, Ohio\, 43606\, United States
CATEGORIES:sports
ATTACH;FMTTYPE=image/png:https://minio.devhart.com/destination-toledo-website/wp-content/uploads/2025/10/17105433/ut-rocket-basketball-4x3-event-image.png
END:VEVENT
BEGIN:VEVENT
DTSTART;TZID=America/Detroit:20260128T190000
DTEND;TZID=America/Detroit:20260128T210000
DTSTAMP:20260423T020147
CREATED:20251017T181358Z
LAST-MODIFIED:20251017T183805Z
UID:55467-1769626800-1769634000@develop-review-hart-desti-07sbl4.dev02.devhart.com
SUMMARY:Toledo Rockets Women's Basketball vs. Kent State
DESCRIPTION:Savage Arena will be rocking as the Toledo Rockets women’s basketball team continues their conference schedule against Kent State on Wednesday\, January 28\, 2026. \nLed by head coach Ginny Boggess\, now in her second season\, the Rockets are building on a stellar 24–9 campaign and a run to the MAC Tournament Championship. Veterans Kendall Carruthers\, Cadence Dykstra\, Ella Weaver\, and Faith Fedd-Robinson return to anchor a hungry\, talented roster looking to make a statement this season. \nToledo’s home-court advantage is one of the best in the nation—Savage Arena has led the MAC in attendance for 30 consecutive seasons and consistently ranks among the Top 30 nationally for fan support. Don’t miss the chance to see high-level women’s basketball\, electric energy\, and a community that loves its Rockets. \n🎟️ Tickets and Info: UTRockets.com/WBBtix📍 Location: Savage Arena\, University of Toledo🕒 Date: Wednesday\, January 28\, 2026
URL:https://develop-review-hart-desti-07sbl4.dev02.devhart.com/event/toledo-rockets-womens-basketball-vs-kent-state
LOCATION:University of Toledo\, 2801 W Bancroft St\, Toledo\, Ohio\, 43606\, United States
CATEGORIES:sports
ATTACH;FMTTYPE=image/png:https://minio.devhart.com/destination-toledo-website/wp-content/uploads/2025/10/17105423/ut-rockets-womens-basketball-4x3-event-image.png
END:VEVENT
BEGIN:VEVENT
DTSTART;TZID=America/Detroit:20260131T000000
DTEND;TZID=America/Detroit:20260131T235959
DTSTAMP:20260423T020147
CREATED:20251017T150922Z
LAST-MODIFIED:20251017T150951Z
UID:55448-1769817600-1769903999@develop-review-hart-desti-07sbl4.dev02.devhart.com
SUMMARY:Toledo Rockets Basketball vs. Ball State - Time TBA
DESCRIPTION:Toledo Rockets Men’s Basketball vs. Ball State \nThe Toledo Rockets continue their MAC conference schedule at Savage Arena with a matchup against Ball State. \nUnder the leadership of longtime head coach Tod Kowalczyk\, now entering his 16th season\, the Rockets are primed for another year of championship-caliber basketball. With eight 20-win seasons in the past 12 years\, Toledo continues to be one of the MAC’s premier programs. \nThis season’s lineup features dynamic returning guard Sonny Wilson\, along with high-profile additions including former Ohio State Buckeye center Austin Parks\, CMU sharpshooter Kyler Vanderjagt\, and a talented class of freshmen ready to make their mark. \nDon’t miss your chance to experience the fast-paced action\, electric atmosphere\, and championship energy of Toledo Rockets basketball. \n* Due to television contracts\, some scheduled Saturday games may be moved to Friday night.
URL:https://develop-review-hart-desti-07sbl4.dev02.devhart.com/event/toledo-rockets-basketball-vs-ball-state-time-tba
LOCATION:University of Toledo\, 2801 W Bancroft St\, Toledo\, Ohio\, 43606\, United States
CATEGORIES:sports
ATTACH;FMTTYPE=image/png:https://minio.devhart.com/destination-toledo-website/wp-content/uploads/2025/10/17105433/ut-rocket-basketball-4x3-event-image.png
END:VEVENT
BEGIN:VEVENT
DTSTART;TZID=America/Detroit:20260131T000000
DTEND;TZID=America/Detroit:20260131T235959
DTSTAMP:20260423T020147
CREATED:20251017T181737Z
LAST-MODIFIED:20251017T183743Z
UID:55468-1769817600-1769903999@develop-review-hart-desti-07sbl4.dev02.devhart.com
SUMMARY:Toledo Rockets Women's Basketball vs. Bowling Green - Time TBA
DESCRIPTION:The biggest rivalry in the MAC will be heating up Savage Arena as the Toledo Rockets women’s basketball team takes on Bowling Green on Saturday\, January 31\, 2026. \nLed by head coach Ginny Boggess\, now in her second season\, the Rockets are building on a stellar 24–9 campaign and a run to the MAC Tournament Championship. Veterans Kendall Carruthers\, Cadence Dykstra\, Ella Weaver\, and Faith Fedd-Robinson return to anchor a hungry\, talented roster looking to make a statement this season. \nToledo’s home-court advantage is one of the best in the nation—Savage Arena has led the MAC in attendance for 30 consecutive seasons and consistently ranks among the Top 30 nationally for fan support. Don’t miss the chance to see high-level women’s basketball\, electric energy\, and a community that loves its Rockets. \n🎟️ Tickets and Info: UTRockets.com/WBBtix📍 Location: Savage Arena\, University of Toledo🕒 Date: Saturday\, January 31\, 2026
URL:https://develop-review-hart-desti-07sbl4.dev02.devhart.com/event/toledo-rockets-womens-basketball-vs-bowling-green-time-tba
LOCATION:University of Toledo\, 2801 W Bancroft St\, Toledo\, Ohio\, 43606\, United States
CATEGORIES:sports
ATTACH;FMTTYPE=image/png:https://minio.devhart.com/destination-toledo-website/wp-content/uploads/2025/10/17105423/ut-rockets-womens-basketball-4x3-event-image.png
END:VEVENT
END:VCALENDAR