BEGIN:VCALENDAR
VERSION:2.0
PRODID:-//Destination Toledo - ECPv6.15.17.1//NONSGML v1.0//EN
CALSCALE:GREGORIAN
METHOD:PUBLISH
X-WR-CALNAME:Destination Toledo
X-ORIGINAL-URL:https://develop-review-hart-desti-07sbl4.dev02.devhart.com
X-WR-CALDESC:Events for Destination Toledo
REFRESH-INTERVAL;VALUE=DURATION:PT1H
X-Robots-Tag:noindex
X-PUBLISHED-TTL:PT1H
BEGIN:VTIMEZONE
TZID:America/Detroit
BEGIN:DAYLIGHT
TZOFFSETFROM:-0500
TZOFFSETTO:-0400
TZNAME:EDT
DTSTART:20240310T070000
END:DAYLIGHT
BEGIN:STANDARD
TZOFFSETFROM:-0400
TZOFFSETTO:-0500
TZNAME:EST
DTSTART:20241103T060000
END:STANDARD
BEGIN:DAYLIGHT
TZOFFSETFROM:-0500
TZOFFSETTO:-0400
TZNAME:EDT
DTSTART:20250309T070000
END:DAYLIGHT
BEGIN:STANDARD
TZOFFSETFROM:-0400
TZOFFSETTO:-0500
TZNAME:EST
DTSTART:20251102T060000
END:STANDARD
BEGIN:DAYLIGHT
TZOFFSETFROM:-0500
TZOFFSETTO:-0400
TZNAME:EDT
DTSTART:20260308T070000
END:DAYLIGHT
BEGIN:STANDARD
TZOFFSETFROM:-0400
TZOFFSETTO:-0500
TZNAME:EST
DTSTART:20261101T060000
END:STANDARD
END:VTIMEZONE
BEGIN:VEVENT
DTSTART;TZID=America/Detroit:20250816T000000
DTEND;TZID=America/Detroit:20250817T235959
DTSTAMP:20260419T175339
CREATED:20250714T172429Z
LAST-MODIFIED:20250714T172517Z
UID:53081-1755302400-1755475199@develop-review-hart-desti-07sbl4.dev02.devhart.com
SUMMARY:Perrysburg Hearts the Arts
DESCRIPTION:Perrysburg Hearts the Arts returns for its second annual celebration on August 16–17\, 2025\, in the heart of downtown Perrysburg\, Ohio. \nProduced by The Guild of Artists and Artisans and supported by Visit Perrysburg\, this juried fine art fair features approximately 100 artists from across the country working in a variety of media\, including: Jewelry\, Ceramics\, Painting\, Glass\, Photography\, Fiber\, and more! \nThe event is free to the public and includes food trucks\, children’s activities\, and easy access to local shops and restaurants. The downtown location offers a walkable\, welcoming atmosphere for all ages. Saturday evening concludes with Boots in the ‘Burg\, a live music concert featuring both local performers and national headliner Niko Moon.
URL:https://develop-review-hart-desti-07sbl4.dev02.devhart.com/event/perrysburg-hearts-the-arts
LOCATION:Downtown Perrysburg\, Perrysburg\, OH\, United States
CATEGORIES:art,family friendly,food,shopping
ATTACH;FMTTYPE=image/jpeg:https://minio.devhart.com/destination-toledo-website/wp-content/uploads/2025/06/17110656/PHA2024-37-scaled.jpg
END:VEVENT
BEGIN:VEVENT
DTSTART;TZID=America/Detroit:20250815T170000
DTEND;TZID=America/Detroit:20250815T230000
DTSTAMP:20260419T175339
CREATED:20250627T153449Z
LAST-MODIFIED:20250627T153449Z
UID:53049-1755277200-1755298800@develop-review-hart-desti-07sbl4.dev02.devhart.com
SUMMARY:St George Cathedral Summer Festival
DESCRIPTION:Stop by St. George Orthodox Cathedral for their 2025 Annual Summer Festival August 15-17! The festival will be held on the Cathedral grounds at 3754 Woodley Road. \nOn Friday\, August 15th the Middle Eastern Festival gate will open at 5:00 pm and go through on Saturday\, August 16th at 4:00 PM\, and close on Sunday\, August 17th from noon until 5:00 pm. \nAdmission is $5.00 per person\, and children 10 and under are free! \nThis year’s festival will feature local bands of Madison Avenue on Friday and Saturday night from 7-11 pm and on Sunday from 2-5 pm. You can also expect Middle Eastern music\, and Arabic dancing throughout the weekend! \nMiddle Eastern and American food will be available for purchase. Favorites will include sfeeha (meat pies)\, green beans and rice\, baked kibbe (a meat and wheat mixture)\, grape leaf rolls\, and the Middle Eastern pastries that everyone craves. In the Fast Food area Middle Eastern and American sandwiches\, french fries\, and the ever-popular Zalabee (elephant ears) are among the smells filling the air. Adult beverages and soda will also be available. \nThere will be a children’s area with kiddie carnival games\, crafts\, and bouncy houses and more! \nSelf-guided church tours will run throughout the festival hours and church memorabilia and novelties will be available for sale. \nBring your family and friends to the only Middle Eastern church festival in the Toledo! For more information\, please call the Cathedral at 419 475-7054.
URL:https://develop-review-hart-desti-07sbl4.dev02.devhart.com/event/st-george-cathedral-summer-festival
LOCATION:St George Cathedral\, 3754 Woodley Road\, Toledo\, OH\, 43606\, United States
CATEGORIES:dance,entertainment,family friendly,Festival,food,live music,shopping
ATTACH;FMTTYPE=image/jpeg:https://minio.devhart.com/destination-toledo-website/wp-content/uploads/2025/06/17110704/2025-Festival-Poster-e1751038477692.jpg
END:VEVENT
END:VCALENDAR