BEGIN:VCALENDAR
VERSION:2.0
PRODID:-//Destination Toledo - ECPv6.15.17.1//NONSGML v1.0//EN
CALSCALE:GREGORIAN
METHOD:PUBLISH
X-WR-CALNAME:Destination Toledo
X-ORIGINAL-URL:https://develop-review-hart-desti-07sbl4.dev02.devhart.com
X-WR-CALDESC:Events for Destination Toledo
REFRESH-INTERVAL;VALUE=DURATION:PT1H
X-Robots-Tag:noindex
X-PUBLISHED-TTL:PT1H
BEGIN:VTIMEZONE
TZID:America/Detroit
BEGIN:DAYLIGHT
TZOFFSETFROM:-0500
TZOFFSETTO:-0400
TZNAME:EDT
DTSTART:20240310T070000
END:DAYLIGHT
BEGIN:STANDARD
TZOFFSETFROM:-0400
TZOFFSETTO:-0500
TZNAME:EST
DTSTART:20241103T060000
END:STANDARD
BEGIN:DAYLIGHT
TZOFFSETFROM:-0500
TZOFFSETTO:-0400
TZNAME:EDT
DTSTART:20250309T070000
END:DAYLIGHT
BEGIN:STANDARD
TZOFFSETFROM:-0400
TZOFFSETTO:-0500
TZNAME:EST
DTSTART:20251102T060000
END:STANDARD
BEGIN:DAYLIGHT
TZOFFSETFROM:-0500
TZOFFSETTO:-0400
TZNAME:EDT
DTSTART:20260308T070000
END:DAYLIGHT
BEGIN:STANDARD
TZOFFSETFROM:-0400
TZOFFSETTO:-0500
TZNAME:EST
DTSTART:20261101T060000
END:STANDARD
END:VTIMEZONE
BEGIN:VEVENT
DTSTART;TZID=America/Detroit:20250704T073000
DTEND;TZID=America/Detroit:20250704T113000
DTSTAMP:20260423T174100
CREATED:20250701T163310Z
LAST-MODIFIED:20250701T164522Z
UID:53136-1751614200-1751628600@develop-review-hart-desti-07sbl4.dev02.devhart.com
SUMMARY:WTOL River Run 5K/10K
DESCRIPTION:Dive into the action this Independence Day with the annual WTOL River Run in downtown Toledo! New this year is a stand-alone 5K as well as the traditional 10K. Celebrate America’s birthday with an unforgettable run through the heart of Toledo\, a scenic road race perfect for runners of all fitness levels. Starting and finishing in the heart of Downtown Toledo\, Ohio\, at the iconic WTOL 11 building on Summit Street. Both the 5K and 10K courses take you across two iconic bridges that offer breathtaking views of the Maumee River.
URL:https://develop-review-hart-desti-07sbl4.dev02.devhart.com/event/wtol-river-run-5k-10k
LOCATION:WTOL\, 730 N Summit St\, Toledo\, Ohio\, 43604
CATEGORIES:exercise,running
ATTACH;FMTTYPE=image/png:https://minio.devhart.com/destination-toledo-website/wp-content/uploads/2025/07/17110648/wtol-run-4x3-event-image.png
END:VEVENT
BEGIN:VEVENT
DTSTART;TZID=America/Detroit:20250713T080000
DTEND;TZID=America/Detroit:20250713T113000
DTSTAMP:20260423T174100
CREATED:20250701T165335Z
LAST-MODIFIED:20250701T171749Z
UID:53141-1752393600-1752406200@develop-review-hart-desti-07sbl4.dev02.devhart.com
SUMMARY:20th Annual Women's Trillium Triathlon & Duathlon
DESCRIPTION:A FAVORITE WOMEN-ONLY MULTI-SPORT EVENT\nSince 2005\, this women’s only event has focused on empowering the competitive spirit in all women.\nRelay Event NOW OPEN!!!\nThis day is all about you!\nRegistration is open to women only. Flowers at the finish line\, finisher medals for all\, and a hot breakfast for the post race party await you.
URL:https://develop-review-hart-desti-07sbl4.dev02.devhart.com/event/20th-annual-womens-trillium-triathlon-duathlon
LOCATION:Centennial Terrace\, 5773 Centennial Road\, Sylvania\, Ohio\, 43560\, United States
CATEGORIES:exercise,running
ATTACH;FMTTYPE=image/png:https://minio.devhart.com/destination-toledo-website/wp-content/uploads/2025/07/17110648/trillium-race-4x3-event-image.png
END:VEVENT
BEGIN:VEVENT
DTSTART;TZID=America/Detroit:20250717T190000
DTEND;TZID=America/Detroit:20250717T230000
DTSTAMP:20260423T174100
CREATED:20250701T190851Z
LAST-MODIFIED:20250701T192155Z
UID:53149-1752778800-1752793200@develop-review-hart-desti-07sbl4.dev02.devhart.com
SUMMARY:Ohio-Michigan Race in Two States\, Dinner & Concert
DESCRIPTION:Dave’s Running Shop’s annual summer run and concert features an Ohio-Michigan border battle for runners — a race in two states. Join the race and then take part in the best post-race party of the year at Centennial Terrace.
URL:https://develop-review-hart-desti-07sbl4.dev02.devhart.com/event/ohio-michigan-race-in-two-states-dinner-concert
LOCATION:Centennial Terrace\, 5773 Centennial Road\, Sylvania\, Ohio\, 43560\, United States
CATEGORIES:exercise,running
ATTACH;FMTTYPE=image/png:https://minio.devhart.com/destination-toledo-website/wp-content/uploads/2025/07/17110646/daves-oh-mi-race-4x3-event-image.png
END:VEVENT
END:VCALENDAR