BEGIN:VCALENDAR
VERSION:2.0
PRODID:-//Destination Toledo - ECPv6.15.17.1//NONSGML v1.0//EN
CALSCALE:GREGORIAN
METHOD:PUBLISH
X-ORIGINAL-URL:https://develop-review-hart-desti-07sbl4.dev02.devhart.com
X-WR-CALDESC:Events for Destination Toledo
REFRESH-INTERVAL;VALUE=DURATION:PT1H
X-Robots-Tag:noindex
X-PUBLISHED-TTL:PT1H
BEGIN:VTIMEZONE
TZID:America/Detroit
BEGIN:DAYLIGHT
TZOFFSETFROM:-0500
TZOFFSETTO:-0400
TZNAME:EDT
DTSTART:20240310T070000
END:DAYLIGHT
BEGIN:STANDARD
TZOFFSETFROM:-0400
TZOFFSETTO:-0500
TZNAME:EST
DTSTART:20241103T060000
END:STANDARD
BEGIN:DAYLIGHT
TZOFFSETFROM:-0500
TZOFFSETTO:-0400
TZNAME:EDT
DTSTART:20250309T070000
END:DAYLIGHT
BEGIN:STANDARD
TZOFFSETFROM:-0400
TZOFFSETTO:-0500
TZNAME:EST
DTSTART:20251102T060000
END:STANDARD
BEGIN:DAYLIGHT
TZOFFSETFROM:-0500
TZOFFSETTO:-0400
TZNAME:EDT
DTSTART:20260308T070000
END:DAYLIGHT
BEGIN:STANDARD
TZOFFSETFROM:-0400
TZOFFSETTO:-0500
TZNAME:EST
DTSTART:20261101T060000
END:STANDARD
BEGIN:DAYLIGHT
TZOFFSETFROM:-0500
TZOFFSETTO:-0400
TZNAME:EDT
DTSTART:20270314T070000
END:DAYLIGHT
BEGIN:STANDARD
TZOFFSETFROM:-0400
TZOFFSETTO:-0500
TZNAME:EST
DTSTART:20271107T060000
END:STANDARD
END:VTIMEZONE
BEGIN:VEVENT
DTSTART;TZID=America/Detroit:20251002T100000
DTEND;TZID=America/Detroit:20251002T180000
DTSTAMP:20260419T153204
CREATED:20251002T172954Z
LAST-MODIFIED:20251002T173507Z
UID:54984-1759399200-1759428000@develop-review-hart-desti-07sbl4.dev02.devhart.com
SUMMARY:U-Pick Apples | MacQueen's Orchard
DESCRIPTION:It’s apple-picking season at MacQueen Orchards! Bring the family to pick your own Red Delicious\, Golden Delicious\, Jonathan\, Granny Smith\, or Ida Red apples daily from 10 a.m.–6 p.m. through October. Just see the attendant before entering\, prepay for a minimum of a ½ bushel\, and get your bags and ticket. \nPrefer something quick? Choose from pre-picked\, sorted\, and bagged apples perfect for snacking\, pies\, and salads. Beyond their 16 varieties of apples\, MacQueen’s offers 10 peach varieties\, and seasonal produce\, plus a year-round market with fresh cider\, pies\, baked treats\, home décor\, and unique gifts in Martha’s Gift Shop\, Boutique\, and Christmas Shop. \n 
URL:https://develop-review-hart-desti-07sbl4.dev02.devhart.com/event/u-pick-apples-macqueens-orchard
LOCATION:MacQueen’s Orchards\, 7605 Garden Road\, Holland\, OH\, 43528\, United States
CATEGORIES:family friendly,food,outdoors
ATTACH;FMTTYPE=image/png:https://minio.devhart.com/destination-toledo-website/wp-content/uploads/2025/10/17105659/apples-4x3-event-image.png
END:VEVENT
BEGIN:VEVENT
DTSTART;TZID=America/Detroit:20251101T110000
DTEND;TZID=America/Detroit:20251101T140000
DTSTAMP:20260419T153204
CREATED:20251028T122847Z
LAST-MODIFIED:20251028T122847Z
UID:55640-1761994800-1762005600@develop-review-hart-desti-07sbl4.dev02.devhart.com
SUMMARY:Blueberry Fields Dog Park Grand Opening
DESCRIPTION:Bring your dogs to Sylvania and come explore the Blueberry Fields Dog Park! Local vendors and sponsors will be there\, and there will be light snacks available. Donations to support the park are always appreciated. This will be the only time the park is open to the public to explore and see the space before memberships officially begin\, so stop out and check out Blueberry Fields!
URL:https://develop-review-hart-desti-07sbl4.dev02.devhart.com/event/blueberry-fields-dog-park-grand-opening
LOCATION:Blueberry Fields Dog Park\, 3364 King Road\, Toledo\, Ohio\, 43617\, United States
CATEGORIES:animals,outdoors
ATTACH;FMTTYPE=image/png:https://minio.devhart.com/destination-toledo-website/wp-content/uploads/2025/10/17105350/blueberry-fields-dog-park-4x3-event-image.png
END:VEVENT
BEGIN:VEVENT
DTSTART;TZID=America/Detroit:20251009T180000
DTEND;TZID=America/Detroit:20251009T235900
DTSTAMP:20260419T153204
CREATED:20251006T204144Z
LAST-MODIFIED:20251007T163347Z
UID:55097-1760032800-1760054340@develop-review-hart-desti-07sbl4.dev02.devhart.com
SUMMARY:Halloweekends | Cedar Point
DESCRIPTION:Bring the whole family and enjoy not-so-scary fall activities\, your favorite rides and attractions\, live entertainment and more\, OR immerse yourself in terrifying mazes\, spine-tingling scare zones and thrilling shows when the sun goes down. HalloWeekends at Cedar Point in Sandusky runs on select days and nights from September 11 – November 2. \nPlan your trip to Halloweekends and get your tickets on Cedar Point’s website.
URL:https://develop-review-hart-desti-07sbl4.dev02.devhart.com/event/halloweekends-cedar-point
LOCATION:Cedar Point\, 1 Cedar Point Dr\, Sandusky\, OH\, 44870\, United States
CATEGORIES:entertainment,family friendly,outdoors
ATTACH;FMTTYPE=image/png:https://minio.devhart.com/destination-toledo-website/wp-content/uploads/2025/10/17105616/cedar-point-halloweekends-4x3-event-image-Recovered.png
END:VEVENT
BEGIN:VEVENT
DTSTART;TZID=America/Detroit:20251101T180000
DTEND;TZID=America/Detroit:20251101T210000
DTSTAMP:20260419T153204
CREATED:20250923T142515Z
LAST-MODIFIED:20250923T142515Z
UID:54258-1762020000-1762030800@develop-review-hart-desti-07sbl4.dev02.devhart.com
SUMMARY:Toledo Zoo's F&M Bank Roar & Pour
DESCRIPTION:Nov. 1\n6-9 p.m.\nSip. Savor. Save Species. \nSavor the season under the stars with live music\, cozy fire pits and the rich flavors of bourbon and whiskey at this unique\, 21+ after-hours event. Sip and stroll the gardens to learn about and sample varieties of bourbons and whiskeys\, each thoughtfully paired with small bites. Spirits representatives will be on hand to share knowledge and answer questions. Bourbon and whisky cocktails will also be available for sampling. \nTickets include 8 samples paired with food\, a collectible tasting glass and live entertainment! \nDon’t miss the cigar lounge in the gardens\, where an expert will personally help you choose a cigar tailored to your taste. While this add-on is available when purchasing tickets\, or on site\, the cigar lounge is open for all guests to enjoy. \nGuests must be age 21 or older to attend; ID will be checked at the gate.
URL:https://develop-review-hart-desti-07sbl4.dev02.devhart.com/event/toledo-zoos-fm-bank-roar-pour
LOCATION:Toledo Zoo & Aquarium\, Hippo Way 2\, Toledo\, OH\, 43609\, United States
CATEGORIES:cocktails,entertainment,outdoors
ATTACH;FMTTYPE=image/png:https://minio.devhart.com/destination-toledo-website/wp-content/uploads/2025/08/17105830/zoo-roar-pour-4x3-event-image.png
END:VEVENT
BEGIN:VEVENT
DTSTART;TZID=America/Detroit:20251003T190000
DTEND;TZID=America/Detroit:20251003T230000
DTSTAMP:20260419T153204
CREATED:20251003T175917Z
LAST-MODIFIED:20251003T181443Z
UID:55009-1759518000-1759532400@develop-review-hart-desti-07sbl4.dev02.devhart.com
SUMMARY:Field of Fear
DESCRIPTION:Step into the Field of Fear… if you dare. Field of Fear is a haunted corn maze located in Monclova. In this years maze\, wander through war-torn wastelands\, twisted campgrounds\, blood-soaked backwoods\, and a clown-infested maze designed to drive you mad. Every turn hides a new nightmare\, and escape is never guaranteed. \nGates creak open at 7:00 pm\, the terror begins at dark. Last ticket sold at 11:00 pm Friday’s and Saturdays and at 10:00 pm on Thursday’s and Sunday’s. through November 1. \nTickets available online or at the gate. \nPlease note Field of fear utilizes a variety of lights\, sounds\, and live actors to create the most blood curdling\, fear inducing experience possible. If you have issues with these types of effects\, please inform the attendant before you enter the Field of Fear.
URL:https://develop-review-hart-desti-07sbl4.dev02.devhart.com/event/field-of-fear
LOCATION:Field of Fear\, 3001 South Crissey Road\, Monclova\, OH\, 43542
CATEGORIES:entertainment,outdoors
ATTACH;FMTTYPE=image/png:https://minio.devhart.com/destination-toledo-website/wp-content/uploads/2025/10/17105654/field-of-fear-logo-4x3-event-image.png
END:VEVENT
BEGIN:VEVENT
DTSTART;TZID=America/Detroit:20251018T193000
DTEND;TZID=America/Detroit:20251018T220000
DTSTAMP:20260419T153204
CREATED:20251017T130739Z
LAST-MODIFIED:20251027T160456Z
UID:55438-1760815800-1760824800@develop-review-hart-desti-07sbl4.dev02.devhart.com
SUMMARY:Panic in the Pines
DESCRIPTION:Panic in the Pines Haunted Attraction returns every Saturday night in October with three terrifying experiences that will test your courage and haunt your dreams! Located deep in the woods\, this immersive Halloween event features: \nHaunted Hayride – Begin your night with a 25-minute ride through eerie pine forests where the shadows move and the screams echo. \nClown Evil Walk Trail – Step off the wagon and into a nightmare carnival filled with twisted clowns and unrelenting scares.Woods of Nightmares – Your final test of bravery. Wander the dark forest trails and face what lurks beyond the trees. \nGates open at 7:30 PM and the terror runs late into the night! Please note: ticket sales end at 10:00 PM\, and guests must be onsite by 10:00 PM to experience all attractions. \nWhether you come for the thrill of the hayride\, the screams of the trail\, or the terror of the woods\, Panic in the Pines is Northwest Ohio’s ultimate haunted adventure. \nGet tickets and details at panicinthepines.com — and prepare for scares that last long after the night ends.
URL:https://develop-review-hart-desti-07sbl4.dev02.devhart.com/event/panic-in-the-pines
LOCATION:Bowlander Farm\, 3525 N Bolander Rd\, Genoa\, OH\, 43430\, United States
CATEGORIES:entertainment,holiday,outdoors
ATTACH;FMTTYPE=image/png:https://minio.devhart.com/destination-toledo-website/wp-content/uploads/2025/10/17105425/panic-in-the-pines-bowlander-farm-4x3-event-image.png
END:VEVENT
BEGIN:VEVENT
DTSTART;TZID=America/Detroit:20251009T180000
DTEND;TZID=America/Detroit:20251009T235900
DTSTAMP:20260419T153204
CREATED:20251006T204144Z
LAST-MODIFIED:20251007T163347Z
UID:55097-1760032800-1760054340@develop-review-hart-desti-07sbl4.dev02.devhart.com
SUMMARY:Halloweekends | Cedar Point
DESCRIPTION:Bring the whole family and enjoy not-so-scary fall activities\, your favorite rides and attractions\, live entertainment and more\, OR immerse yourself in terrifying mazes\, spine-tingling scare zones and thrilling shows when the sun goes down. HalloWeekends at Cedar Point in Sandusky runs on select days and nights from September 11 – November 2. \nPlan your trip to Halloweekends and get your tickets on Cedar Point’s website.
URL:https://develop-review-hart-desti-07sbl4.dev02.devhart.com/event/halloweekends-cedar-point
LOCATION:Cedar Point\, 1 Cedar Point Dr\, Sandusky\, OH\, 44870\, United States
CATEGORIES:entertainment,family friendly,outdoors
ATTACH;FMTTYPE=image/png:https://minio.devhart.com/destination-toledo-website/wp-content/uploads/2025/10/17105616/cedar-point-halloweekends-4x3-event-image-Recovered.png
END:VEVENT
BEGIN:VEVENT
DTSTART;TZID=America/Detroit:20251115T000000
DTEND;TZID=America/Detroit:20260315T235959
DTSTAMP:20260419T153204
CREATED:20251113T234627Z
LAST-MODIFIED:20251113T234627Z
UID:56006-1763164800-1773619199@develop-review-hart-desti-07sbl4.dev02.devhart.com
SUMMARY:The Ribbon Ice Skating Trail
DESCRIPTION:The Ribbon at Glass City Riverwalk welcomes skaters of all ages to experience Toledo’s most unique winter attraction! \nThis 1\,000-foot refrigerated loop trail winds through the park\, featuring gentle curves and rolling inclines\, and offers a skating experience unlike any traditional rink. \nNew to skating? Head to The Pond\, a 5\,000-square-foot beginner-friendly area perfect for practice and play.
URL:https://develop-review-hart-desti-07sbl4.dev02.devhart.com/event/the-ribbon-ice-skating-trail
LOCATION:Glass City Metropark\, 1505 Front Street\, Toledo\, Ohio
CATEGORIES:exercise,outdoors
ATTACH;FMTTYPE=image/png:https://minio.devhart.com/destination-toledo-website/wp-content/uploads/2025/11/17105158/the-ribbon-skaters-4x3-event-image.png
END:VEVENT
BEGIN:VEVENT
DTSTART;TZID=America/Detroit:20251115T100000
DTEND;TZID=America/Detroit:20251115T120000
DTSTAMP:20260419T153204
CREATED:20251028T141601Z
LAST-MODIFIED:20251028T141905Z
UID:55650-1763200800-1763208000@develop-review-hart-desti-07sbl4.dev02.devhart.com
SUMMARY:The Blade Holiday Parade
DESCRIPTION:Don’t miss out on the annual Blade Holiday Parade in downtown Toledo. Bring the family and enjoy the Distinguished Clown Corps\, Giant Balloons\, local marching bands\, horses\, floats\, and more. Be sure to stay for the full parade as Santa will be making his debut! \n 
URL:https://develop-review-hart-desti-07sbl4.dev02.devhart.com/event/the-blade-holiday-parade
LOCATION:Downtown Toledo\, Toledo\, OH\, United States
CATEGORIES:family friendly,holiday,outdoors
ATTACH;FMTTYPE=image/png:https://minio.devhart.com/destination-toledo-website/wp-content/uploads/2025/10/17105348/blade-holiday-parade-4x3-event-image.png
END:VEVENT
BEGIN:VEVENT
DTSTART;TZID=America/Detroit:20250330T170000
DTEND;TZID=America/Detroit:20250330T183000
DTSTAMP:20260419T153204
CREATED:20250321T182407Z
LAST-MODIFIED:20250325T185653Z
UID:39793-1743354000-1743359400@develop-review-hart-desti-07sbl4.dev02.devhart.com
SUMMARY:Zen at the Zoo
DESCRIPTION:Unwind and recharge with either an hour-long yoga session led by Diana Spiess of Essence Mind Body Studio or an hour-long Pure Barre class led by Ellie Kaufman of Pure Barre Toledo and Perrysburg. Every class is followed by an exclusive Zoo experience! After your practice\, refuel with protein-packed bites\, energizing refreshments\, and—if you’re 21 or older—a meditative mimosa to sip and savor. \nMake the most of your visit! For morning classes\, enjoy a peaceful stroll through the Zoo as the animals begin their day. For afternoon sessions\, arrive early to wander through the Zoo and witness them winding down for the evening. \nPlease be sure to bring your own mat and arrive 10-15 minutes early to allow for time to fill out a waiver. Zoo talk will follow class and last 30 minutes. Yoga and barre are suitable for all skill levels. \nEvent is rain or shine. Tickets are non-refundable. Valid ID required for guests over the age of 21 who would like to enjoy a mimosa. \nQuestions? Please call 419-385-5721 ext. 2078.
URL:https://develop-review-hart-desti-07sbl4.dev02.devhart.com/event/zen-at-the-zoo
LOCATION:Toledo Zoo & Aquarium\, Hippo Way 2\, Toledo\, OH\, 43609\, United States
CATEGORIES:exercise,outdoors,wellness,yoga
ATTACH;FMTTYPE=image/png:https://minio.devhart.com/destination-toledo-website/wp-content/uploads/2025/03/17111846/zen-at-the-zoo-4x3-event-image.png
END:VEVENT
BEGIN:VEVENT
DTSTART;TZID=America/Detroit:20251121T000000
DTEND;TZID=America/Detroit:20251231T235959
DTSTAMP:20260419T153204
CREATED:20250520T193354Z
LAST-MODIFIED:20250520T193354Z
UID:52165-1763683200-1767225599@develop-review-hart-desti-07sbl4.dev02.devhart.com
SUMMARY:Lights before Christmas
DESCRIPTION:Take in the wintry majesty of this USA Today award-winning light display at the Toledo Zoo! The Lights before Christmas at the Toledo Zoo & Aquarium will be Fri\, Nov. 21 – Sun\, Dec. 31. \nThe Lights before Christmas features more than one million lights\, more than 200 illuminated animal images\, a beer garden and ice slide sure to brighten the holiday season. \nStay tuned for more details or visit the Toledo Zoo & Aquarium website!
URL:https://develop-review-hart-desti-07sbl4.dev02.devhart.com/event/lights-before-christmas
LOCATION:Toledo Zoo & Aquarium\, Hippo Way 2\, Toledo\, OH\, 43609\, United States
CATEGORIES:entertainment,family friendly,outdoors
ATTACH;FMTTYPE=image/jpeg:https://minio.devhart.com/destination-toledo-website/wp-content/uploads/2024/12/17111903/lights-before-christmas-YHg0Yu.tmp_.jpg
END:VEVENT
BEGIN:VEVENT
DTSTART;TZID=America/Detroit:20251121T160000
DTEND;TZID=America/Detroit:20251121T220000
DTSTAMP:20260419T153204
CREATED:20251107T202853Z
LAST-MODIFIED:20251107T202853Z
UID:55939-1763740800-1763762400@develop-review-hart-desti-07sbl4.dev02.devhart.com
SUMMARY:International Holiday Market
DESCRIPTION:The holiday season is almost here\, and this year\, the city of Toledo is bringing something brand-new to downtown Toledo!\n\n\n\nStop by Toledo’s first International Holiday Market at Levis Square Park on Friday\, November 21 & Saturday\, November 22.\n\n\n\nShop unique\, handcrafted gifts and treats from local vendors and organizations celebrating Toledo’s diverse cultures. Enjoy live music\, dance\, and cultural performances throughout the day that showcase traditions from around the world.\n\n\n\nPlus\, this year’s Holiday Tree Lighting at Promenade Park on Friday\, November 21st at dark. Don’t miss these holiday season kickoff events!
URL:https://develop-review-hart-desti-07sbl4.dev02.devhart.com/event/international-holiday-market
LOCATION:Levis Square\, 285 N St Clair St\, Toledo\, OH\, 43604\, United States
CATEGORIES:dance,food,holiday,live music,outdoors,shopping
ATTACH;FMTTYPE=image/png:https://minio.devhart.com/destination-toledo-website/wp-content/uploads/2025/11/17105229/holiday-market-toledo-4x3-event-image.png
END:VEVENT
BEGIN:VEVENT
DTSTART;TZID=America/Detroit:20251121T160000
DTEND;TZID=America/Detroit:20251121T220000
DTSTAMP:20260419T153204
CREATED:20251107T202853Z
LAST-MODIFIED:20251107T202853Z
UID:55939-1763740800-1763762400@develop-review-hart-desti-07sbl4.dev02.devhart.com
SUMMARY:International Holiday Market
DESCRIPTION:The holiday season is almost here\, and this year\, the city of Toledo is bringing something brand-new to downtown Toledo!\n\n\n\nStop by Toledo’s first International Holiday Market at Levis Square Park on Friday\, November 21 & Saturday\, November 22.\n\n\n\nShop unique\, handcrafted gifts and treats from local vendors and organizations celebrating Toledo’s diverse cultures. Enjoy live music\, dance\, and cultural performances throughout the day that showcase traditions from around the world.\n\n\n\nPlus\, this year’s Holiday Tree Lighting at Promenade Park on Friday\, November 21st at dark. Don’t miss these holiday season kickoff events!
URL:https://develop-review-hart-desti-07sbl4.dev02.devhart.com/event/international-holiday-market
LOCATION:Levis Square\, 285 N St Clair St\, Toledo\, OH\, 43604\, United States
CATEGORIES:dance,food,holiday,live music,outdoors,shopping
ATTACH;FMTTYPE=image/png:https://minio.devhart.com/destination-toledo-website/wp-content/uploads/2025/11/17105229/holiday-market-toledo-4x3-event-image.png
END:VEVENT
END:VCALENDAR