BEGIN:VCALENDAR
VERSION:2.0
PRODID:-//Destination Toledo - ECPv6.15.17.1//NONSGML v1.0//EN
CALSCALE:GREGORIAN
METHOD:PUBLISH
X-WR-CALNAME:Destination Toledo
X-ORIGINAL-URL:https://develop-review-hart-desti-07sbl4.dev02.devhart.com
X-WR-CALDESC:Events for Destination Toledo
REFRESH-INTERVAL;VALUE=DURATION:PT1H
X-Robots-Tag:noindex
X-PUBLISHED-TTL:PT1H
BEGIN:VTIMEZONE
TZID:America/Detroit
BEGIN:DAYLIGHT
TZOFFSETFROM:-0500
TZOFFSETTO:-0400
TZNAME:EDT
DTSTART:20240310T070000
END:DAYLIGHT
BEGIN:STANDARD
TZOFFSETFROM:-0400
TZOFFSETTO:-0500
TZNAME:EST
DTSTART:20241103T060000
END:STANDARD
BEGIN:DAYLIGHT
TZOFFSETFROM:-0500
TZOFFSETTO:-0400
TZNAME:EDT
DTSTART:20250309T070000
END:DAYLIGHT
BEGIN:STANDARD
TZOFFSETFROM:-0400
TZOFFSETTO:-0500
TZNAME:EST
DTSTART:20251102T060000
END:STANDARD
BEGIN:DAYLIGHT
TZOFFSETFROM:-0500
TZOFFSETTO:-0400
TZNAME:EDT
DTSTART:20260308T070000
END:DAYLIGHT
BEGIN:STANDARD
TZOFFSETFROM:-0400
TZOFFSETTO:-0500
TZNAME:EST
DTSTART:20261101T060000
END:STANDARD
END:VTIMEZONE
BEGIN:VEVENT
DTSTART;TZID=America/Detroit:20250614T173000
DTEND;TZID=America/Detroit:20250614T210000
DTSTAMP:20260419T133228
CREATED:20250415T171031Z
LAST-MODIFIED:20250415T171031Z
UID:50630-1749922200-1749934800@develop-review-hart-desti-07sbl4.dev02.devhart.com
SUMMARY:Burt - Toledo Movie Premiere
DESCRIPTION:Toledo City Paper presents the Toledo premiere of BURT. A film by Toledo natives Joe Burke and Oliver Cooper. Q&A after the screening! \nBurt\, a 69-year-old street musician living with Parkinson’s\, has his life turned upside down when Sammy\, a wayward young man from New York\, shows up claiming to be his son. Having always dreamed of being a father\, Burt embraces Sammy and invites him to stay for the weekend at his home\, where he lives with his grumpy landlord\, Steve. Inspired by the real-life of Burt Berger\, who stars in the film alongside actor Oliver Cooper; this deeply personal movie captures Burt’s authentic portrayal as a musician living with Parkinson’s\, offering a powerful love letter to Burt\, his music\, and the filmmaker’s own father\, who also lives with Parkinson’s Disease.
URL:https://develop-review-hart-desti-07sbl4.dev02.devhart.com/event/burt-toledo-movie-premiere
LOCATION:Maumee Indoor Theater\, 601 Conant St\, Maumee\, OH\, 43537\, United States
CATEGORIES:entertainment,movie
ATTACH;FMTTYPE=image/png:https://minio.devhart.com/destination-toledo-website/wp-content/uploads/2025/04/17111433/burt-premiere-4x3-event-image.png
END:VEVENT
END:VCALENDAR