BEGIN:VCALENDAR
VERSION:2.0
PRODID:-//Destination Toledo - ECPv6.15.17.1//NONSGML v1.0//EN
CALSCALE:GREGORIAN
METHOD:PUBLISH
X-ORIGINAL-URL:https://develop-review-hart-desti-07sbl4.dev02.devhart.com
X-WR-CALDESC:Events for Destination Toledo
REFRESH-INTERVAL;VALUE=DURATION:PT1H
X-Robots-Tag:noindex
X-PUBLISHED-TTL:PT1H
BEGIN:VTIMEZONE
TZID:America/Detroit
BEGIN:DAYLIGHT
TZOFFSETFROM:-0500
TZOFFSETTO:-0400
TZNAME:EDT
DTSTART:20240310T070000
END:DAYLIGHT
BEGIN:STANDARD
TZOFFSETFROM:-0400
TZOFFSETTO:-0500
TZNAME:EST
DTSTART:20241103T060000
END:STANDARD
BEGIN:DAYLIGHT
TZOFFSETFROM:-0500
TZOFFSETTO:-0400
TZNAME:EDT
DTSTART:20250309T070000
END:DAYLIGHT
BEGIN:STANDARD
TZOFFSETFROM:-0400
TZOFFSETTO:-0500
TZNAME:EST
DTSTART:20251102T060000
END:STANDARD
BEGIN:DAYLIGHT
TZOFFSETFROM:-0500
TZOFFSETTO:-0400
TZNAME:EDT
DTSTART:20260308T070000
END:DAYLIGHT
BEGIN:STANDARD
TZOFFSETFROM:-0400
TZOFFSETTO:-0500
TZNAME:EST
DTSTART:20261101T060000
END:STANDARD
END:VTIMEZONE
BEGIN:VEVENT
DTSTART;TZID=America/Detroit:20250801T203000
DTEND;TZID=America/Detroit:20250801T223000
DTSTAMP:20260420T113829
CREATED:20250729T142231Z
LAST-MODIFIED:20250729T142231Z
UID:53754-1754080200-1754087400@develop-review-hart-desti-07sbl4.dev02.devhart.com
SUMMARY:Tales of the Maya Skies
DESCRIPTION:Tales of the Maya Skies is a digital full-dome show at the University of Toledo with a custom score and visuals that immerses the audience in Mayan astronomy\, art\, and culture. Narrated by Latin Grammy award winner Lila Downs\, Tales of the Maya Skies inspires and educates through its description of the Maya’s accurate astronomical achievements and how astronomy connected them to the Universe. \nwhat you can expect: \n\nA live guided tour of the Toledo night sky\nYou will learn about the constellations visible from Toledo and any planets visible to the naked eye. We also typically discuss one “hot topic” in astronomy\, such as the discovery of new planets around other stars\, or the latest NASA discover on Mars.\n\n\nThe full-dome presentation\nWhether we are traveling inside a black hole\, taking a tour of the moon with Elmo\, or learning about the skies over Toledo\, you and your family will simply be amazed at the full-dome immersive show.\nAn open-ended question and answer session\nOur expert host will answer all of your astronomy questions\, whether they pertain to the live tour of the night sky\, the feature presentation\, or any other astronomy question that you might have.\nObserving at Brooks/Ritter Observatory\nYou will be escorted over to Brooks Observatory atop McMaster Hall to view the stars and/or planets through their new 14 telescope. On the first Friday of every month\, they instead observe with the Ritter 1m (40 in) telescope. This telescope is the largest active telescope east of the Mississippi and is still used by the astronomers at UToledo for their research. All observing is weather permitting!\n\nThey accept credit card and cash payments. All shows are first-come\, first-served – reservations and advanced ticket purchases are not available. Doors open 30 minutes before the show\, during which time you can explore the displays in our lobby. \nThe planetarium (show) portion of the program is approximately one-hour\, while the observing session on Friday night will continue until everyone has had a chance to take a look through the telescope. \nAdmission to all public programs is $8 for adults and $6 for children\, seniors and UToledo community members (children 3 and under are free).
URL:https://develop-review-hart-desti-07sbl4.dev02.devhart.com/event/tales-of-the-maya-skies
LOCATION:University of Toledo\, 2801 W Bancroft St\, Toledo\, Ohio\, 43606\, United States
CATEGORIES:educational,family friendly,history,movie
ATTACH;FMTTYPE=image/png:https://minio.devhart.com/destination-toledo-website/wp-content/uploads/2025/07/17110401/UT-tales-of-the-maya-skies-movie-4x3-event-image.png
END:VEVENT
BEGIN:VEVENT
DTSTART;TZID=America/Detroit:20250801T203000
DTEND;TZID=America/Detroit:20250801T223000
DTSTAMP:20260420T113829
CREATED:20250729T142231Z
LAST-MODIFIED:20250729T142231Z
UID:53754-1754080200-1754087400@develop-review-hart-desti-07sbl4.dev02.devhart.com
SUMMARY:Tales of the Maya Skies
DESCRIPTION:Tales of the Maya Skies is a digital full-dome show at the University of Toledo with a custom score and visuals that immerses the audience in Mayan astronomy\, art\, and culture. Narrated by Latin Grammy award winner Lila Downs\, Tales of the Maya Skies inspires and educates through its description of the Maya’s accurate astronomical achievements and how astronomy connected them to the Universe. \nwhat you can expect: \n\nA live guided tour of the Toledo night sky\nYou will learn about the constellations visible from Toledo and any planets visible to the naked eye. We also typically discuss one “hot topic” in astronomy\, such as the discovery of new planets around other stars\, or the latest NASA discover on Mars.\n\n\nThe full-dome presentation\nWhether we are traveling inside a black hole\, taking a tour of the moon with Elmo\, or learning about the skies over Toledo\, you and your family will simply be amazed at the full-dome immersive show.\nAn open-ended question and answer session\nOur expert host will answer all of your astronomy questions\, whether they pertain to the live tour of the night sky\, the feature presentation\, or any other astronomy question that you might have.\nObserving at Brooks/Ritter Observatory\nYou will be escorted over to Brooks Observatory atop McMaster Hall to view the stars and/or planets through their new 14 telescope. On the first Friday of every month\, they instead observe with the Ritter 1m (40 in) telescope. This telescope is the largest active telescope east of the Mississippi and is still used by the astronomers at UToledo for their research. All observing is weather permitting!\n\nThey accept credit card and cash payments. All shows are first-come\, first-served – reservations and advanced ticket purchases are not available. Doors open 30 minutes before the show\, during which time you can explore the displays in our lobby. \nThe planetarium (show) portion of the program is approximately one-hour\, while the observing session on Friday night will continue until everyone has had a chance to take a look through the telescope. \nAdmission to all public programs is $8 for adults and $6 for children\, seniors and UToledo community members (children 3 and under are free).
URL:https://develop-review-hart-desti-07sbl4.dev02.devhart.com/event/tales-of-the-maya-skies
LOCATION:University of Toledo\, 2801 W Bancroft St\, Toledo\, Ohio\, 43606\, United States
CATEGORIES:educational,family friendly,history,movie
ATTACH;FMTTYPE=image/png:https://minio.devhart.com/destination-toledo-website/wp-content/uploads/2025/07/17110401/UT-tales-of-the-maya-skies-movie-4x3-event-image.png
END:VEVENT
BEGIN:VEVENT
DTSTART;TZID=America/Detroit:20250815T183000
DTEND;TZID=America/Detroit:20250815T220000
DTSTAMP:20260420T113829
CREATED:20250806T184947Z
LAST-MODIFIED:20250806T185309Z
UID:53825-1755282600-1755295200@develop-review-hart-desti-07sbl4.dev02.devhart.com
SUMMARY:Movie Night in the Glass Bowl
DESCRIPTION:The University of Toledo will be hosting a free movie night for the community in the Glass Bowl on Friday\, Aug. 15. The event is sponsored by State Farm agent Jennifer Roberts. \nGates will open at 6:30 p.m. for various activities including bounce houses\, movie-themed games\, and autographs from Toledo student-athletes. The movie will begin at approximately 7:30 p.m. Fans may enter the Glass Bowl stadium at the Northwest and Northeast field gates or Gate A. \nGuests must park in Area 10\, which is just north of the football stadium. Attendees may bring their own chairs and blankets to sit on the field. \nThe following concessions will be available: \n\nHot dogs\nChips\nNachos\nPopcorn\nPizza\nPretzels\nCandy\nBottled beverages\n\nFor more information about Movie Night at the Glass Bowl\, please call 419-530-5433. Movie begins: 7:30 p.m. \n 
URL:https://develop-review-hart-desti-07sbl4.dev02.devhart.com/event/movie-night-in-the-glass-bowl
LOCATION:Glass Bowl Stadium\, 1745 Stadium Dr\, Toledo\, 43606
CATEGORIES:movie,outdoors
ATTACH;FMTTYPE=image/png:https://minio.devhart.com/destination-toledo-website/wp-content/uploads/2025/08/17110229/Glass-Bowl-movie-4x3-event-image.png
ORGANIZER;CN="Toledo Athletics":MAILTO:AthleticTicketOffice@utoledo.edu
END:VEVENT
BEGIN:VEVENT
DTSTART;TZID=America/Detroit:20250801T203000
DTEND;TZID=America/Detroit:20250801T223000
DTSTAMP:20260420T113829
CREATED:20250729T142231Z
LAST-MODIFIED:20250729T142231Z
UID:53754-1754080200-1754087400@develop-review-hart-desti-07sbl4.dev02.devhart.com
SUMMARY:Tales of the Maya Skies
DESCRIPTION:Tales of the Maya Skies is a digital full-dome show at the University of Toledo with a custom score and visuals that immerses the audience in Mayan astronomy\, art\, and culture. Narrated by Latin Grammy award winner Lila Downs\, Tales of the Maya Skies inspires and educates through its description of the Maya’s accurate astronomical achievements and how astronomy connected them to the Universe. \nwhat you can expect: \n\nA live guided tour of the Toledo night sky\nYou will learn about the constellations visible from Toledo and any planets visible to the naked eye. We also typically discuss one “hot topic” in astronomy\, such as the discovery of new planets around other stars\, or the latest NASA discover on Mars.\n\n\nThe full-dome presentation\nWhether we are traveling inside a black hole\, taking a tour of the moon with Elmo\, or learning about the skies over Toledo\, you and your family will simply be amazed at the full-dome immersive show.\nAn open-ended question and answer session\nOur expert host will answer all of your astronomy questions\, whether they pertain to the live tour of the night sky\, the feature presentation\, or any other astronomy question that you might have.\nObserving at Brooks/Ritter Observatory\nYou will be escorted over to Brooks Observatory atop McMaster Hall to view the stars and/or planets through their new 14 telescope. On the first Friday of every month\, they instead observe with the Ritter 1m (40 in) telescope. This telescope is the largest active telescope east of the Mississippi and is still used by the astronomers at UToledo for their research. All observing is weather permitting!\n\nThey accept credit card and cash payments. All shows are first-come\, first-served – reservations and advanced ticket purchases are not available. Doors open 30 minutes before the show\, during which time you can explore the displays in our lobby. \nThe planetarium (show) portion of the program is approximately one-hour\, while the observing session on Friday night will continue until everyone has had a chance to take a look through the telescope. \nAdmission to all public programs is $8 for adults and $6 for children\, seniors and UToledo community members (children 3 and under are free).
URL:https://develop-review-hart-desti-07sbl4.dev02.devhart.com/event/tales-of-the-maya-skies
LOCATION:University of Toledo\, 2801 W Bancroft St\, Toledo\, Ohio\, 43606\, United States
CATEGORIES:educational,family friendly,history,movie
ATTACH;FMTTYPE=image/png:https://minio.devhart.com/destination-toledo-website/wp-content/uploads/2025/07/17110401/UT-tales-of-the-maya-skies-movie-4x3-event-image.png
END:VEVENT
BEGIN:VEVENT
DTSTART;TZID=America/Detroit:20250821T170000
DTEND;TZID=America/Detroit:20250821T190000
DTSTAMP:20260420T113829
CREATED:20250814T200127Z
LAST-MODIFIED:20250814T200127Z
UID:54089-1755795600-1755802800@develop-review-hart-desti-07sbl4.dev02.devhart.com
SUMMARY:Eenie Meanie Movie Premiere at ESPN BET
DESCRIPTION:Don’t miss your chance to watch Eenie Meanie where it all began — on the big screen\, surrounded by the excitement of Hollywood Casino Toledo\, where some of the movie was filmed! Be part of the excitement for an exclusive public screening of Eenie Meanie\, the highly anticipated new film from director Shawn Simmons\, premiering on Hulu August 22. This event is free and open to the public but you MUST reserve a seat because space is limited.\n\nDate: August 21stTime: 5 PMLocation: ESPN BET Sports Bar – Hollywood Casino Toledo\n\nEnjoy the movie in style with complimentary beverages\, snacks\, popcorn\, and light bites. A cash bar will be available. Seating for ticket holders is first come\, first served.\n\nMust be 21 years or older. Gambling problem? Call 1-800-589-9966.
URL:https://develop-review-hart-desti-07sbl4.dev02.devhart.com/event/eenie-meanie-movie-premiere-at-espn-bet
LOCATION:Hollywood Casino\, 1968 Miami St\, Toledo\, OH\, 43605\, United States
CATEGORIES:casino,entertainment,movie
ATTACH;FMTTYPE=image/png:https://minio.devhart.com/destination-toledo-website/wp-content/uploads/2025/08/17110152/casion-eenie-meanie-4x3-event-image.png
END:VEVENT
BEGIN:VEVENT
DTSTART;TZID=America/Detroit:20250801T203000
DTEND;TZID=America/Detroit:20250801T223000
DTSTAMP:20260420T113829
CREATED:20250729T142231Z
LAST-MODIFIED:20250729T142231Z
UID:53754-1754080200-1754087400@develop-review-hart-desti-07sbl4.dev02.devhart.com
SUMMARY:Tales of the Maya Skies
DESCRIPTION:Tales of the Maya Skies is a digital full-dome show at the University of Toledo with a custom score and visuals that immerses the audience in Mayan astronomy\, art\, and culture. Narrated by Latin Grammy award winner Lila Downs\, Tales of the Maya Skies inspires and educates through its description of the Maya’s accurate astronomical achievements and how astronomy connected them to the Universe. \nwhat you can expect: \n\nA live guided tour of the Toledo night sky\nYou will learn about the constellations visible from Toledo and any planets visible to the naked eye. We also typically discuss one “hot topic” in astronomy\, such as the discovery of new planets around other stars\, or the latest NASA discover on Mars.\n\n\nThe full-dome presentation\nWhether we are traveling inside a black hole\, taking a tour of the moon with Elmo\, or learning about the skies over Toledo\, you and your family will simply be amazed at the full-dome immersive show.\nAn open-ended question and answer session\nOur expert host will answer all of your astronomy questions\, whether they pertain to the live tour of the night sky\, the feature presentation\, or any other astronomy question that you might have.\nObserving at Brooks/Ritter Observatory\nYou will be escorted over to Brooks Observatory atop McMaster Hall to view the stars and/or planets through their new 14 telescope. On the first Friday of every month\, they instead observe with the Ritter 1m (40 in) telescope. This telescope is the largest active telescope east of the Mississippi and is still used by the astronomers at UToledo for their research. All observing is weather permitting!\n\nThey accept credit card and cash payments. All shows are first-come\, first-served – reservations and advanced ticket purchases are not available. Doors open 30 minutes before the show\, during which time you can explore the displays in our lobby. \nThe planetarium (show) portion of the program is approximately one-hour\, while the observing session on Friday night will continue until everyone has had a chance to take a look through the telescope. \nAdmission to all public programs is $8 for adults and $6 for children\, seniors and UToledo community members (children 3 and under are free).
URL:https://develop-review-hart-desti-07sbl4.dev02.devhart.com/event/tales-of-the-maya-skies
LOCATION:University of Toledo\, 2801 W Bancroft St\, Toledo\, Ohio\, 43606\, United States
CATEGORIES:educational,family friendly,history,movie
ATTACH;FMTTYPE=image/png:https://minio.devhart.com/destination-toledo-website/wp-content/uploads/2025/07/17110401/UT-tales-of-the-maya-skies-movie-4x3-event-image.png
END:VEVENT
BEGIN:VEVENT
DTSTART;TZID=America/Detroit:20250801T203000
DTEND;TZID=America/Detroit:20250801T223000
DTSTAMP:20260420T113829
CREATED:20250729T142231Z
LAST-MODIFIED:20250729T142231Z
UID:53754-1754080200-1754087400@develop-review-hart-desti-07sbl4.dev02.devhart.com
SUMMARY:Tales of the Maya Skies
DESCRIPTION:Tales of the Maya Skies is a digital full-dome show at the University of Toledo with a custom score and visuals that immerses the audience in Mayan astronomy\, art\, and culture. Narrated by Latin Grammy award winner Lila Downs\, Tales of the Maya Skies inspires and educates through its description of the Maya’s accurate astronomical achievements and how astronomy connected them to the Universe. \nwhat you can expect: \n\nA live guided tour of the Toledo night sky\nYou will learn about the constellations visible from Toledo and any planets visible to the naked eye. We also typically discuss one “hot topic” in astronomy\, such as the discovery of new planets around other stars\, or the latest NASA discover on Mars.\n\n\nThe full-dome presentation\nWhether we are traveling inside a black hole\, taking a tour of the moon with Elmo\, or learning about the skies over Toledo\, you and your family will simply be amazed at the full-dome immersive show.\nAn open-ended question and answer session\nOur expert host will answer all of your astronomy questions\, whether they pertain to the live tour of the night sky\, the feature presentation\, or any other astronomy question that you might have.\nObserving at Brooks/Ritter Observatory\nYou will be escorted over to Brooks Observatory atop McMaster Hall to view the stars and/or planets through their new 14 telescope. On the first Friday of every month\, they instead observe with the Ritter 1m (40 in) telescope. This telescope is the largest active telescope east of the Mississippi and is still used by the astronomers at UToledo for their research. All observing is weather permitting!\n\nThey accept credit card and cash payments. All shows are first-come\, first-served – reservations and advanced ticket purchases are not available. Doors open 30 minutes before the show\, during which time you can explore the displays in our lobby. \nThe planetarium (show) portion of the program is approximately one-hour\, while the observing session on Friday night will continue until everyone has had a chance to take a look through the telescope. \nAdmission to all public programs is $8 for adults and $6 for children\, seniors and UToledo community members (children 3 and under are free).
URL:https://develop-review-hart-desti-07sbl4.dev02.devhart.com/event/tales-of-the-maya-skies
LOCATION:University of Toledo\, 2801 W Bancroft St\, Toledo\, Ohio\, 43606\, United States
CATEGORIES:educational,family friendly,history,movie
ATTACH;FMTTYPE=image/png:https://minio.devhart.com/destination-toledo-website/wp-content/uploads/2025/07/17110401/UT-tales-of-the-maya-skies-movie-4x3-event-image.png
END:VEVENT
END:VCALENDAR