BEGIN:VCALENDAR
VERSION:2.0
PRODID:-//Destination Toledo - ECPv6.15.17.1//NONSGML v1.0//EN
CALSCALE:GREGORIAN
METHOD:PUBLISH
X-WR-CALNAME:Destination Toledo
X-ORIGINAL-URL:https://develop-review-hart-desti-07sbl4.dev02.devhart.com
X-WR-CALDESC:Events for Destination Toledo
REFRESH-INTERVAL;VALUE=DURATION:PT1H
X-Robots-Tag:noindex
X-PUBLISHED-TTL:PT1H
BEGIN:VTIMEZONE
TZID:America/Detroit
BEGIN:DAYLIGHT
TZOFFSETFROM:-0500
TZOFFSETTO:-0400
TZNAME:EDT
DTSTART:20240310T070000
END:DAYLIGHT
BEGIN:STANDARD
TZOFFSETFROM:-0400
TZOFFSETTO:-0500
TZNAME:EST
DTSTART:20241103T060000
END:STANDARD
BEGIN:DAYLIGHT
TZOFFSETFROM:-0500
TZOFFSETTO:-0400
TZNAME:EDT
DTSTART:20250309T070000
END:DAYLIGHT
BEGIN:STANDARD
TZOFFSETFROM:-0400
TZOFFSETTO:-0500
TZNAME:EST
DTSTART:20251102T060000
END:STANDARD
BEGIN:DAYLIGHT
TZOFFSETFROM:-0500
TZOFFSETTO:-0400
TZNAME:EDT
DTSTART:20260308T070000
END:DAYLIGHT
BEGIN:STANDARD
TZOFFSETFROM:-0400
TZOFFSETTO:-0500
TZNAME:EST
DTSTART:20261101T060000
END:STANDARD
END:VTIMEZONE
BEGIN:VEVENT
DTSTART;TZID=America/Detroit:20250613T193000
DTEND;TZID=America/Detroit:20250613T213000
DTSTAMP:20260421T105655
CREATED:20250610T193659Z
LAST-MODIFIED:20250610T193659Z
UID:52770-1749843000-1749850200@develop-review-hart-desti-07sbl4.dev02.devhart.com
SUMMARY:Cult Classic Movie Night at Maumee Indoor Theater
DESCRIPTION:Unspeakable horrors from outer space paralyze the living and resurrect the dead! Join the fun at Maumee Indoor Theater for the first Cult Classic Movie Night with PLAN 9 FROM OUTER SPACE!\n\nHailed as one of the “best worst movies ever made”\, PLAN 9 FROM OUTER SPACE is a cult classic from legendary director Ed Wood. Screening for the first time at the historic Maumee Indoor Theater in glorious B&W\, it’s sure to be a fun time at the movies! Presented by FilmToledo and the Maumee Indoor Theater. Suggested donation: $5. Help support classic cinema and the area’s regional film industry!\n\nWhen: Friday\, June 13th @ 7:30PMWhere: Maumee Indoor Theater\, 601 Conant St.\, Toledo\, OH 43537
URL:https://develop-review-hart-desti-07sbl4.dev02.devhart.com/event/cult-classic-movie-night-at-maumee-indoor-theater
LOCATION:Maumee Indoor Theater\, 601 Conant St\, Maumee\, OH\, 43537\, United States
CATEGORIES:entertainment,movie
ATTACH;FMTTYPE=image/png:https://minio.devhart.com/destination-toledo-website/wp-content/uploads/2025/06/17110835/cult-classic-4x3-event-image.png
END:VEVENT
BEGIN:VEVENT
DTSTART;TZID=America/Detroit:20250614T173000
DTEND;TZID=America/Detroit:20250614T210000
DTSTAMP:20260421T105655
CREATED:20250415T171031Z
LAST-MODIFIED:20250415T171031Z
UID:50630-1749922200-1749934800@develop-review-hart-desti-07sbl4.dev02.devhart.com
SUMMARY:Burt - Toledo Movie Premiere
DESCRIPTION:Toledo City Paper presents the Toledo premiere of BURT. A film by Toledo natives Joe Burke and Oliver Cooper. Q&A after the screening! \nBurt\, a 69-year-old street musician living with Parkinson’s\, has his life turned upside down when Sammy\, a wayward young man from New York\, shows up claiming to be his son. Having always dreamed of being a father\, Burt embraces Sammy and invites him to stay for the weekend at his home\, where he lives with his grumpy landlord\, Steve. Inspired by the real-life of Burt Berger\, who stars in the film alongside actor Oliver Cooper; this deeply personal movie captures Burt’s authentic portrayal as a musician living with Parkinson’s\, offering a powerful love letter to Burt\, his music\, and the filmmaker’s own father\, who also lives with Parkinson’s Disease.
URL:https://develop-review-hart-desti-07sbl4.dev02.devhart.com/event/burt-toledo-movie-premiere
LOCATION:Maumee Indoor Theater\, 601 Conant St\, Maumee\, OH\, 43537\, United States
CATEGORIES:entertainment,movie
ATTACH;FMTTYPE=image/png:https://minio.devhart.com/destination-toledo-website/wp-content/uploads/2025/04/17111433/burt-premiere-4x3-event-image.png
END:VEVENT
BEGIN:VEVENT
DTSTART;TZID=America/Detroit:20250616T193000
DTEND;TZID=America/Detroit:20250616T213000
DTSTAMP:20260421T105655
CREATED:20250610T183225Z
LAST-MODIFIED:20250610T183225Z
UID:52763-1750102200-1750109400@develop-review-hart-desti-07sbl4.dev02.devhart.com
SUMMARY:Pride Nights Movie Series
DESCRIPTION:Pride Night Series | Monday Evenings at 7:30pm\nJune 9 – June 30 | Theater #2 | $5 Admission \n\nCelebrate stories that matter during the Maumee Indoor Theater’s Pride Night film series; a weekly Monday night event honoring LGBTQIA+ voices\, journeys\, and joy on screen. From heartfelt dramas to empowering comedies\, each film is a chance to connect\, reflect\, and show up with pride. \n\nJoin the Maumee Indoor Theater every Monday in June at 7:30 pm.\nTheater #2 | $5 Tickets\nBring your friends\, allies\, and community spirit. Whether you’re part of the LGBTQIA+ family or standing proudly in support\, these evenings are for you. \n\nFeatured films include:6/9: To Wong Foo6/16: Milk6/23: The Kids are Alright6/30: Danish Girl
URL:https://develop-review-hart-desti-07sbl4.dev02.devhart.com/event/pride-nights-movie-series
LOCATION:Maumee Indoor Theater\, 601 Conant St\, Maumee\, OH\, 43537\, United States
CATEGORIES:entertainment,movie
ATTACH;FMTTYPE=image/png:https://minio.devhart.com/destination-toledo-website/wp-content/uploads/2025/06/17110837/Pride-Nights-Maumee-Indoor-4x3-event-image.png
END:VEVENT
BEGIN:VEVENT
DTSTART;TZID=America/Detroit:20250616T193000
DTEND;TZID=America/Detroit:20250616T213000
DTSTAMP:20260421T105655
CREATED:20250610T183225Z
LAST-MODIFIED:20250610T183225Z
UID:52763-1750102200-1750109400@develop-review-hart-desti-07sbl4.dev02.devhart.com
SUMMARY:Pride Nights Movie Series
DESCRIPTION:Pride Night Series | Monday Evenings at 7:30pm\nJune 9 – June 30 | Theater #2 | $5 Admission \n\nCelebrate stories that matter during the Maumee Indoor Theater’s Pride Night film series; a weekly Monday night event honoring LGBTQIA+ voices\, journeys\, and joy on screen. From heartfelt dramas to empowering comedies\, each film is a chance to connect\, reflect\, and show up with pride. \n\nJoin the Maumee Indoor Theater every Monday in June at 7:30 pm.\nTheater #2 | $5 Tickets\nBring your friends\, allies\, and community spirit. Whether you’re part of the LGBTQIA+ family or standing proudly in support\, these evenings are for you. \n\nFeatured films include:6/9: To Wong Foo6/16: Milk6/23: The Kids are Alright6/30: Danish Girl
URL:https://develop-review-hart-desti-07sbl4.dev02.devhart.com/event/pride-nights-movie-series
LOCATION:Maumee Indoor Theater\, 601 Conant St\, Maumee\, OH\, 43537\, United States
CATEGORIES:entertainment,movie
ATTACH;FMTTYPE=image/png:https://minio.devhart.com/destination-toledo-website/wp-content/uploads/2025/06/17110837/Pride-Nights-Maumee-Indoor-4x3-event-image.png
END:VEVENT
BEGIN:VEVENT
DTSTART;TZID=America/Detroit:20250616T193000
DTEND;TZID=America/Detroit:20250616T213000
DTSTAMP:20260421T105655
CREATED:20250610T183225Z
LAST-MODIFIED:20250610T183225Z
UID:52763-1750102200-1750109400@develop-review-hart-desti-07sbl4.dev02.devhart.com
SUMMARY:Pride Nights Movie Series
DESCRIPTION:Pride Night Series | Monday Evenings at 7:30pm\nJune 9 – June 30 | Theater #2 | $5 Admission \n\nCelebrate stories that matter during the Maumee Indoor Theater’s Pride Night film series; a weekly Monday night event honoring LGBTQIA+ voices\, journeys\, and joy on screen. From heartfelt dramas to empowering comedies\, each film is a chance to connect\, reflect\, and show up with pride. \n\nJoin the Maumee Indoor Theater every Monday in June at 7:30 pm.\nTheater #2 | $5 Tickets\nBring your friends\, allies\, and community spirit. Whether you’re part of the LGBTQIA+ family or standing proudly in support\, these evenings are for you. \n\nFeatured films include:6/9: To Wong Foo6/16: Milk6/23: The Kids are Alright6/30: Danish Girl
URL:https://develop-review-hart-desti-07sbl4.dev02.devhart.com/event/pride-nights-movie-series
LOCATION:Maumee Indoor Theater\, 601 Conant St\, Maumee\, OH\, 43537\, United States
CATEGORIES:entertainment,movie
ATTACH;FMTTYPE=image/png:https://minio.devhart.com/destination-toledo-website/wp-content/uploads/2025/06/17110837/Pride-Nights-Maumee-Indoor-4x3-event-image.png
END:VEVENT
END:VCALENDAR