BEGIN:VCALENDAR
VERSION:2.0
PRODID:-//Destination Toledo - ECPv6.15.17.1//NONSGML v1.0//EN
CALSCALE:GREGORIAN
METHOD:PUBLISH
X-WR-CALNAME:Destination Toledo
X-ORIGINAL-URL:https://develop-review-hart-desti-07sbl4.dev02.devhart.com
X-WR-CALDESC:Events for Destination Toledo
REFRESH-INTERVAL;VALUE=DURATION:PT1H
X-Robots-Tag:noindex
X-PUBLISHED-TTL:PT1H
BEGIN:VTIMEZONE
TZID:America/Detroit
BEGIN:DAYLIGHT
TZOFFSETFROM:-0500
TZOFFSETTO:-0400
TZNAME:EDT
DTSTART:20240310T070000
END:DAYLIGHT
BEGIN:STANDARD
TZOFFSETFROM:-0400
TZOFFSETTO:-0500
TZNAME:EST
DTSTART:20241103T060000
END:STANDARD
BEGIN:DAYLIGHT
TZOFFSETFROM:-0500
TZOFFSETTO:-0400
TZNAME:EDT
DTSTART:20250309T070000
END:DAYLIGHT
BEGIN:STANDARD
TZOFFSETFROM:-0400
TZOFFSETTO:-0500
TZNAME:EST
DTSTART:20251102T060000
END:STANDARD
BEGIN:DAYLIGHT
TZOFFSETFROM:-0500
TZOFFSETTO:-0400
TZNAME:EDT
DTSTART:20260308T070000
END:DAYLIGHT
BEGIN:STANDARD
TZOFFSETFROM:-0400
TZOFFSETTO:-0500
TZNAME:EST
DTSTART:20261101T060000
END:STANDARD
END:VTIMEZONE
BEGIN:VEVENT
DTSTART;TZID=America/Detroit:20250605T113000
DTEND;TZID=America/Detroit:20250605T133000
DTSTAMP:20260419T180102
CREATED:20250502T191550Z
LAST-MODIFIED:20250502T192714Z
UID:51928-1749123000-1749130200@develop-review-hart-desti-07sbl4.dev02.devhart.com
SUMMARY:Lunch at Levis
DESCRIPTION:Join in the celebration of 20 years of Lunch at Levis! Enjoy live entertainment\, food vendors\, games and other activities! Grab lunch from one of the 17 local food trucks or get takeout from one of downtown Toledo’s restaurants and come join the fun.\n\nLevis Square Park – at the corner of Madison Avenue & St. Clair St.Every Thursday from June 5 – October 2 (11:30 a.m. – 1:30 p.m.)\n– June 5 | DJ Jon Zenz– June 12 | Michael Corwin– June 19 | Distant Cousinz– June 26 | Chris Knopp– July 3 | 4th of July Celebration with Shane Piasecki– July 10 | New Moon– July 17 | Ben DeLong– July 24 | Christmas in July event with Arctic Clam– July 31 | Chloe & the Steel Strings– August 7 | Mud Hens Hype Bash– August 14 | Chavar Dontae– August 21 | Tim Oehlers– August 28 | Water Street Band– September 4 | DJ Super Nathan– September 11 | Terry & Charlie– September 18 | Ora Pettaway– September 25 | Tony Salazar– October 2 | DJ Jon Zenz
URL:https://develop-review-hart-desti-07sbl4.dev02.devhart.com/event/lunch-at-levis
LOCATION:Levis Square\, 285 N St Clair St\, Toledo\, OH\, 43604\, United States
CATEGORIES:entertainment,food,live music,outdoors
ATTACH;FMTTYPE=image/png:https://minio.devhart.com/destination-toledo-website/wp-content/uploads/2025/05/17111234/lunch-at-levis-4x3-event-image.png
END:VEVENT
BEGIN:VEVENT
DTSTART;TZID=America/Detroit:20250807T180000
DTEND;TZID=America/Detroit:20250807T200000
DTSTAMP:20260419T180102
CREATED:20250710T124042Z
LAST-MODIFIED:20250710T143116Z
UID:53435-1754589600-1754596800@develop-review-hart-desti-07sbl4.dev02.devhart.com
SUMMARY:Toledo Jazz Week | Jerome Clark Trio
DESCRIPTION:Glass City Jazz fest presents Toledo Jazz week with Jerome Clark Trio at Club 1343. Jerome’s trio delivers jazz originals and reimagined standards with depth and clarity. Enjoy free jazz shows all week long leading up to the Glass City Jazz Fest on Saturday\, August 9.\n \nWhether you’re a jazz enthusiast or just looking for a great night out\, Toledo Jazz Week offers a perfect blend of music\, community\, and summer vibes. \nToledo Jazz Week Lineup: \nMonday\, August 4\nLeslie Deshazor\nAssembly at American Brasserie – Downtown Hilton\n101 N Summit St.\, Toledo\, OH 43604\n \nTuesday\, August 5\nLori Lefevre & The Toledo School of the Arts Jazz Vocalists\nMiddlegrounds Metropark\n111 Ottawa St.\, Toledo\, OH 43604\nOutdoor | Family-friendly | Bring lawn chairs\n \nWednesday\, August 6\nKeith Bernhard & More Jazz Messengers\nToledo Club – Red Room\n235 14th St.\, Toledo\, OH 43604 \nThursday\, August 7\nJerome Clark Trio\nClub 1343\n1343 Avondale Ave.\, Toledo\, OH 43607\n \nFriday\, August 8\nGene Parker & Damen Cook\nGlass City Metropark – Pavilion\n1001 Front St.\, Toledo\, OH 43605\nOutdoor | Family-friendly | Bring lawn chairs
URL:https://develop-review-hart-desti-07sbl4.dev02.devhart.com/event/toledo-jazz-week-jerome-clark-trio
LOCATION:Club 1343\, 1343 Avondale Ave\, Toledo\, Ohio\, 43607
CATEGORIES:entertainment,family friendly,food,Jazz,live music,outdoors
ATTACH;FMTTYPE=image/png:https://minio.devhart.com/destination-toledo-website/wp-content/uploads/2025/07/17110607/Toledo-Jazz-Week-2025-4x3-event-image.png
END:VEVENT
BEGIN:VEVENT
DTSTART;TZID=America/Detroit:20250807T183000
DTEND;TZID=America/Detroit:20250807T203000
DTSTAMP:20260419T180102
CREATED:20250414T131855Z
LAST-MODIFIED:20250415T175926Z
UID:46953-1754591400-1754598600@develop-review-hart-desti-07sbl4.dev02.devhart.com
SUMMARY:Jazz In The Garden | Cake Walkin' Jass Band
DESCRIPTION:Toledo Botanical Garden\, Thursdays\, 6:30 p.m. from July 10 – September 11 \nWarm summer nights and cool Jazz in the Garden. This season\, once again\, features some of the best regional artists. \nThe Toledo Botanical Garden will have food trucks on site. Bring your friends/family and enjoy music in nature. Fee: $10. $5 for up to 2 tickets for Members. Please Note: kids 12 and under are Free. No reservation required. Cash only at gate. Gates open at 5:30 p.m. Bring a chair/blanket. \n\nJuly 10\, Toledo Jazz Orchestra\nJuly 17\, Gene Parker Quintet\nJuly 24\, Ramona Collins Group\nJuly 31\, Dr. Jim & Jazz Interns\nAugust 7\, Cake Walkin’ Jass Band\nAugust 14\, Tumbao Bravo\nAugust 21\, Jean Holden Group\nAugust 28\, 6th Edition\nSeptember 4\, April Varner Band\nSeptember 11\, Ariel Kaiser Quartet\n\nFor a complete line-up of performances visit MetroparksToledo.com/jazz. \nFor more information on the Toledo Metroparks visit Metroparks Toledo – Destination Toledo
URL:https://develop-review-hart-desti-07sbl4.dev02.devhart.com/event/jazz-in-the-garden-cake-walkin-jass-band
LOCATION:Toledo Botanical Garden\, 5403 Elmer Dr\, Toledo\, OH\, 43615\, United States
CATEGORIES:concert,entertainment,family friendly,food,live music
ATTACH;FMTTYPE=image/png:https://minio.devhart.com/destination-toledo-website/wp-content/uploads/2025/04/17111450/jazz-in-the-garden-4x3-event-image.png
END:VEVENT
BEGIN:VEVENT
DTSTART;TZID=America/Detroit:20250807T200000
DTEND;TZID=America/Detroit:20250807T223000
DTSTAMP:20260419T180103
CREATED:20250326T171005Z
LAST-MODIFIED:20250326T171005Z
UID:40047-1754596800-1754605800@develop-review-hart-desti-07sbl4.dev02.devhart.com
SUMMARY:Tyler Hubbard at Centennial Terrace
DESCRIPTION:Tyler Hubbard is an American singer-songwriter\, and musician\, best known as a member of the Nashville-based duo Florida Georgia Line. After that duo went on hiatus in 2021\, Hubbard began recording as a solo artist on EMI Nashville. His first solo chart entry was a guest vocalist on Tim McGraw’s “Undivided”\, followed by his first solo single “5 Foot 9”\, which topped the Billboard Country Airplay charts in 2022. He released his self-titled debut album in 2023. Tyler brings his high-energy show to Centennial Terrace for a night of country fun.
URL:https://develop-review-hart-desti-07sbl4.dev02.devhart.com/event/tyler-hubbard-at-centennial-terrace
LOCATION:Centennial Terrace\, 5773 Centennial Road\, Sylvania\, Ohio\, 43560\, United States
CATEGORIES:concert,country music,live music,outdoors
ATTACH;FMTTYPE=image/png:https://minio.devhart.com/destination-toledo-website/wp-content/uploads/2025/03/17111748/tyler-hubbard-centennial-4x3-event-image.png
END:VEVENT
END:VCALENDAR