BEGIN:VCALENDAR
VERSION:2.0
PRODID:-//Destination Toledo - ECPv6.15.17.1//NONSGML v1.0//EN
CALSCALE:GREGORIAN
METHOD:PUBLISH
X-WR-CALNAME:Destination Toledo
X-ORIGINAL-URL:https://develop-review-hart-desti-07sbl4.dev02.devhart.com
X-WR-CALDESC:Events for Destination Toledo
REFRESH-INTERVAL;VALUE=DURATION:PT1H
X-Robots-Tag:noindex
X-PUBLISHED-TTL:PT1H
BEGIN:VTIMEZONE
TZID:America/Detroit
BEGIN:DAYLIGHT
TZOFFSETFROM:-0500
TZOFFSETTO:-0400
TZNAME:EDT
DTSTART:20240310T070000
END:DAYLIGHT
BEGIN:STANDARD
TZOFFSETFROM:-0400
TZOFFSETTO:-0500
TZNAME:EST
DTSTART:20241103T060000
END:STANDARD
BEGIN:DAYLIGHT
TZOFFSETFROM:-0500
TZOFFSETTO:-0400
TZNAME:EDT
DTSTART:20250309T070000
END:DAYLIGHT
BEGIN:STANDARD
TZOFFSETFROM:-0400
TZOFFSETTO:-0500
TZNAME:EST
DTSTART:20251102T060000
END:STANDARD
BEGIN:DAYLIGHT
TZOFFSETFROM:-0500
TZOFFSETTO:-0400
TZNAME:EDT
DTSTART:20260308T070000
END:DAYLIGHT
BEGIN:STANDARD
TZOFFSETFROM:-0400
TZOFFSETTO:-0500
TZNAME:EST
DTSTART:20261101T060000
END:STANDARD
END:VTIMEZONE
BEGIN:VEVENT
DTSTART;TZID=America/Detroit:20250727T000000
DTEND;TZID=America/Detroit:20250803T235959
DTSTAMP:20260421T003325
CREATED:20250725T194854Z
LAST-MODIFIED:20250725T194854Z
UID:53718-1753574400-1754265599@develop-review-hart-desti-07sbl4.dev02.devhart.com
SUMMARY:Wood County Fair
DESCRIPTION:Stop by the Wood County Fair for animals\, food\, fair events and more fun at the Wood County Fairgrounds from July 27 – August 3! \nFor more details on their daily schedule visit their website.
URL:https://develop-review-hart-desti-07sbl4.dev02.devhart.com/event/wood-county-fair
LOCATION:Wood County Fairgrounds\, 13800 W Poe Rd\, Bowling Green\, O\, 43402\, United States
CATEGORIES:animals,entertainment,family friendly,food,live music,outdoors
ATTACH;FMTTYPE=image/png:https://minio.devhart.com/destination-toledo-website/wp-content/uploads/2025/07/17110407/woodcounty-fair-4x3-event-image.png
END:VEVENT
BEGIN:VEVENT
DTSTART;TZID=America/Detroit:20250722T170000
DTEND;TZID=America/Detroit:20250722T200000
DTSTAMP:20260421T003325
CREATED:20250721T164251Z
LAST-MODIFIED:20250721T164251Z
UID:53604-1753203600-1753214400@develop-review-hart-desti-07sbl4.dev02.devhart.com
SUMMARY:Sylvania Summer Market
DESCRIPTION:Get ready for a season of vibrant colors\, fresh flavors\, and community spirit as The Sylvania Summer Market brings you an amazing outdoor market experience! Every Tuesday from 5:00 pm – 8:00 pm at Olander Park their program promises to celebrate local agriculture\, artisans\, and the great outdoors. \nHere’s a sneak peek into this summer’s market: \nFrom the Fields: Immerse yourself in produce from the fields of area growers. \nFood Truck Extravaganza: Savor the flavors of Sylvania with a diverse selection of food trucks offering everything from gourmet sandwiches to international cuisines. Enjoy a picnic in the park or grab a bite while you explore the market. \nArtisanal Delights: Indulge in the craftsmanship of their local artisans as they showcase their handmade cheeses\, bread\, jams\, and more. \nBlooming Beauties: Explore a garden of floral wonders at their flower market. Brighten up your home with stunning bouquets\, potted plants\, and seasonal arrangements. \nFamily-Friendly Fun: They have activities for the little ones too! From face painting to interactive workshops\, the market is a family-friendly destination where everyone can enjoy a day outdoors. \nLocal Artistry: The market will feature a  selection of handmade jewelry\, paintings\, ceramics\, and more. Support local talent and take home a piece of Sylvania’s artistic soul. \nLive Music & Entertainment: Soak in the lively atmosphere with  music performances\, and entertainment for the whole family. \nCome for the fresh produce\, stay for the community vibes\, and leave with a basket full of memories. See you at the market!
URL:https://develop-review-hart-desti-07sbl4.dev02.devhart.com/event/sylvania-summer-market
LOCATION:Olander Park\, 6930 Sylvania Ave\, Sylvania\, Ohio\, 43560\, United States
CATEGORIES:family friendly,live music,outdoors,shopping
ATTACH;FMTTYPE=image/png:https://minio.devhart.com/destination-toledo-website/wp-content/uploads/2025/07/17110459/sylvania-farmers-market-2025-4x3-event-image-Recovered.png
END:VEVENT
BEGIN:VEVENT
DTSTART;TZID=America/Detroit:20250729T180000
DTEND;TZID=America/Detroit:20250729T210000
DTSTAMP:20260421T003325
CREATED:20250723T130533Z
LAST-MODIFIED:20250723T132135Z
UID:53628-1753812000-1753822800@develop-review-hart-desti-07sbl4.dev02.devhart.com
SUMMARY:Advance Base\, Spencer Radcliffe\, MuniMula | Culture Clash Records
DESCRIPTION:Culture Clash is thrilled to welcome Advance Base\, along with special guests Spencer Radcliffe and MuniMula on Tuesday\, July 29! Doors open at at 6:00 pm and music starts at 7:00 pm. \nThis is a concert you won’t want to miss if you are a melancholic soft rock music fan! \nMusic lovers of all all ages are welcome. Tickets are $15 and can be purchased on Culture Clash’s website. If you purchase online\, select the  “Pick up @ Culture Clash” Shipping option.
URL:https://develop-review-hart-desti-07sbl4.dev02.devhart.com/event/advance-base-spencer-radcliffe-munimula-culture-clash-records
LOCATION:Culture Clash Records\, 912 Monroe Street\, Toledo\, OH\, 43604\, United States
CATEGORIES:live music
ATTACH;FMTTYPE=image/png:https://minio.devhart.com/destination-toledo-website/wp-content/uploads/2025/07/17110457/culture-clash-advance-base-concert-7.29.254x3-event-image.png
END:VEVENT
BEGIN:VEVENT
DTSTART;TZID=America/Detroit:20250729T193000
DTEND;TZID=America/Detroit:20250729T220000
DTSTAMP:20260421T003325
CREATED:20250325T180518Z
LAST-MODIFIED:20250325T180518Z
UID:39883-1753817400-1753826400@develop-review-hart-desti-07sbl4.dev02.devhart.com
SUMMARY:Earth\, Wind & Fire at the Toledo Zoo
DESCRIPTION:The music of Earth\, Wind & Fire is more alive than ever as they continue to inspire new audiences and thrill those who have been with them from the beginning\, and they are coming to the Toledo Zoo! Tickets are on sale now!
URL:https://develop-review-hart-desti-07sbl4.dev02.devhart.com/event/earth-wind-fire-at-the-toledo-zoo
LOCATION:Toledo Zoo & Aquarium\, Hippo Way 2\, Toledo\, OH\, 43609\, United States
CATEGORIES:concert,entertainment,live music
ATTACH;FMTTYPE=image/png:https://minio.devhart.com/destination-toledo-website/wp-content/uploads/2025/03/17111824/zoo-earth-wind-fire-concert-4x3-event-image.png
END:VEVENT
END:VCALENDAR