BEGIN:VCALENDAR
VERSION:2.0
PRODID:-//Destination Toledo - ECPv6.15.17.1//NONSGML v1.0//EN
CALSCALE:GREGORIAN
METHOD:PUBLISH
X-WR-CALNAME:Destination Toledo
X-ORIGINAL-URL:https://develop-review-hart-desti-07sbl4.dev02.devhart.com
X-WR-CALDESC:Events for Destination Toledo
REFRESH-INTERVAL;VALUE=DURATION:PT1H
X-Robots-Tag:noindex
X-PUBLISHED-TTL:PT1H
BEGIN:VTIMEZONE
TZID:America/Detroit
BEGIN:DAYLIGHT
TZOFFSETFROM:-0500
TZOFFSETTO:-0400
TZNAME:EDT
DTSTART:20240310T070000
END:DAYLIGHT
BEGIN:STANDARD
TZOFFSETFROM:-0400
TZOFFSETTO:-0500
TZNAME:EST
DTSTART:20241103T060000
END:STANDARD
BEGIN:DAYLIGHT
TZOFFSETFROM:-0500
TZOFFSETTO:-0400
TZNAME:EDT
DTSTART:20250309T070000
END:DAYLIGHT
BEGIN:STANDARD
TZOFFSETFROM:-0400
TZOFFSETTO:-0500
TZNAME:EST
DTSTART:20251102T060000
END:STANDARD
BEGIN:DAYLIGHT
TZOFFSETFROM:-0500
TZOFFSETTO:-0400
TZNAME:EDT
DTSTART:20260308T070000
END:DAYLIGHT
BEGIN:STANDARD
TZOFFSETFROM:-0400
TZOFFSETTO:-0500
TZNAME:EST
DTSTART:20261101T060000
END:STANDARD
END:VTIMEZONE
BEGIN:VEVENT
DTSTART;TZID=America/Detroit:20250628T100000
DTEND;TZID=America/Detroit:20250628T180000
DTSTAMP:20260420T220135
CREATED:20250527T182017Z
LAST-MODIFIED:20250528T145532Z
UID:52355-1751104800-1751133600@develop-review-hart-desti-07sbl4.dev02.devhart.com
SUMMARY:Crosby Festival of the Arts
DESCRIPTION:The 59th annual Crosby Festival of the Arts\, where art lovers and collectors alike will find incredible opportunities to discover and purchase unique\, high-quality pieces directly from talented artists. \nThis two-day festival will take place on Saturday\, June 28 – Sunday\, June 29\, and is a great place to find extraordinary artworks that will inspire and elevate your home\, office\, or collection. \nDon’t miss the chance to support artists and take home a piece of beauty\, skill\, and creativity! \n 
URL:https://develop-review-hart-desti-07sbl4.dev02.devhart.com/event/crosby-festival-of-the-arts
LOCATION:Toledo Botanical Garden\, 5403 Elmer Dr\, Toledo\, OH\, 43615\, United States
CATEGORIES:art,crafts,Festival,food,live music,shopping
ATTACH;FMTTYPE=image/png:https://minio.devhart.com/destination-toledo-website/wp-content/uploads/2025/05/17111043/crosby-festival-of-the-arts-4x3-event-image.png
END:VEVENT
BEGIN:VEVENT
DTSTART;TZID=America/Detroit:20250629T190000
DTEND;TZID=America/Detroit:20250629T220000
DTSTAMP:20260420T220135
CREATED:20250325T174348Z
LAST-MODIFIED:20250325T180002Z
UID:39881-1751223600-1751234400@develop-review-hart-desti-07sbl4.dev02.devhart.com
SUMMARY:Rick Springfield's "I Want My 80's Tour" at the Toledo Zoo
DESCRIPTION:Rick Springfield is coming to the Toledo Zoo! Tickets for the 2025 tour are on sale now! \nWith Special Guests (Each performing full sets)\nJohn Waite – As a solo artist\, he has released ten studio albums and is best known for the 1984 hit single “Missing You”\, which reached No. 1 on the US Billboard Hot 100 and the top ten on the UK singles chart. He was also the lead vocalist for the rock bands the Babys and Bad English. \nWang Chung – Wang Chung The band found their greatest success in the US\, with five top 40\, all charting between 1983 and 1987\, including “Dance Hall Days” (No. 16 in 1984)\, “Everybody Have Fun Tonight” (No. 2 in 1986) and “Let’s Go!” (No. 9 in 1987). \nPaul Young – His hit singles include “Love of the Common People”\, “Wherever I Lay My Hat”\, “Come Back and Stay”\, “Every Time You Go Away” and “Everything Must Change”\, all reaching the top 10 of the UK Singles Chart
URL:https://develop-review-hart-desti-07sbl4.dev02.devhart.com/event/rick-springfields-i-want-my-80s-tour-at-the-toledo-zoo
LOCATION:Toledo Zoo & Aquarium\, Hippo Way 2\, Toledo\, OH\, 43609\, United States
CATEGORIES:concert,entertainment,live music
ATTACH;FMTTYPE=image/png:https://minio.devhart.com/destination-toledo-website/wp-content/uploads/2025/03/17111825/zoo-80s-concert-4x3-event-image.png
END:VEVENT
END:VCALENDAR