BEGIN:VCALENDAR
VERSION:2.0
PRODID:-//Destination Toledo - ECPv6.15.17.1//NONSGML v1.0//EN
CALSCALE:GREGORIAN
METHOD:PUBLISH
X-WR-CALNAME:Destination Toledo
X-ORIGINAL-URL:https://develop-review-hart-desti-07sbl4.dev02.devhart.com
X-WR-CALDESC:Events for Destination Toledo
REFRESH-INTERVAL;VALUE=DURATION:PT1H
X-Robots-Tag:noindex
X-PUBLISHED-TTL:PT1H
BEGIN:VTIMEZONE
TZID:America/Detroit
BEGIN:DAYLIGHT
TZOFFSETFROM:-0500
TZOFFSETTO:-0400
TZNAME:EDT
DTSTART:20240310T070000
END:DAYLIGHT
BEGIN:STANDARD
TZOFFSETFROM:-0400
TZOFFSETTO:-0500
TZNAME:EST
DTSTART:20241103T060000
END:STANDARD
BEGIN:DAYLIGHT
TZOFFSETFROM:-0500
TZOFFSETTO:-0400
TZNAME:EDT
DTSTART:20250309T070000
END:DAYLIGHT
BEGIN:STANDARD
TZOFFSETFROM:-0400
TZOFFSETTO:-0500
TZNAME:EST
DTSTART:20251102T060000
END:STANDARD
BEGIN:DAYLIGHT
TZOFFSETFROM:-0500
TZOFFSETTO:-0400
TZNAME:EDT
DTSTART:20260308T070000
END:DAYLIGHT
BEGIN:STANDARD
TZOFFSETFROM:-0400
TZOFFSETTO:-0500
TZNAME:EST
DTSTART:20261101T060000
END:STANDARD
END:VTIMEZONE
BEGIN:VEVENT
DTSTART;TZID=America/Detroit:20251007T100000
DTEND;TZID=America/Detroit:20251007T160000
DTSTAMP:20260421T123415
CREATED:20251007T155612Z
LAST-MODIFIED:20251007T155612Z
UID:55128-1759831200-1759852800@develop-review-hart-desti-07sbl4.dev02.devhart.com
SUMMARY:Toledo Zoo Harvest Fest
DESCRIPTION:Fall’s favorite festival is back at the Zoo! \nJoin us Oct. 1-31 for Harvest Fest—a fantastic fall festival included with general Zoo admission!\nEnjoy: Giant pumpkin displays Pumpkin animal displays Extended hours each Thurs & Fri Seasonal food & beverage offerings* Animal demos & feedings Character meet & greets Pumpkin carving classes Musical entertainment Garden workshops*\n*Separate fee required\nFind the schedule of events on our website.\nThis event is free with general Zoo admission (free for members).
URL:https://develop-review-hart-desti-07sbl4.dev02.devhart.com/event/toledo-zoo-harvest-fest
LOCATION:Toledo Zoo & Aquarium\, Hippo Way 2\, Toledo\, OH\, 43609\, United States
CATEGORIES:family friendly,holiday,outdoors
ATTACH;FMTTYPE=image/png:https://minio.devhart.com/destination-toledo-website/wp-content/uploads/2025/10/17105554/toledo-zoo-harvest-fest-4x3-event-image.png
END:VEVENT
BEGIN:VEVENT
DTSTART;TZID=America/Detroit:20251017T140000
DTEND;TZID=America/Detroit:20251017T200000
DTSTAMP:20260421T123415
CREATED:20250929T181609Z
LAST-MODIFIED:20250929T181609Z
UID:54892-1760709600-1760731200@develop-review-hart-desti-07sbl4.dev02.devhart.com
SUMMARY:Eerie Manor Tours
DESCRIPTION:Wildwood Preserve\, Manor HouseOctober 17 through 25\, 2 to 8 p.m.No Reservations Required\, FREE\n\nJoin a ghostly good time this October! Metroparks Toledo presents the fourth annual Eerie Manor Tours.\nThis is a free\, family-friendly event for all ages! Roam through over 30 hauntingly decorated spaces. The first floor will be suitable for all ages\, while the second floor and basement may have some mild gore and jump scares. Please use discretion when attending. No registration required.\n\nMinors must be accompanied by an adult for the duration of the program. This is not a Trick-or-Treat event. For extra\, spine-tingling terror\, register for the Lights Out! Eerie Manor Lantern Tours in the evenings. Recommended only for ages 12+. Staff can adapt many programs to be accessible to anyone who would like to participate. Please tell the staff your needs at the time of registration\, but no later than 72 business hours before the program. For additional information or questions\, please contact Metroparks staff by calling 419-407-9700 or by using the ‘contact us’ form at MetroparksToledo.com.
URL:https://develop-review-hart-desti-07sbl4.dev02.devhart.com/event/eerie-manor-tours
LOCATION:Wildwood Preserve Metropark\, 5100 W. Central Ave\, Toledo\, 43615
CATEGORIES:entertainment,holiday
ATTACH;FMTTYPE=image/png:https://minio.devhart.com/destination-toledo-website/wp-content/uploads/2025/09/17105731/wildwood-eerie-manor-tours-4x3-event-image.png
END:VEVENT
BEGIN:VEVENT
DTSTART;TZID=America/Detroit:20251002T160000
DTEND;TZID=America/Detroit:20251002T220000
DTSTAMP:20260421T123415
CREATED:20250929T173325Z
LAST-MODIFIED:20250929T175333Z
UID:54886-1759420800-1759442400@develop-review-hart-desti-07sbl4.dev02.devhart.com
SUMMARY:Hellwether Halloween Pop-Up at Toledo Spirits
DESCRIPTION:Beware Hellwether! The ultimate Halloween pop-up bar! \nTaking place in the Underground at Toledo Spirits\, Hellwether transforms the basement beer bar and pinball room into the most terrifying bar experience in the area. Embrace the terror of the season with seasonal beers\, spooky cocktails\, haunted tours\, and other activities designed to terrify!
URL:https://develop-review-hart-desti-07sbl4.dev02.devhart.com/event/hellwether-halloween-pop-up-at-toledo-spirits
LOCATION:Toledo Spirits Company\, 1301 N Summit St\, Toledo\, OH\, 43604\, United States
CATEGORIES:Beer,cocktails,holiday
ATTACH;FMTTYPE=image/png:https://minio.devhart.com/destination-toledo-website/wp-content/uploads/2025/09/17105731/toledo-spirits-hellwether-4x3-event-image.png
END:VEVENT
END:VCALENDAR