BEGIN:VCALENDAR
VERSION:2.0
PRODID:-//Destination Toledo - ECPv6.15.17.1//NONSGML v1.0//EN
CALSCALE:GREGORIAN
METHOD:PUBLISH
X-WR-CALNAME:Destination Toledo
X-ORIGINAL-URL:https://develop-review-hart-desti-07sbl4.dev02.devhart.com
X-WR-CALDESC:Events for Destination Toledo
REFRESH-INTERVAL;VALUE=DURATION:PT1H
X-Robots-Tag:noindex
X-PUBLISHED-TTL:PT1H
BEGIN:VTIMEZONE
TZID:America/Detroit
BEGIN:DAYLIGHT
TZOFFSETFROM:-0500
TZOFFSETTO:-0400
TZNAME:EDT
DTSTART:20240310T070000
END:DAYLIGHT
BEGIN:STANDARD
TZOFFSETFROM:-0400
TZOFFSETTO:-0500
TZNAME:EST
DTSTART:20241103T060000
END:STANDARD
BEGIN:DAYLIGHT
TZOFFSETFROM:-0500
TZOFFSETTO:-0400
TZNAME:EDT
DTSTART:20250309T070000
END:DAYLIGHT
BEGIN:STANDARD
TZOFFSETFROM:-0400
TZOFFSETTO:-0500
TZNAME:EST
DTSTART:20251102T060000
END:STANDARD
BEGIN:DAYLIGHT
TZOFFSETFROM:-0500
TZOFFSETTO:-0400
TZNAME:EDT
DTSTART:20260308T070000
END:DAYLIGHT
BEGIN:STANDARD
TZOFFSETFROM:-0400
TZOFFSETTO:-0500
TZNAME:EST
DTSTART:20261101T060000
END:STANDARD
END:VTIMEZONE
BEGIN:VEVENT
DTSTART;TZID=America/Detroit:20251018T170000
DTEND;TZID=America/Detroit:20251019T020000
DTSTAMP:20260424T172810
CREATED:20250929T200245Z
LAST-MODIFIED:20251010T152053Z
UID:54897-1760806800-1760839200@develop-review-hart-desti-07sbl4.dev02.devhart.com
SUMMARY:Downtown Zombie Crawl
DESCRIPTION:The Downtown Zombie Crawl Returns! \nDistrict 419 is bringing the Zombie Crawl tradition back to life—just like the old days! \nWhat You Need to Know:\n• Event Time – 5pm-2am\n•  Inside the Bars – This is a true Pub Crawl through downtown\, not a closed-street event.\n•  No Cover – Free entry at every stop along the crawl.\n•  Dress Code Strictly Enforced – Come correct\, come creepy.\n•  21+ Only – Must be 21 to participate.\n•  Bars\, Music & Specials All Night – Keep the party alive while crawling from spot to spot. \nDistrict 419 is reviving the original Zombie Crawl vibe—packed bars\, insane costumes\, and Downtown Toledo lit up like never before.
URL:https://develop-review-hart-desti-07sbl4.dev02.devhart.com/event/downtown-zombie-crawl
LOCATION:Migos\, 713 Monroe\, Toledo\, 43604
CATEGORIES:Beer,cocktails,entertainment,holiday
ATTACH;FMTTYPE=image/png:https://minio.devhart.com/destination-toledo-website/wp-content/uploads/2025/09/17105725/downtown-zombie-crawl-migos-4x3-event-image.png
ORGANIZER;CN="District 419":MAILTO:Mydistrict419@gmail.com
END:VEVENT
BEGIN:VEVENT
DTSTART;TZID=America/Detroit:20251018T100000
DTEND;TZID=America/Detroit:20251018T160000
DTSTAMP:20260424T172810
CREATED:20251002T185716Z
LAST-MODIFIED:20251002T185716Z
UID:54991-1760781600-1760803200@develop-review-hart-desti-07sbl4.dev02.devhart.com
SUMMARY:Pumpkin Path
DESCRIPTION:The sweet side of Halloween continues with Pumpkin Path on Sat\, Oct. 18 and Sun\, Oct. 19!\n\nChildren of all ages will enjoy trick-or-treating\, pumpkin carving demonstrations\, musical performances\, magic shows and more!\nZoo opens at 9 a.m. for members.\n\nFind tickets and the full schedule of events on the Toledo Zoo website.\n\nReservations and advance tickets are required for all guests for this event\, including members and Experience Package members. Capacity is limited. Reserve your tickets now to guarantee participation.
URL:https://develop-review-hart-desti-07sbl4.dev02.devhart.com/event/pumpkin-path
LOCATION:Toledo Zoo & Aquarium\, Hippo Way 2\, Toledo\, OH\, 43609\, United States
CATEGORIES:entertainment,family friendly,holiday
ATTACH;FMTTYPE=image/png:https://minio.devhart.com/destination-toledo-website/wp-content/uploads/2025/10/17105658/toledo-zoo-halloween-4x3-event-image.png
END:VEVENT
BEGIN:VEVENT
DTSTART;TZID=America/Detroit:20251007T100000
DTEND;TZID=America/Detroit:20251007T160000
DTSTAMP:20260424T172810
CREATED:20251007T155612Z
LAST-MODIFIED:20251007T155612Z
UID:55128-1759831200-1759852800@develop-review-hart-desti-07sbl4.dev02.devhart.com
SUMMARY:Toledo Zoo Harvest Fest
DESCRIPTION:Fall’s favorite festival is back at the Zoo! \nJoin us Oct. 1-31 for Harvest Fest—a fantastic fall festival included with general Zoo admission!\nEnjoy: Giant pumpkin displays Pumpkin animal displays Extended hours each Thurs & Fri Seasonal food & beverage offerings* Animal demos & feedings Character meet & greets Pumpkin carving classes Musical entertainment Garden workshops*\n*Separate fee required\nFind the schedule of events on our website.\nThis event is free with general Zoo admission (free for members).
URL:https://develop-review-hart-desti-07sbl4.dev02.devhart.com/event/toledo-zoo-harvest-fest
LOCATION:Toledo Zoo & Aquarium\, Hippo Way 2\, Toledo\, OH\, 43609\, United States
CATEGORIES:family friendly,holiday,outdoors
ATTACH;FMTTYPE=image/png:https://minio.devhart.com/destination-toledo-website/wp-content/uploads/2025/10/17105554/toledo-zoo-harvest-fest-4x3-event-image.png
END:VEVENT
BEGIN:VEVENT
DTSTART;TZID=America/Detroit:20251019T120000
DTEND;TZID=America/Detroit:20251019T150000
DTSTAMP:20260424T172810
CREATED:20251006T195447Z
LAST-MODIFIED:20251006T195447Z
UID:55098-1760875200-1760886000@develop-review-hart-desti-07sbl4.dev02.devhart.com
SUMMARY:Halloween Stained Glass Class at Copper Moon
DESCRIPTION:Get crafty this spooky season at Copper Moon Studios with the Halloween Stained Glass Class\, featuring local artists Mary Ellis and Taylir Ellis of What the Flux Studio! On Sunday\, October 19 (12:00–3:00 PM)\, participants ages 10 and up are invited to learn the basics of stained glass art — from cutting and grinding to soldering and applying patina — while creating their very own Halloween-themed masterpiece. \nChoose from a large bat (8×4)\, a set of two small ghosts (3.5×3)\, or two candy corns (3×4) — or mix and match the smaller designs! Each project can be finished as a garden stake or hanging decoration\, and all materials are included. \nPerfect for beginners\, this hands-on workshop offers a fun\, creative way to celebrate the Halloween season. Bring your favorite beverage\, wear closed-toe shoes\, and enjoy an afternoon of art\, laughter\, and fall spirit at Copper Moon Studios. Limited seating — reserve early to secure your spot!
URL:https://develop-review-hart-desti-07sbl4.dev02.devhart.com/event/halloween-stained-glass-class-at-copper-moon
LOCATION:Copper Moon Studio\, 8007 Airport Hwy\, Holland\, OH\, 43528\, United States
CATEGORIES:crafts,educational,holiday
ATTACH;FMTTYPE=image/png:https://minio.devhart.com/destination-toledo-website/wp-content/uploads/2025/10/17105621/halloween-stained-glass-copper-moon-4x3-event-image.png
END:VEVENT
BEGIN:VEVENT
DTSTART;TZID=America/Detroit:20251003T170000
DTEND;TZID=America/Detroit:20251003T220000
DTSTAMP:20260424T172810
CREATED:20250930T145640Z
LAST-MODIFIED:20250930T181622Z
UID:54918-1759510800-1759528800@develop-review-hart-desti-07sbl4.dev02.devhart.com
SUMMARY:The Corn Maze at the Butterfly House
DESCRIPTION:Celebrate fall fun at The Corn Maze at the Butterfly House\, located at 11455 Obee Road in Whitehouse\, Ohio\, right next to The Butterfly House and The Stables. Open from September 20 through October 26\, 2025\, this family-friendly attraction offers acres of winding paths and seasonal adventure. Visitors can explore the maze by day or bring a flashlight for a nighttime challenge on Fridays and Saturdays. Campfires provide a cozy spot for those who prefer to watch the fun from the sidelines. \nThe maze is open Fridays 5–10 PM\, Saturdays Noon–10 PM\, and Sundays Noon–6 PM (weather permitting). Admission is $12 for adults\, $10 for children ages 4–9 and seniors 65+\, and free for kids under 4 with an adult. Groups of 25 or more are encouraged to reserve in advance\, with flexible scheduling available outside regular hours. With seasonal snacks\, family traditions\, and a safe\, festive atmosphere\, the Corn Maze at the Butterfly House is the perfect way to celebrate autumn in northwest Ohio.
URL:https://develop-review-hart-desti-07sbl4.dev02.devhart.com/event/the-corn-maze-at-the-butterfly-house
LOCATION:Butterfly House at Wheeler Farms\, 11455 Obee Rd.\, Whitehouse\, OH\, 43571\, United States
CATEGORIES:family friendly,holiday,nature,outdoors
ATTACH;FMTTYPE=image/png:https://minio.devhart.com/destination-toledo-website/wp-content/uploads/2025/09/17105721/corn-maze-wheeler-farms-4x3-event-image.png
END:VEVENT
BEGIN:VEVENT
DTSTART;TZID=America/Detroit:20251019T140000
DTEND;TZID=America/Detroit:20251019T160000
DTSTAMP:20260424T172810
CREATED:20250820T194555Z
LAST-MODIFIED:20250820T194555Z
UID:54159-1760882400-1760889600@develop-review-hart-desti-07sbl4.dev02.devhart.com
SUMMARY:Sunshine Communities: Spooky Boardwalk
DESCRIPTION:Trick-or-Treat\, Sunshine style—come in costume\, stroll the boardwalk\, meet barnyard animals\, and collect candy from local businesses\, organizations\, and partners—accessible and free for the whole family! \nOctober 19\, 2025\n2:00 PM – 4:00 PM\nSunshine Communities (7223 Maumee Western Road\, Maumee\, Ohio)
URL:https://develop-review-hart-desti-07sbl4.dev02.devhart.com/event/sunshine-communities-spooky-boardwalk
LOCATION:Sunshine Communities\, 7223 Maumee Western Rd\, Maumee\, 43537\, United States
CATEGORIES:entertainment,family friendly,holiday,outdoors
ATTACH;FMTTYPE=image/png:https://minio.devhart.com/destination-toledo-website/wp-content/uploads/2025/08/17110127/BirdFeeder-2.png
ORGANIZER;CN="Sunshine":MAILTO:mallory.crooks@sunshine.org
END:VEVENT
BEGIN:VEVENT
DTSTART;TZID=America/Detroit:20251017T140000
DTEND;TZID=America/Detroit:20251017T200000
DTSTAMP:20260424T172810
CREATED:20250929T181609Z
LAST-MODIFIED:20250929T181609Z
UID:54892-1760709600-1760731200@develop-review-hart-desti-07sbl4.dev02.devhart.com
SUMMARY:Eerie Manor Tours
DESCRIPTION:Wildwood Preserve\, Manor HouseOctober 17 through 25\, 2 to 8 p.m.No Reservations Required\, FREE\n\nJoin a ghostly good time this October! Metroparks Toledo presents the fourth annual Eerie Manor Tours.\nThis is a free\, family-friendly event for all ages! Roam through over 30 hauntingly decorated spaces. The first floor will be suitable for all ages\, while the second floor and basement may have some mild gore and jump scares. Please use discretion when attending. No registration required.\n\nMinors must be accompanied by an adult for the duration of the program. This is not a Trick-or-Treat event. For extra\, spine-tingling terror\, register for the Lights Out! Eerie Manor Lantern Tours in the evenings. Recommended only for ages 12+. Staff can adapt many programs to be accessible to anyone who would like to participate. Please tell the staff your needs at the time of registration\, but no later than 72 business hours before the program. For additional information or questions\, please contact Metroparks staff by calling 419-407-9700 or by using the ‘contact us’ form at MetroparksToledo.com.
URL:https://develop-review-hart-desti-07sbl4.dev02.devhart.com/event/eerie-manor-tours
LOCATION:Wildwood Preserve Metropark\, 5100 W. Central Ave\, Toledo\, 43615
CATEGORIES:entertainment,holiday
ATTACH;FMTTYPE=image/png:https://minio.devhart.com/destination-toledo-website/wp-content/uploads/2025/09/17105731/wildwood-eerie-manor-tours-4x3-event-image.png
END:VEVENT
BEGIN:VEVENT
DTSTART;TZID=America/Detroit:20251002T160000
DTEND;TZID=America/Detroit:20251002T220000
DTSTAMP:20260424T172810
CREATED:20250929T173325Z
LAST-MODIFIED:20250929T175333Z
UID:54886-1759420800-1759442400@develop-review-hart-desti-07sbl4.dev02.devhart.com
SUMMARY:Hellwether Halloween Pop-Up at Toledo Spirits
DESCRIPTION:Beware Hellwether! The ultimate Halloween pop-up bar! \nTaking place in the Underground at Toledo Spirits\, Hellwether transforms the basement beer bar and pinball room into the most terrifying bar experience in the area. Embrace the terror of the season with seasonal beers\, spooky cocktails\, haunted tours\, and other activities designed to terrify!
URL:https://develop-review-hart-desti-07sbl4.dev02.devhart.com/event/hellwether-halloween-pop-up-at-toledo-spirits
LOCATION:Toledo Spirits Company\, 1301 N Summit St\, Toledo\, OH\, 43604\, United States
CATEGORIES:Beer,cocktails,holiday
ATTACH;FMTTYPE=image/png:https://minio.devhart.com/destination-toledo-website/wp-content/uploads/2025/09/17105731/toledo-spirits-hellwether-4x3-event-image.png
END:VEVENT
BEGIN:VEVENT
DTSTART;TZID=America/Detroit:20251003T190000
DTEND;TZID=America/Detroit:20251003T230000
DTSTAMP:20260424T172810
CREATED:20250929T183636Z
LAST-MODIFIED:20251001T195451Z
UID:54896-1759518000-1759532400@develop-review-hart-desti-07sbl4.dev02.devhart.com
SUMMARY:Haunted Hydro
DESCRIPTION:Step into terror at The Haunted Hydro\, northwest Ohio’s most legendary haunted attraction. Located inside a historic hydroelectric power plant in Fremont\, Ohio\, this one-of-a-kind haunt spans 4 acres of indoor and outdoor scares. Guests will brave terrifying environments with elaborate sets and skilled live actors with the eerie backdrop of the century-old power plant itself. The Haunted Hydro creates an immersive experience unlike any other. Known for its authenticity\, creativity\, and heart-pounding atmosphere\, it’s a must-visit destination for thrill seekers every Halloween season. \nTickets at The Haunted Hydro
URL:https://develop-review-hart-desti-07sbl4.dev02.devhart.com/event/haunted-hydro
LOCATION:Haunted Hydro\, 1333 Tiffin St.\, Fremont\, Ohio\, 43420\, United States
CATEGORIES:entertainment,holiday
ATTACH;FMTTYPE=image/png:https://minio.devhart.com/destination-toledo-website/wp-content/uploads/2025/09/17105729/haunted-hydro-4x3-event-image.png
END:VEVENT
END:VCALENDAR