BEGIN:VCALENDAR
VERSION:2.0
PRODID:-//Destination Toledo - ECPv6.15.17.1//NONSGML v1.0//EN
CALSCALE:GREGORIAN
METHOD:PUBLISH
X-WR-CALNAME:Destination Toledo
X-ORIGINAL-URL:https://develop-review-hart-desti-07sbl4.dev02.devhart.com
X-WR-CALDESC:Events for Destination Toledo
REFRESH-INTERVAL;VALUE=DURATION:PT1H
X-Robots-Tag:noindex
X-PUBLISHED-TTL:PT1H
BEGIN:VTIMEZONE
TZID:America/Detroit
BEGIN:DAYLIGHT
TZOFFSETFROM:-0500
TZOFFSETTO:-0400
TZNAME:EDT
DTSTART:20240310T070000
END:DAYLIGHT
BEGIN:STANDARD
TZOFFSETFROM:-0400
TZOFFSETTO:-0500
TZNAME:EST
DTSTART:20241103T060000
END:STANDARD
BEGIN:DAYLIGHT
TZOFFSETFROM:-0500
TZOFFSETTO:-0400
TZNAME:EDT
DTSTART:20250309T070000
END:DAYLIGHT
BEGIN:STANDARD
TZOFFSETFROM:-0400
TZOFFSETTO:-0500
TZNAME:EST
DTSTART:20251102T060000
END:STANDARD
BEGIN:DAYLIGHT
TZOFFSETFROM:-0500
TZOFFSETTO:-0400
TZNAME:EDT
DTSTART:20260308T070000
END:DAYLIGHT
BEGIN:STANDARD
TZOFFSETFROM:-0400
TZOFFSETTO:-0500
TZNAME:EST
DTSTART:20261101T060000
END:STANDARD
END:VTIMEZONE
BEGIN:VEVENT
DTSTART;TZID=America/Detroit:20251107T000000
DTEND;TZID=America/Detroit:20251110T235959
DTSTAMP:20260421T035645
CREATED:20250522T171123Z
LAST-MODIFIED:20250522T171221Z
UID:52245-1762473600-1762819199@develop-review-hart-desti-07sbl4.dev02.devhart.com
SUMMARY:50th Anniversary Edmund Fitzgerald Tribute
DESCRIPTION:The SS Edmund Fitzgerald\, one of the largest and most famous freighters to sail the Great Lakes\, sank during a fierce storm on Lake Superior on November 10\, 1975\, taking the lives of all 29 crew members aboard. Its mysterious sinking remains one of the Great Lakes’ most captivating stories\, elevated even further by the popular 1976 Gordon Lightfoot song “The Wreck of the Edmund Fitzgerald“. The ship was often called the “Toledo Express” because the majority of the crew and the captain resided in Toledo—making it a significant Great Lakes connection directly related to our hometown. \nNow\, 50 years later\, the National Museum of the Great Lakes plans to honor the ship and crew’s memory with a weekend of unforgettable events\, special performances\, and meaningful reflections as well as numerous activities in the months leading up to the anniversary. \nFor a full schedule of unforgettable events\, special performances\, and meaningful reflections visit the National Museum of the Great Lakes website.
URL:https://develop-review-hart-desti-07sbl4.dev02.devhart.com/event/50th-anniversary-edmund-fitzgerald-tribute
LOCATION:OH
CATEGORIES:educational,history
ATTACH;FMTTYPE=image/png:https://minio.devhart.com/destination-toledo-website/wp-content/uploads/2025/05/17111100/NMGL-Edmund-Fitzgerald-anniversary-4x3-event-image.png
END:VEVENT
BEGIN:VEVENT
DTSTART;TZID=America/Detroit:20251108T140000
DTEND;TZID=America/Detroit:20251108T150000
DTSTAMP:20260421T035645
CREATED:20251103T201834Z
LAST-MODIFIED:20251103T201834Z
UID:55813-1762610400-1762614000@develop-review-hart-desti-07sbl4.dev02.devhart.com
SUMMARY:Book Signing: "The Legend Lives On: S.S. Edmund Fitzgerald"
DESCRIPTION:50th Anniversary Reprint by Bruce Lynn and Christopher Winters\n\nStop by the National Museum of the Great Lakes for a special book signing event with maritime photographer and author Christopher Winters.\n\nOn Saturday\, November 8\, 2025\, from 2–3 p.m.\, Winters will sign copies of the newly released 50th anniversary edition of “The Legend Lives On: S.S. 𝘌𝘥𝘮𝘶𝘯𝘥 𝘍𝘪𝘵𝘻𝘨𝘦𝘳𝘢𝘭𝘥”\, co-authored with Bruce Lynn.\n\nThis updated and amended edition commemorates five decades since the tragic sinking of the S.S. 𝘌𝘥𝘮𝘶𝘯𝘥 𝘍𝘪𝘵𝘻𝘨𝘦𝘳𝘢𝘭𝘥 and includes 50 new pages of content not found in the original release. Copies of the book will be available for purchase in the Museum Store.\n\nDon’t miss this opportunity to meet the author\, have your book signed\, and be part of honoring the enduring story of the Great Lakes’ most legendary ship.
URL:https://develop-review-hart-desti-07sbl4.dev02.devhart.com/event/book-signing-the-legend-lives-on-s-s-edmund-fitzgerald
LOCATION:National Museum of the Great Lakes\, 1701 Front St\, Toledo\, OH\, 43605\, United States
CATEGORIES:books,history
ATTACH;FMTTYPE=image/png:https://minio.devhart.com/destination-toledo-website/wp-content/uploads/2025/11/17105306/the-legend-lives-on-book-signing-nmgl-4x3-event-image.png
END:VEVENT
END:VCALENDAR