BEGIN:VCALENDAR
VERSION:2.0
PRODID:-//Destination Toledo - ECPv6.15.17.1//NONSGML v1.0//EN
CALSCALE:GREGORIAN
METHOD:PUBLISH
X-WR-CALNAME:Destination Toledo
X-ORIGINAL-URL:https://develop-review-hart-desti-07sbl4.dev02.devhart.com
X-WR-CALDESC:Events for Destination Toledo
REFRESH-INTERVAL;VALUE=DURATION:PT1H
X-Robots-Tag:noindex
X-PUBLISHED-TTL:PT1H
BEGIN:VTIMEZONE
TZID:America/Detroit
BEGIN:DAYLIGHT
TZOFFSETFROM:-0500
TZOFFSETTO:-0400
TZNAME:EDT
DTSTART:20240310T070000
END:DAYLIGHT
BEGIN:STANDARD
TZOFFSETFROM:-0400
TZOFFSETTO:-0500
TZNAME:EST
DTSTART:20241103T060000
END:STANDARD
BEGIN:DAYLIGHT
TZOFFSETFROM:-0500
TZOFFSETTO:-0400
TZNAME:EDT
DTSTART:20250309T070000
END:DAYLIGHT
BEGIN:STANDARD
TZOFFSETFROM:-0400
TZOFFSETTO:-0500
TZNAME:EST
DTSTART:20251102T060000
END:STANDARD
BEGIN:DAYLIGHT
TZOFFSETFROM:-0500
TZOFFSETTO:-0400
TZNAME:EDT
DTSTART:20260308T070000
END:DAYLIGHT
BEGIN:STANDARD
TZOFFSETFROM:-0400
TZOFFSETTO:-0500
TZNAME:EST
DTSTART:20261101T060000
END:STANDARD
END:VTIMEZONE
BEGIN:VEVENT
DTSTART;TZID=America/Detroit:20251012T100000
DTEND;TZID=America/Detroit:20251012T170000
DTSTAMP:20260422T073653
CREATED:20241218T174454Z
LAST-MODIFIED:20250520T190442Z
UID:14634-1760263200-1760288400@develop-review-hart-desti-07sbl4.dev02.devhart.com
SUMMARY:Grand Rapids Apple Butter Festival
DESCRIPTION:​Since 1977\, the Applebutter Fest has been a beloved local tradition\, offering a blend of historical\n​re-enactments\, artisan crafts\, live music\, delectable food\, and of course\, delicious apple butter. What began as a modest gathering has blossomed into a vibrant event\, drawing over 30\,000 attendees annually. Guided by the Historical Society of Grand Rapids Ohio\, our dedicated team of volunteers takes pride in building an unforgettable experience for all.
URL:https://develop-review-hart-desti-07sbl4.dev02.devhart.com/event/grand-rapids-apple-butter-festival
LOCATION:Downtown Grand Rapids\, OH\, 24232 Front St\, Grand Rapids\, 43522\, United States
CATEGORIES:crafts,educational,family friendly,Festival,food,history,outdoors,shopping
ATTACH;FMTTYPE=image/jpeg:https://minio.devhart.com/destination-toledo-website/wp-content/uploads/2024/12/18145252/1apple-butter.jpg
END:VEVENT
END:VCALENDAR