BEGIN:VCALENDAR
VERSION:2.0
PRODID:-//Destination Toledo - ECPv6.15.17.1//NONSGML v1.0//EN
CALSCALE:GREGORIAN
METHOD:PUBLISH
X-WR-CALNAME:Destination Toledo
X-ORIGINAL-URL:https://develop-review-hart-desti-07sbl4.dev02.devhart.com
X-WR-CALDESC:Events for Destination Toledo
REFRESH-INTERVAL;VALUE=DURATION:PT1H
X-Robots-Tag:noindex
X-PUBLISHED-TTL:PT1H
BEGIN:VTIMEZONE
TZID:America/Detroit
BEGIN:DAYLIGHT
TZOFFSETFROM:-0500
TZOFFSETTO:-0400
TZNAME:EDT
DTSTART:20240310T070000
END:DAYLIGHT
BEGIN:STANDARD
TZOFFSETFROM:-0400
TZOFFSETTO:-0500
TZNAME:EST
DTSTART:20241103T060000
END:STANDARD
BEGIN:DAYLIGHT
TZOFFSETFROM:-0500
TZOFFSETTO:-0400
TZNAME:EDT
DTSTART:20250309T070000
END:DAYLIGHT
BEGIN:STANDARD
TZOFFSETFROM:-0400
TZOFFSETTO:-0500
TZNAME:EST
DTSTART:20251102T060000
END:STANDARD
BEGIN:DAYLIGHT
TZOFFSETFROM:-0500
TZOFFSETTO:-0400
TZNAME:EDT
DTSTART:20260308T070000
END:DAYLIGHT
BEGIN:STANDARD
TZOFFSETFROM:-0400
TZOFFSETTO:-0500
TZNAME:EST
DTSTART:20261101T060000
END:STANDARD
END:VTIMEZONE
BEGIN:VEVENT
DTSTART;TZID=America/Detroit:20250524T093000
DTEND;TZID=America/Detroit:20250524T170000
DTSTAMP:20260423T044025
CREATED:20250403T133205Z
LAST-MODIFIED:20250403T143100Z
UID:43507-1748079000-1748106000@develop-review-hart-desti-07sbl4.dev02.devhart.com
SUMMARY:First Siege 1813 at Fort Meigs
DESCRIPTION:Fort Meigs hosts re-enactors from across the United States and Canada to commemorate the First Siege of Fort Meigs. Experience authentic War of 1812 military camps\, musket and cannon demonstrations\, battle re-enactments\, hands-on activities\, and more! \n\nFirst Siege takes place from 9:30 a.m. – 5:00 p.m. May 24 & 25\, 2025. A detailed schedule of events will be posted prior to the event date.\nFor more details and admission rates visit www.fortmeigs.org/firstsiege
URL:https://develop-review-hart-desti-07sbl4.dev02.devhart.com/event/first-siege-1813-at-fort-meigs-3
LOCATION:Fort Meigs: Ohio’s War of 1812 Battlefield\, 29100 W. River Rd.\, Perrysburg\, OH\, 43551\, United States
CATEGORIES:educational,history,outdoors
ATTACH;FMTTYPE=image/png:https://minio.devhart.com/destination-toledo-website/wp-content/uploads/2025/03/18192248/fort-meigs-4x3-event-image.png
END:VEVENT
END:VCALENDAR