BEGIN:VCALENDAR
VERSION:2.0
PRODID:-//Destination Toledo - ECPv6.15.17.1//NONSGML v1.0//EN
CALSCALE:GREGORIAN
METHOD:PUBLISH
X-WR-CALNAME:Destination Toledo
X-ORIGINAL-URL:https://develop-review-hart-desti-07sbl4.dev02.devhart.com
X-WR-CALDESC:Events for Destination Toledo
REFRESH-INTERVAL;VALUE=DURATION:PT1H
X-Robots-Tag:noindex
X-PUBLISHED-TTL:PT1H
BEGIN:VTIMEZONE
TZID:America/Detroit
BEGIN:DAYLIGHT
TZOFFSETFROM:-0500
TZOFFSETTO:-0400
TZNAME:EDT
DTSTART:20240310T070000
END:DAYLIGHT
BEGIN:STANDARD
TZOFFSETFROM:-0400
TZOFFSETTO:-0500
TZNAME:EST
DTSTART:20241103T060000
END:STANDARD
BEGIN:DAYLIGHT
TZOFFSETFROM:-0500
TZOFFSETTO:-0400
TZNAME:EDT
DTSTART:20250309T070000
END:DAYLIGHT
BEGIN:STANDARD
TZOFFSETFROM:-0400
TZOFFSETTO:-0500
TZNAME:EST
DTSTART:20251102T060000
END:STANDARD
BEGIN:DAYLIGHT
TZOFFSETFROM:-0500
TZOFFSETTO:-0400
TZNAME:EDT
DTSTART:20260308T070000
END:DAYLIGHT
BEGIN:STANDARD
TZOFFSETFROM:-0400
TZOFFSETTO:-0500
TZNAME:EST
DTSTART:20261101T060000
END:STANDARD
END:VTIMEZONE
BEGIN:VEVENT
DTSTART;TZID=America/Detroit:20250804T180000
DTEND;TZID=America/Detroit:20250804T200000
DTSTAMP:20260423T212612
CREATED:20250709T155436Z
LAST-MODIFIED:20250710T141156Z
UID:53391-1754330400-1754337600@develop-review-hart-desti-07sbl4.dev02.devhart.com
SUMMARY:Toledo Jazz Week | Leslie Deshazor
DESCRIPTION:Glass City Jazz fest presents Toledo Jazz week with Leslie Deshazor at the\nAssembly at American Brasserie in the Hilton Garden Inn. A classically trained violist/violinist from Michigan\, Leslie DeShazor bridges orchestral finesse with jazz and R&B\nsoul. \nEnjoy free jazz shows all week long leading up to the Glass City Jazz Fest on Saturday\, August 9. Whether you’re a jazz enthusiast or just looking for a great night out\,Toledo Jazz Week offers a perfect blend of music\, community\, and summer vibes. \nGlass City Jazz fest presents Toledo Jazz week with Jerome Clark Trio at Club 1343. Enjoy free jazz shows all week long leading up to the Glass City Jazz Fest on Saturday\, August 9.\n \nWhether you’re a jazz enthusiast or just looking for a great night out\, Toledo Jazz Week offers a perfect blend of music\, community\, and summer vibes. \nToledo Jazz Week Lineup: \nMonday\, August 4\nLeslie Deshazor\nAssembly at American Brasserie – Downtown Hilton\n101 N Summit St.\, Toledo\, OH 43604\n \nTuesday\, August 5\nLori Lefevre & The Toledo School of the Arts Jazz Vocalists\nMiddlegrounds Metropark\n111 Ottawa St.\, Toledo\, OH 43604\nOutdoor | Family-friendly | Bring lawn chairs\n \nWednesday\, August 6\nKeith Bernhard & More Jazz Messengers\nToledo Club – Red Room\n235 14th St.\, Toledo\, OH 43604 \nThursday\, August 7\nJerome Clark Trio\nClub 1343\n1343 Avondale Ave.\, Toledo\, OH 43607\n \nFriday\, August 8\nGene Parker & Damen Cook\nGlass City Metropark – Pavilion\n1001 Front St.\, Toledo\, OH 43605\nOutdoor | Family-friendly | Bring lawn chairs
URL:https://develop-review-hart-desti-07sbl4.dev02.devhart.com/event/toledo-jazz-week
LOCATION:Hilton Garden Inn\, 6165 Levis Commons Blvd\, Perrysburg\, OH\, 43551
CATEGORIES:entertainment,food,Jazz,live music,outdoors
ATTACH;FMTTYPE=image/png:https://minio.devhart.com/destination-toledo-website/wp-content/uploads/2025/07/17110607/Toledo-Jazz-Week-2025-4x3-event-image.png
END:VEVENT
END:VCALENDAR