BEGIN:VCALENDAR
VERSION:2.0
PRODID:-//Destination Toledo - ECPv6.15.17.1//NONSGML v1.0//EN
CALSCALE:GREGORIAN
METHOD:PUBLISH
X-WR-CALNAME:Destination Toledo
X-ORIGINAL-URL:https://develop-review-hart-desti-07sbl4.dev02.devhart.com
X-WR-CALDESC:Events for Destination Toledo
REFRESH-INTERVAL;VALUE=DURATION:PT1H
X-Robots-Tag:noindex
X-PUBLISHED-TTL:PT1H
BEGIN:VTIMEZONE
TZID:America/Detroit
BEGIN:DAYLIGHT
TZOFFSETFROM:-0500
TZOFFSETTO:-0400
TZNAME:EDT
DTSTART:20240310T070000
END:DAYLIGHT
BEGIN:STANDARD
TZOFFSETFROM:-0400
TZOFFSETTO:-0500
TZNAME:EST
DTSTART:20241103T060000
END:STANDARD
BEGIN:DAYLIGHT
TZOFFSETFROM:-0500
TZOFFSETTO:-0400
TZNAME:EDT
DTSTART:20250309T070000
END:DAYLIGHT
BEGIN:STANDARD
TZOFFSETFROM:-0400
TZOFFSETTO:-0500
TZNAME:EST
DTSTART:20251102T060000
END:STANDARD
BEGIN:DAYLIGHT
TZOFFSETFROM:-0500
TZOFFSETTO:-0400
TZNAME:EDT
DTSTART:20260308T070000
END:DAYLIGHT
BEGIN:STANDARD
TZOFFSETFROM:-0400
TZOFFSETTO:-0500
TZNAME:EST
DTSTART:20261101T060000
END:STANDARD
END:VTIMEZONE
BEGIN:VEVENT
DTSTART;TZID=America/Detroit:20250727T000000
DTEND;TZID=America/Detroit:20250803T235959
DTSTAMP:20260422T203829
CREATED:20250725T194854Z
LAST-MODIFIED:20250725T194854Z
UID:53718-1753574400-1754265599@develop-review-hart-desti-07sbl4.dev02.devhart.com
SUMMARY:Wood County Fair
DESCRIPTION:Stop by the Wood County Fair for animals\, food\, fair events and more fun at the Wood County Fairgrounds from July 27 – August 3! \nFor more details on their daily schedule visit their website.
URL:https://develop-review-hart-desti-07sbl4.dev02.devhart.com/event/wood-county-fair
LOCATION:Wood County Fairgrounds\, 13800 W Poe Rd\, Bowling Green\, O\, 43402\, United States
CATEGORIES:animals,entertainment,family friendly,food,live music,outdoors
ATTACH;FMTTYPE=image/png:https://minio.devhart.com/destination-toledo-website/wp-content/uploads/2025/07/17110407/woodcounty-fair-4x3-event-image.png
END:VEVENT
BEGIN:VEVENT
DTSTART;TZID=America/Detroit:20250802T070000
DTEND;TZID=America/Detroit:20250802T170000
DTSTAMP:20260422T203829
CREATED:20250729T152420Z
LAST-MODIFIED:20250729T152440Z
UID:53763-1754118000-1754154000@develop-review-hart-desti-07sbl4.dev02.devhart.com
SUMMARY:End of Summer Bash
DESCRIPTION:Stop by Sauder Village for a fun-filled farewell to summer at our End of Summer Bash! Celebrate the season with exciting activities\, delicious treats and entertainment for all ages — happening throughout the Sauder Village complex. \nHighlights of the day include: \nAt the Doughbox Bakery\, enjoy special themed donuts including Cracker Jack\, Animal Cracker\, Caramel Apple\, Lemonade\, Churro\, and Peanuts\, plus a balloon artist\, temporary tattoos\, games\, prizes and more! \nThe Barn Restaurant will swap its usual buffet fare for carnival food! Enjoy corndogs\, fries and more from 11 a.m. to 2 p.m. \nThe Historic Village will host Magician Nate Hicks from 11 a.m. to 2 p.m. Hicks will perform a family friendly set with card tricks\, comedy\, crowd work\, rope escapes and more. Also\, enjoy classic summer games throughout the village all day\, 10 a.m. to 5 p.m. \nAt the Sauder Village Campground\, enjoy a bounce house and inflatable obstacle course from 9 a.m. – 4 p.m. Wristbands will be available for children wanting to visit the bounce houses with purchases of $20 or more at the Doughbox\, Barn Restaurant or Historic Village admission. A $20 purchase includes 5 wristbands. \nAdditionally\, anyone spending $20 or more at the Barn or the Doughbox will be able to show their receipt at the Historic Village admissions desk and receive $2.00 off on up to five admissions that day. \nTrolley Rides will bring guests between all areas throughout the day! \nLet’s close out summer with a day full of laughter\, games\, and unforgettable memories. Whether you’re a day guest or staying overnight\, there’s something for everyone at Sauder Village’s End of Summer Bash!
URL:https://develop-review-hart-desti-07sbl4.dev02.devhart.com/event/end-of-summer-bash
LOCATION:Sauder Village\, 22611 State Rte 2\, Archbold\, OH\, 43502
CATEGORIES:educational,family friendly,food,history
ATTACH;FMTTYPE=image/png:https://minio.devhart.com/destination-toledo-website/wp-content/uploads/2025/06/17110725/sauder-village-logo-4x3-event-image.png
END:VEVENT
BEGIN:VEVENT
DTSTART;TZID=America/Detroit:20250412T090000
DTEND;TZID=America/Detroit:20250412T130000
DTSTAMP:20260422T203829
CREATED:20250408T152305Z
LAST-MODIFIED:20250408T152838Z
UID:46340-1744448400-1744462800@develop-review-hart-desti-07sbl4.dev02.devhart.com
SUMMARY:Toledo Farmers' Market
DESCRIPTION:The Toledo Farmers’ Market occurs every Saturday throughout the year\, featuring local produce & handmade products from local artisans in the Toledo Region.\n*Summer/Fall Hours (Outdoor Market)*8am – 2pm\n*Winter/Spring Hours (Indoor Market)*9am – 1pm\nThe Farmers’ Market Association of Toledo (FMAT) goal is to provide a highly visible\, centralized location for area farmers and gardeners to market high-quality products directly to consumers. They support local small family farms\, agricultural producers\, and craftsmen\, whose continued existence depends on direct marketing opportunities.
URL:https://develop-review-hart-desti-07sbl4.dev02.devhart.com/event/toledo-farmers-market
LOCATION:Toledo Farmers’ Market\, 525 Market St\,\, Toledo\, Ohio\, 43604\, United States
CATEGORIES:food,shopping
ATTACH;FMTTYPE=image/png:https://minio.devhart.com/destination-toledo-website/wp-content/uploads/2025/04/17111553/farmers-market-4x3-event-image.png
END:VEVENT
END:VCALENDAR