BEGIN:VCALENDAR
VERSION:2.0
PRODID:-//Destination Toledo - ECPv6.15.17.1//NONSGML v1.0//EN
CALSCALE:GREGORIAN
METHOD:PUBLISH
X-WR-CALNAME:Destination Toledo
X-ORIGINAL-URL:https://develop-review-hart-desti-07sbl4.dev02.devhart.com
X-WR-CALDESC:Events for Destination Toledo
REFRESH-INTERVAL;VALUE=DURATION:PT1H
X-Robots-Tag:noindex
X-PUBLISHED-TTL:PT1H
BEGIN:VTIMEZONE
TZID:America/Detroit
BEGIN:DAYLIGHT
TZOFFSETFROM:-0500
TZOFFSETTO:-0400
TZNAME:EDT
DTSTART:20240310T070000
END:DAYLIGHT
BEGIN:STANDARD
TZOFFSETFROM:-0400
TZOFFSETTO:-0500
TZNAME:EST
DTSTART:20241103T060000
END:STANDARD
BEGIN:DAYLIGHT
TZOFFSETFROM:-0500
TZOFFSETTO:-0400
TZNAME:EDT
DTSTART:20250309T070000
END:DAYLIGHT
BEGIN:STANDARD
TZOFFSETFROM:-0400
TZOFFSETTO:-0500
TZNAME:EST
DTSTART:20251102T060000
END:STANDARD
BEGIN:DAYLIGHT
TZOFFSETFROM:-0500
TZOFFSETTO:-0400
TZNAME:EDT
DTSTART:20260308T070000
END:DAYLIGHT
BEGIN:STANDARD
TZOFFSETFROM:-0400
TZOFFSETTO:-0500
TZNAME:EST
DTSTART:20261101T060000
END:STANDARD
END:VTIMEZONE
BEGIN:VEVENT
DTSTART;TZID=America/Detroit:20250702T000000
DTEND;TZID=America/Detroit:20250706T235959
DTSTAMP:20260420T062639
CREATED:20250624T132414Z
LAST-MODIFIED:20250624T132414Z
UID:52999-1751414400-1751846399@develop-review-hart-desti-07sbl4.dev02.devhart.com
SUMMARY:Independence Day Weekend | Sauder Village
DESCRIPTION:Sauder Village invites families and friends to make unforgettable memories this Independence Day\, from delicious dining and outdoor adventures to patriotic and historical fun. With activities for all ages\, Sauder Village is the perfect destination for a family-friendly Fourth of July getaway! \nFrom Wednesday\, July 2 through Sunday\, July 6\, book a site at the Sauder Village Campground for Red\, White and Blue Camping.  \nCampers are encouraged to deck out their sites in patriotic flair for the campsite decorating competition\, join in colorful tie-dyeing\, pedal along in the bike parade and light up the night at the Red\, White and Blue Glow Party. \nOn America’s birthday\, Friday\, July 4 at 11 a.m.\, witness a moving Naturalization Ceremony at the Historic Village as individuals from around the world take the Oath of Allegiance to become United States citizens. This powerful and patriotic event is included with admission to the Historic Village and includes music from Fort Defiance Dixieland Jazz Band. \nAlso on July 4\, enjoy a tasty Breakfast Buffet at the Barn Restaurant from 11 a.m. to 2 p.m.\, featuring favorites like biscuits and sausage gravy\, egg bake\, hash brown casserole\, fried chicken and more. \nEnd July Fourth with a sweet treat at the Soda Fountain during special summer hours from 6–9 p.m. Continue the celebration on Saturday\, July 5 with special summer hours at both the 1920s Speakeasy and Soda Fountain. \nSauder Village offers something for everyone this July Fourth weekend!
URL:https://develop-review-hart-desti-07sbl4.dev02.devhart.com/event/independence-day-weekend-sauder-village
LOCATION:Sauder Village\, 22611 State Rte 2\, Archbold\, OH\, 43502
CATEGORIES:educational,entertainment,family friendly,food,history,live music
ATTACH;FMTTYPE=image/png:https://minio.devhart.com/destination-toledo-website/wp-content/uploads/2025/06/17110725/sauder-village-logo-4x3-event-image.png
END:VEVENT
BEGIN:VEVENT
DTSTART;TZID=America/Detroit:20250704T170000
DTEND;TZID=America/Detroit:20250704T230000
DTSTAMP:20260420T062639
CREATED:20250625T163727Z
LAST-MODIFIED:20250625T163727Z
UID:53019-1751648400-1751670000@develop-review-hart-desti-07sbl4.dev02.devhart.com
SUMMARY:4th of July Patio Cookout | Toledo Pickle Co.
DESCRIPTION:Celebrate Independence Day and watch the Downtown Toledo fireworks at Toledo Pickle’s 4th of July Patio Cookout!\n\nThey’re firing up the grill for an all-you-can-eat BBQ feast featuring burgers\, hot dogs\, grilled vegetables\, corn ribs\, chips and more.\n\nKids 10 and under enjoy the same great spread for just $12.95; adult tickets are $49.95 (tax and tip included).\n\nSip refreshing beverages from their outside bar\, groove to live music\, and challenge friends to cornhole on the patio. At 10:00 PM\, take in Toledo City’s fireworks display from the best seat in town—our riverfront patio.\n\nWhat’s Included:\nAll-you-can-eat cookout buffetLive musicCornhole gamesOutside bar with specialty cocktails and cold beersPrime view of Toledo City fireworks at 10:00 PM\n\nTickets: https://bit.ly/ToledoPickleJuly4\nPatio access is ticketed. Purchase in advance to guarantee your spot.\n\nSee less
URL:https://develop-review-hart-desti-07sbl4.dev02.devhart.com/event/4th-of-july-patio-cookout-toledo-pickle-co
LOCATION:Toledo Pickle Co.\, 1030 Water Street 43604\, Toledo\, OH\, 43604
CATEGORIES:entertainment,family friendly,food,live music
ATTACH;FMTTYPE=image/png:https://minio.devhart.com/destination-toledo-website/wp-content/uploads/2025/06/17110921/toledo-pickle-logo-4x3-event-image.png
END:VEVENT
BEGIN:VEVENT
DTSTART;TZID=America/Detroit:20250704T180000
DTEND;TZID=America/Detroit:20250704T220000
DTSTAMP:20260420T062639
CREATED:20250630T174541Z
LAST-MODIFIED:20250630T174541Z
UID:53104-1751652000-1751666400@develop-review-hart-desti-07sbl4.dev02.devhart.com
SUMMARY:Red\, White & Brew
DESCRIPTION:Join Maumee bay Brewing Company for the Downtown Toledo fireworks display on July 4th not only the perfect view\, but music and delicious food and beer as well!\n\nBring your own lounge chair or blanket and set up your cozy spot in Growler Park for festive family fun watching the fireworks. There will be free parking and admission\, live music\, food and beverages available to purchase and more!\n\nMaumee Bay brewing strongly encourages leaving dogs at home for this event.
URL:https://develop-review-hart-desti-07sbl4.dev02.devhart.com/event/red-white-brew
LOCATION:Maumee Bay Brewing Co.\, 27 Broadway St\, Toledo\, OH\, 43604\, United States
CATEGORIES:Beer,entertainment,family friendly,food,live music
ATTACH;FMTTYPE=image/png:https://minio.devhart.com/destination-toledo-website/wp-content/uploads/2025/06/17110654/red-white-brew-maumee-bay-brewing-2025-4x3-event-image.png
END:VEVENT
BEGIN:VEVENT
DTSTART;TZID=America/Detroit:20250704T190000
DTEND;TZID=America/Detroit:20250704T220000
DTSTAMP:20260420T062639
CREATED:20250623T214527Z
LAST-MODIFIED:20250624T124543Z
UID:52980-1751655600-1751666400@develop-review-hart-desti-07sbl4.dev02.devhart.com
SUMMARY:The Heights Fourth of July
DESCRIPTION:Enjoy the Downtown Toledo Fireworks Show from The Heights!\n\nFor the evening\, they will have their patio reserved for only those who book this special experience. For $25 per person\, you will be provided with an appetizer spread\, complimentary beer or wine\, and your own table reserved for you\, with your name on it! On top of this\, you will have a server taking care of you table-side\, to make sure any other accommodations or requests are met. \nDue to the nature of the event\, there will only be one seating\, so the table will be yours to use all night! They will close the patio off to only those with reservations after 7:00 p.m. \n\nThe Fireworks will begin at sundown. Book your spot at The Heights now!
URL:https://develop-review-hart-desti-07sbl4.dev02.devhart.com/event/the-heights-fourth-of-july
LOCATION:The Heights\, 444 North Summit Street\, Toledo\, OH\, 43604
CATEGORIES:entertainment,food
ATTACH;FMTTYPE=image/png:https://minio.devhart.com/destination-toledo-website/wp-content/uploads/2025/06/17110726/heights-4th-of-july-2025-4x3-event-image.png
END:VEVENT
END:VCALENDAR