BEGIN:VCALENDAR
VERSION:2.0
PRODID:-//Destination Toledo - ECPv6.15.17.1//NONSGML v1.0//EN
CALSCALE:GREGORIAN
METHOD:PUBLISH
X-WR-CALNAME:Destination Toledo
X-ORIGINAL-URL:https://develop-review-hart-desti-07sbl4.dev02.devhart.com
X-WR-CALDESC:Events for Destination Toledo
REFRESH-INTERVAL;VALUE=DURATION:PT1H
X-Robots-Tag:noindex
X-PUBLISHED-TTL:PT1H
BEGIN:VTIMEZONE
TZID:America/Detroit
BEGIN:DAYLIGHT
TZOFFSETFROM:-0500
TZOFFSETTO:-0400
TZNAME:EDT
DTSTART:20240310T070000
END:DAYLIGHT
BEGIN:STANDARD
TZOFFSETFROM:-0400
TZOFFSETTO:-0500
TZNAME:EST
DTSTART:20241103T060000
END:STANDARD
BEGIN:DAYLIGHT
TZOFFSETFROM:-0500
TZOFFSETTO:-0400
TZNAME:EDT
DTSTART:20250309T070000
END:DAYLIGHT
BEGIN:STANDARD
TZOFFSETFROM:-0400
TZOFFSETTO:-0500
TZNAME:EST
DTSTART:20251102T060000
END:STANDARD
BEGIN:DAYLIGHT
TZOFFSETFROM:-0500
TZOFFSETTO:-0400
TZNAME:EDT
DTSTART:20260308T070000
END:DAYLIGHT
BEGIN:STANDARD
TZOFFSETFROM:-0400
TZOFFSETTO:-0500
TZNAME:EST
DTSTART:20261101T060000
END:STANDARD
END:VTIMEZONE
BEGIN:VEVENT
DTSTART;TZID=America/Detroit:20250412T110000
DTEND;TZID=America/Detroit:20250412T160000
DTSTAMP:20260420T091210
CREATED:20250326T193506Z
LAST-MODIFIED:20250401T162447Z
UID:40059-1744455600-1744473600@develop-review-hart-desti-07sbl4.dev02.devhart.com
SUMMARY:Easter Bunny Hayride\, Egg Hunt\, and Baby Animal Tour at Bowlander Farm
DESCRIPTION:Celebrate spring with a day of festive fun at the farm! Hop aboard a hayride with the Easter Bunny and journey to his special egg patch\, where little ones can collect eggs to trade for candy prizes. After the hunt\, enjoy up-close encounters with adorable baby animals\, including ducks\, chicks\, bunnies\, lambs\, and goats. Feed the farm’s larger animals\, take a pony ride\, and hop on the barrel train for even more excitement. Don’t forget your camera—this is the perfect chance to capture sweet moments with your little ones and their cuddly farm babies!
URL:https://develop-review-hart-desti-07sbl4.dev02.devhart.com/event/easter-bunny-hayride-egg-hunt-and-baby-animal-tour-at-bowlander-farm
LOCATION:Bowlander Farm\, 3525 N Bolander Rd\, Genoa\, OH\, 43430\, United States
CATEGORIES:family friendly,outdoors
ATTACH;FMTTYPE=image/png:https://minio.devhart.com/destination-toledo-website/wp-content/uploads/2025/03/17111745/bowlander-easter-4x3-event-image.png
END:VEVENT
BEGIN:VEVENT
DTSTART;TZID=America/Detroit:20250403T110000
DTEND;TZID=America/Detroit:20250403T190000
DTSTAMP:20260420T091210
CREATED:20250403T201029Z
LAST-MODIFIED:20250410T134034Z
UID:43790-1743678000-1743706800@develop-review-hart-desti-07sbl4.dev02.devhart.com
SUMMARY:Visit the Easter Bunny at Franklin Park Mall
DESCRIPTION:Make this Easter egg-stra special with a visit to the Bunny at Franklin Park Mall! Gather your loved ones and create a memory filled with smiles and joy. \nMarch 29 – April 19\nMonday – Saturday: 11:00am – 7:00pm \nSunday: 12:00pm – 6:00pm \nEvery-bunny is welcome to enjoy a little extra treat with their Bunny photo package! \n\nMonday – Thursday: Receive a free spring drink from Franklin Perk Café—something sweet to sip while you enjoy the season!\nFriday – Sunday: Get a special coupon for savings on a treat at Franklin Perk Café—perfect for a post-visit pick-me-up!\n\nDon’t miss this cherished tradition where smiles bloom and memories last a lifetime!
URL:https://develop-review-hart-desti-07sbl4.dev02.devhart.com/event/visit-the-easter-bunny-at-franklin-park-mall
LOCATION:Franklin Park Mall\, 5001 Monroe St\, Toledo\, 43623\, United States
CATEGORIES:family friendly
ATTACH;FMTTYPE=image/png:https://minio.devhart.com/destination-toledo-website/wp-content/uploads/2025/04/17111650/franklin-park-easter-4x3-event-image.png
END:VEVENT
BEGIN:VEVENT
DTSTART;TZID=America/Detroit:20250412T120000
DTEND;TZID=America/Detroit:20250412T133000
DTSTAMP:20260420T091210
CREATED:20250407T183454Z
LAST-MODIFIED:20250407T183454Z
UID:43534-1744459200-1744464600@develop-review-hart-desti-07sbl4.dev02.devhart.com
SUMMARY:Sunflower Pour Painting
DESCRIPTION:During this hands-on pour painting class guests will be making sunflower inspired paintings. You’ll unleash your creativity to create your own stunning masterpiece!\nAll the necessary materials will be provided to create your 12×12 canvas. Creations will stay at WPS to dry and take about 72 hours before being able to be picked up.
URL:https://develop-review-hart-desti-07sbl4.dev02.devhart.com/event/sunflower-pour-painting
LOCATION:Wick-ed Palette Studio\, 151 N. Michigan St Ste 227/228\, Toledo\, Ohio\, 43604\, United States
CATEGORIES:art,educational,family friendly
ATTACH;FMTTYPE=image/png:https://minio.devhart.com/destination-toledo-website/wp-content/uploads/2025/04/17111628/sunflower-painting-4x3-event-image.png
ORGANIZER;CN="Wick-ed Palette Studio":MAILTO:wickedpalettestudio@gmail.com
END:VEVENT
BEGIN:VEVENT
DTSTART;TZID=America/Detroit:20250412T120000
DTEND;TZID=America/Detroit:20250412T133000
DTSTAMP:20260420T091210
CREATED:20250407T183454Z
LAST-MODIFIED:20250407T183454Z
UID:43534-1744459200-1744464600@develop-review-hart-desti-07sbl4.dev02.devhart.com
SUMMARY:Sunflower Pour Painting
DESCRIPTION:During this hands-on pour painting class guests will be making sunflower inspired paintings. You’ll unleash your creativity to create your own stunning masterpiece!\nAll the necessary materials will be provided to create your 12×12 canvas. Creations will stay at WPS to dry and take about 72 hours before being able to be picked up.
URL:https://develop-review-hart-desti-07sbl4.dev02.devhart.com/event/sunflower-pour-painting
LOCATION:Wick-ed Palette Studio\, 151 N. Michigan St Ste 227/228\, Toledo\, Ohio\, 43604\, United States
CATEGORIES:art,educational,family friendly
ATTACH;FMTTYPE=image/png:https://minio.devhart.com/destination-toledo-website/wp-content/uploads/2025/04/17111628/sunflower-painting-4x3-event-image.png
ORGANIZER;CN="Wick-ed Palette Studio":MAILTO:wickedpalettestudio@gmail.com
END:VEVENT
END:VCALENDAR