BEGIN:VCALENDAR
VERSION:2.0
PRODID:-//Destination Toledo - ECPv6.15.17.1//NONSGML v1.0//EN
CALSCALE:GREGORIAN
METHOD:PUBLISH
X-WR-CALNAME:Destination Toledo
X-ORIGINAL-URL:https://develop-review-hart-desti-07sbl4.dev02.devhart.com
X-WR-CALDESC:Events for Destination Toledo
REFRESH-INTERVAL;VALUE=DURATION:PT1H
X-Robots-Tag:noindex
X-PUBLISHED-TTL:PT1H
BEGIN:VTIMEZONE
TZID:America/Detroit
BEGIN:DAYLIGHT
TZOFFSETFROM:-0500
TZOFFSETTO:-0400
TZNAME:EDT
DTSTART:20240310T070000
END:DAYLIGHT
BEGIN:STANDARD
TZOFFSETFROM:-0400
TZOFFSETTO:-0500
TZNAME:EST
DTSTART:20241103T060000
END:STANDARD
BEGIN:DAYLIGHT
TZOFFSETFROM:-0500
TZOFFSETTO:-0400
TZNAME:EDT
DTSTART:20250309T070000
END:DAYLIGHT
BEGIN:STANDARD
TZOFFSETFROM:-0400
TZOFFSETTO:-0500
TZNAME:EST
DTSTART:20251102T060000
END:STANDARD
BEGIN:DAYLIGHT
TZOFFSETFROM:-0500
TZOFFSETTO:-0400
TZNAME:EDT
DTSTART:20260308T070000
END:DAYLIGHT
BEGIN:STANDARD
TZOFFSETFROM:-0400
TZOFFSETTO:-0500
TZNAME:EST
DTSTART:20261101T060000
END:STANDARD
END:VTIMEZONE
BEGIN:VEVENT
DTSTART;TZID=America/Detroit:20250405T090000
DTEND;TZID=America/Detroit:20250405T110000
DTSTAMP:20260419T134944
CREATED:20250403T144743Z
LAST-MODIFIED:20250403T144743Z
UID:39893-1743843600-1743850800@develop-review-hart-desti-07sbl4.dev02.devhart.com
SUMMARY:Hip\, Hop\, Hooray!! Breakfast with Bunny!!
DESCRIPTION:Bunny’s Breakfast Bash!! At DAVE & BUSTER’S TOLEDO \nThe D&B Bunny is super egg-cited to meet you & the fam. Don’t miss your chance to celebrate alongside your favorite peeps! At Bunny’s Breakfast Bash\, you can spring on the fun all morning long with early access to the store plus tons more goodies. Hop to it & purchase your tickets today! \nSkip the lines at the mall and come join the fun at D&B for breakfast\, an egg hunt\, a chance for your kids to play games with the Bunny\, and photo op with the Bunny (don’t forget your camera!). \nRegister at: https://www.prekindle.com/event/92382-bunnys-breakfast-bash-toledo
URL:https://develop-review-hart-desti-07sbl4.dev02.devhart.com/event/hip-hop-hooray-breakfast-with-bunny
LOCATION:Franklin Park Mall\, 5001 Monroe St\, Toledo\, 43623\, United States
CATEGORIES:entertainment,family friendly
ATTACH;FMTTYPE=image/png:https://minio.devhart.com/destination-toledo-website/wp-content/uploads/2025/03/17111702/dave-and-busters-easter-bunny-4x3-event-image.png
END:VEVENT
BEGIN:VEVENT
DTSTART;TZID=America/Detroit:20250403T110000
DTEND;TZID=America/Detroit:20250403T190000
DTSTAMP:20260419T134944
CREATED:20250403T201029Z
LAST-MODIFIED:20250410T134034Z
UID:43790-1743678000-1743706800@develop-review-hart-desti-07sbl4.dev02.devhart.com
SUMMARY:Visit the Easter Bunny at Franklin Park Mall
DESCRIPTION:Make this Easter egg-stra special with a visit to the Bunny at Franklin Park Mall! Gather your loved ones and create a memory filled with smiles and joy. \nMarch 29 – April 19\nMonday – Saturday: 11:00am – 7:00pm \nSunday: 12:00pm – 6:00pm \nEvery-bunny is welcome to enjoy a little extra treat with their Bunny photo package! \n\nMonday – Thursday: Receive a free spring drink from Franklin Perk Café—something sweet to sip while you enjoy the season!\nFriday – Sunday: Get a special coupon for savings on a treat at Franklin Perk Café—perfect for a post-visit pick-me-up!\n\nDon’t miss this cherished tradition where smiles bloom and memories last a lifetime!
URL:https://develop-review-hart-desti-07sbl4.dev02.devhart.com/event/visit-the-easter-bunny-at-franklin-park-mall
LOCATION:Franklin Park Mall\, 5001 Monroe St\, Toledo\, 43623\, United States
CATEGORIES:family friendly
ATTACH;FMTTYPE=image/png:https://minio.devhart.com/destination-toledo-website/wp-content/uploads/2025/04/17111650/franklin-park-easter-4x3-event-image.png
END:VEVENT
END:VCALENDAR