BEGIN:VCALENDAR
VERSION:2.0
PRODID:-//Destination Toledo - ECPv6.15.17.1//NONSGML v1.0//EN
CALSCALE:GREGORIAN
METHOD:PUBLISH
X-ORIGINAL-URL:https://develop-review-hart-desti-07sbl4.dev02.devhart.com
X-WR-CALDESC:Events for Destination Toledo
REFRESH-INTERVAL;VALUE=DURATION:PT1H
X-Robots-Tag:noindex
X-PUBLISHED-TTL:PT1H
BEGIN:VTIMEZONE
TZID:America/Detroit
BEGIN:DAYLIGHT
TZOFFSETFROM:-0500
TZOFFSETTO:-0400
TZNAME:EDT
DTSTART:20240310T070000
END:DAYLIGHT
BEGIN:STANDARD
TZOFFSETFROM:-0400
TZOFFSETTO:-0500
TZNAME:EST
DTSTART:20241103T060000
END:STANDARD
BEGIN:DAYLIGHT
TZOFFSETFROM:-0500
TZOFFSETTO:-0400
TZNAME:EDT
DTSTART:20250309T070000
END:DAYLIGHT
BEGIN:STANDARD
TZOFFSETFROM:-0400
TZOFFSETTO:-0500
TZNAME:EST
DTSTART:20251102T060000
END:STANDARD
BEGIN:DAYLIGHT
TZOFFSETFROM:-0500
TZOFFSETTO:-0400
TZNAME:EDT
DTSTART:20260308T070000
END:DAYLIGHT
BEGIN:STANDARD
TZOFFSETFROM:-0400
TZOFFSETTO:-0500
TZNAME:EST
DTSTART:20261101T060000
END:STANDARD
END:VTIMEZONE
BEGIN:VEVENT
DTSTART;TZID=America/Detroit:20250927T080000
DTEND;TZID=America/Detroit:20250927T140000
DTSTAMP:20260423T083432
CREATED:20250820T192028Z
LAST-MODIFIED:20250820T192112Z
UID:54093-1758960000-1758981600@develop-review-hart-desti-07sbl4.dev02.devhart.com
SUMMARY:Bikes to Bridges
DESCRIPTION:The Toledo Club is hosting a Bikes to Bridges event on Saturday\, September 27. Registration starts at 8 AM and the ride starts at 9 am. This is a family-oriented ride that will take you across the Cherry Street Bridge to the Glass City Metropark. After a brief break\, riders will head across the Craig Street Bridge for a quick stop at the Toledo Farmers Market and then back to the Toledo Club for lunch and fun. CycleWerks is partnering with the Toledo Club to offer support and supplies. Create Art Studio will be at the event to offer a creative art table for kids of all ages. Registration\, which includes lunch\, is $25 for adults and $16 for kids 12 and under. Register by emailing fitness@toledoclub.org. Final date of registration is September 13.
URL:https://develop-review-hart-desti-07sbl4.dev02.devhart.com/event/bikes-to-bridges
LOCATION:The Toledo Club\, 235 14th St\, Toledo\, 43604
CATEGORIES:biking,exercise,family friendly
ATTACH;FMTTYPE=image/png:https://minio.devhart.com/destination-toledo-website/wp-content/uploads/2025/08/17110121/toledo-club-bikes-4x3-event-image.png
ORGANIZER;CN="The Toledo Club":MAILTO:fitness@toledoclub.org
END:VEVENT
END:VCALENDAR