BEGIN:VCALENDAR
VERSION:2.0
PRODID:-//Destination Toledo - ECPv6.15.17.1//NONSGML v1.0//EN
CALSCALE:GREGORIAN
METHOD:PUBLISH
X-WR-CALNAME:Destination Toledo
X-ORIGINAL-URL:https://develop-review-hart-desti-07sbl4.dev02.devhart.com
X-WR-CALDESC:Events for Destination Toledo
REFRESH-INTERVAL;VALUE=DURATION:PT1H
X-Robots-Tag:noindex
X-PUBLISHED-TTL:PT1H
BEGIN:VTIMEZONE
TZID:America/Detroit
BEGIN:DAYLIGHT
TZOFFSETFROM:-0500
TZOFFSETTO:-0400
TZNAME:EDT
DTSTART:20240310T070000
END:DAYLIGHT
BEGIN:STANDARD
TZOFFSETFROM:-0400
TZOFFSETTO:-0500
TZNAME:EST
DTSTART:20241103T060000
END:STANDARD
BEGIN:DAYLIGHT
TZOFFSETFROM:-0500
TZOFFSETTO:-0400
TZNAME:EDT
DTSTART:20250309T070000
END:DAYLIGHT
BEGIN:STANDARD
TZOFFSETFROM:-0400
TZOFFSETTO:-0500
TZNAME:EST
DTSTART:20251102T060000
END:STANDARD
BEGIN:DAYLIGHT
TZOFFSETFROM:-0500
TZOFFSETTO:-0400
TZNAME:EDT
DTSTART:20260308T070000
END:DAYLIGHT
BEGIN:STANDARD
TZOFFSETFROM:-0400
TZOFFSETTO:-0500
TZNAME:EST
DTSTART:20261101T060000
END:STANDARD
END:VTIMEZONE
BEGIN:VEVENT
DTSTART;TZID=America/Detroit:20251115T180000
DTEND;TZID=America/Detroit:20251115T220000
DTSTAMP:20260419T183553
CREATED:20251028T144047Z
LAST-MODIFIED:20251028T144250Z
UID:55652-1763229600-1763244000@develop-review-hart-desti-07sbl4.dev02.devhart.com
SUMMARY:Flaunt 2025: A Night in the Emerald City
DESCRIPTION:Step into a world of magic\, music\, and unforgettable fashion as Equality Toledo presents Flaunt 2025: A Night in the Emerald City. Inspired by the dazzling worlds of The Wizard of Oz\, Wicked\, and The Wiz\, this year’s show will transport guests down the yellow brick road and straight into the sparkle of the Emerald City. Enjoy an evening filled with stunning runway looks from local designers\, electrifying performances\, and creative activations that bring our Oz-inspired fantasy to life. From whimsical nods to Dorothy and Glinda to bold reimagining of the Wicked Witch and the Emerald City’s glamour\, every moment will be a feast for the senses.\n\nAll proceeds benefit Equality Toledo’s programs supporting the LGBTQ+ community\, including education\, advocacy\, and vital community services.Dress to impress in your most magical\, emerald-inspired attire\, and join us for an unforgettable night where fashion meets fantasy—because in the Emerald City\, there’s no place like Flaunt.\nDate: Saturday\, November 15\, 2025\nLocation: The Docks\, Toledo\, OH
URL:https://develop-review-hart-desti-07sbl4.dev02.devhart.com/event/flaunt-2025-a-night-in-the-emerald-city
LOCATION:The Docks\, 18 Main St\, Toledo\, OH\, 43605\, United States
CATEGORIES:entertainment
ATTACH;FMTTYPE=image/png:https://minio.devhart.com/destination-toledo-website/wp-content/uploads/2025/10/17105348/flaunt-equality-toledo-4x3-event-image.png
ORGANIZER;CN="Equality Toledo":MAILTO:info@equalitytoledo.org
END:VEVENT
END:VCALENDAR