BEGIN:VCALENDAR
VERSION:2.0
PRODID:-//Destination Toledo - ECPv6.15.17.1//NONSGML v1.0//EN
CALSCALE:GREGORIAN
METHOD:PUBLISH
X-WR-CALNAME:Destination Toledo
X-ORIGINAL-URL:https://develop-review-hart-desti-07sbl4.dev02.devhart.com
X-WR-CALDESC:Events for Destination Toledo
REFRESH-INTERVAL;VALUE=DURATION:PT1H
X-Robots-Tag:noindex
X-PUBLISHED-TTL:PT1H
BEGIN:VTIMEZONE
TZID:America/Detroit
BEGIN:DAYLIGHT
TZOFFSETFROM:-0500
TZOFFSETTO:-0400
TZNAME:EDT
DTSTART:20240310T070000
END:DAYLIGHT
BEGIN:STANDARD
TZOFFSETFROM:-0400
TZOFFSETTO:-0500
TZNAME:EST
DTSTART:20241103T060000
END:STANDARD
BEGIN:DAYLIGHT
TZOFFSETFROM:-0500
TZOFFSETTO:-0400
TZNAME:EDT
DTSTART:20250309T070000
END:DAYLIGHT
BEGIN:STANDARD
TZOFFSETFROM:-0400
TZOFFSETTO:-0500
TZNAME:EST
DTSTART:20251102T060000
END:STANDARD
BEGIN:DAYLIGHT
TZOFFSETFROM:-0500
TZOFFSETTO:-0400
TZNAME:EDT
DTSTART:20260308T070000
END:DAYLIGHT
BEGIN:STANDARD
TZOFFSETFROM:-0400
TZOFFSETTO:-0500
TZNAME:EST
DTSTART:20261101T060000
END:STANDARD
END:VTIMEZONE
BEGIN:VEVENT
DTSTART;TZID=America/Detroit:20250722T100000
DTEND;TZID=America/Detroit:20250722T140000
DTSTAMP:20260420T122757
CREATED:20250617T125329Z
LAST-MODIFIED:20250617T125329Z
UID:52680-1753178400-1753192800@develop-review-hart-desti-07sbl4.dev02.devhart.com
SUMMARY:Make-A-Mess Workshops | July Sessions
DESCRIPTION:Where parenting tools meet messy art magic—side by side. Join Wick-ed Palette Studio for a special 4-part workshop series designed for families. While kids dive into fun (and a little bit of mess)\, parents get space to reflect\, grow\, and create with their own hands-on projects too. \nWhat to Expect:\nEach session features a short parent workshop at Wick-ed Palette Studio on a mindful topic + an age-appropriate creative activity for the kids. Everyone leaves with something meaningful they’ve made—together and apart. \nDates & Times:\nTuesdays & Wednesdays\nJuly 22\, 23\, 29\, and 30\n10:00am – 12:00pm \n✨ Topics & Projects:\nJuly 22 – Grounded Parenting\nParents: Vision Boards | Kids: Vision Boards + Kindness Cards \nJuly 23 – Strength Finding\nParents: Affirmation Cards | Kids: Self Portraits + Words of Affirmation \nJuly 29 – Gratitude & Resilience\nParents: Gratitude Practice | Kids: Gratitude Jar Decorating \nJuly 30 – Intentional Parenting\nParents: Candle Making | Kids: Wax Melt Creations \n💵 Pricing:\n$150/family per session\n$400/family for all four (save $200!) \n🎟 Space is limited – just 8 families per session. Reserve your spot now and make space for connection\, creativity\, and growth. Let’s make a (beautiful) mess.
URL:https://develop-review-hart-desti-07sbl4.dev02.devhart.com/event/make-a-mess-workshops-july-sessions
LOCATION:Wick-ed Palette Studio\, 151 N. Michigan St Ste 227/228\, Toledo\, Ohio\, 43604\, United States
CATEGORIES:art,crafts,family friendly
ATTACH;FMTTYPE=image/png:https://minio.devhart.com/destination-toledo-website/wp-content/uploads/2025/06/17110802/wicked-palette-studio-4x3-event-image.png
ORGANIZER;CN="Wick-ed Palette Studio":MAILTO:wickedpalettestudio@gmail.com
END:VEVENT
BEGIN:VEVENT
DTSTART;TZID=America/Detroit:20250723T150000
DTEND;TZID=America/Detroit:20250723T190000
DTSTAMP:20260420T122757
CREATED:20250721T151116Z
LAST-MODIFIED:20250721T151313Z
UID:53519-1753282800-1753297200@develop-review-hart-desti-07sbl4.dev02.devhart.com
SUMMARY:Westgate Farmers' Market
DESCRIPTION:Check out the Westgate Farmers Market on Wednesdays from 3:00 pm – 7:00 pm featuring local produce & handmade products from local artisans in the Toledo Region May – October! \nYou can find the Westgate Farmers Market from the Expressway take I-475 to exit #17.  Turn south and proceed to Central Avenue\, Turn right on Central you will see the market on the right-hand side of the road across from COSTCO. Please be aware that this market is outdoors and is contingent on the weather. \nThe Farmers’ Market Association of Toledo (FMAT) goal is to provide a highly visible\, centralized location for area farmers and gardeners to market high-quality products directly to consumers. They support local small family farms\, agricultural producers\, and craftsmen\, whose continued existence depends on direct marketing opportunities.
URL:https://develop-review-hart-desti-07sbl4.dev02.devhart.com/event/westgate-farmers-market
LOCATION:Westgate Farmers Market\, 3408 West Central Avenue\, Toledo\, Ohio\, 43606
CATEGORIES:crafts,family friendly,food,outdoors,shopping
ATTACH;FMTTYPE=image/png:https://minio.devhart.com/destination-toledo-website/wp-content/uploads/2025/07/17110501/westgate-farmers-market-4x3-event-image-Recovered.png
END:VEVENT
END:VCALENDAR