BEGIN:VCALENDAR
VERSION:2.0
PRODID:-//Destination Toledo - ECPv6.15.17.1//NONSGML v1.0//EN
CALSCALE:GREGORIAN
METHOD:PUBLISH
X-WR-CALNAME:Destination Toledo
X-ORIGINAL-URL:https://develop-review-hart-desti-07sbl4.dev02.devhart.com
X-WR-CALDESC:Events for Destination Toledo
REFRESH-INTERVAL;VALUE=DURATION:PT1H
X-Robots-Tag:noindex
X-PUBLISHED-TTL:PT1H
BEGIN:VTIMEZONE
TZID:America/Detroit
BEGIN:DAYLIGHT
TZOFFSETFROM:-0500
TZOFFSETTO:-0400
TZNAME:EDT
DTSTART:20240310T070000
END:DAYLIGHT
BEGIN:STANDARD
TZOFFSETFROM:-0400
TZOFFSETTO:-0500
TZNAME:EST
DTSTART:20241103T060000
END:STANDARD
BEGIN:DAYLIGHT
TZOFFSETFROM:-0500
TZOFFSETTO:-0400
TZNAME:EDT
DTSTART:20250309T070000
END:DAYLIGHT
BEGIN:STANDARD
TZOFFSETFROM:-0400
TZOFFSETTO:-0500
TZNAME:EST
DTSTART:20251102T060000
END:STANDARD
BEGIN:DAYLIGHT
TZOFFSETFROM:-0500
TZOFFSETTO:-0400
TZNAME:EDT
DTSTART:20260308T070000
END:DAYLIGHT
BEGIN:STANDARD
TZOFFSETFROM:-0400
TZOFFSETTO:-0500
TZNAME:EST
DTSTART:20261101T060000
END:STANDARD
END:VTIMEZONE
BEGIN:VEVENT
DTSTART;TZID=America/Detroit:20250712T180000
DTEND;TZID=America/Detroit:20250712T223000
DTSTAMP:20260424T214709
CREATED:20250710T214342Z
LAST-MODIFIED:20250710T214413Z
UID:53461-1752343200-1752359400@develop-review-hart-desti-07sbl4.dev02.devhart.com
SUMMARY:Toledo Night Market
DESCRIPTION:Inspired by night markets from around the world\, stop by the Toledo Night Market at the Toledo Farmers’ Market! This is a place to gather and enjoy the experience of strolling through the open-air market at twilight featuring 85+ artisans & small businesses food trucks\, craft drinks and live music.\nAdmission is $5 at the entranceKids 5 and under freeFree parking lot and street parking available!\n\nThis event is rain or shine\, with a covered space. Find all dates under the Toledo Night Market website which includes: June 21\, July 12\, August 16 and September 13!
URL:https://develop-review-hart-desti-07sbl4.dev02.devhart.com/event/toledo-night-market-2
LOCATION:Toledo Farmers’ Market\, 525 Market St\,\, Toledo\, Ohio\, 43604\, United States
CATEGORIES:art,crafts,live music,outdoors,shopping
ATTACH;FMTTYPE=image/png:https://minio.devhart.com/destination-toledo-website/wp-content/uploads/2025/06/17110755/toledo-night-market-4x3-event-image.png
END:VEVENT
END:VCALENDAR